Workbook

Sheet Rates by Mill Code
D1: County | K1: Independent District | N1: School | Q1: City
A2: Taxing Authority Code | B2: Parcel Count | C2: Taxing Authority Name | D2: Operating | E2: Debt Service | F2: MSTU Mosquito Control | G2: MSTU EMS | H2: Legacy Trail Debt | I2: MSTU Navigable Waterways | J2: MSTU | K2: Public Hospital Board | L2: WCIND | M2: SWFWMD | N2: School Required Local Effort | O2: School Discretionary & Capital | P2: School Voter Levy | Q2: City Operating | R2: City Debt Service | S2: City MSTU | T2: City MSTU | U2: City MSTU Debt Service | V2: TOTAL | W2: count
A3: M0100 | B3: 109060 | C3: Sarasota - Operating | D3: ='Rates by District'!C2 -> 3.2273 | E3: ='Rates by District'!C3 -> 0.0667 | F3: ='Rates by District'!C5 -> 0.052 | G3: ='Rates by District'!C59 -> 0.73 | H3: ='Rates by District'!C4 -> 0.0382 | K3: ='Rates by District'!C6 -> 1.042 | L3: ='Rates by District'!C8 -> 0.0394 | M3: ='Rates by District'!C7 -> 0.1831 | N3: ='Rates by District'!C9 -> 2.847 | O3: ='Rates by District'!C10-1 -> 2.248 | P3: ='Rates by District'!C10-O3 -> 1 | V3: =SUM(D3:U3) -> 11.4737 | W3: =COUNT(D3:U3)-1 -> 10
A4: M0200 | B4: 26894 | C4: City of Sarasota | D4: =$D$3 -> 3.2273 | E4: =$E$3 -> 0.0667 | F4: =$F$3 -> 0.052 | G4: =$G$3 -> 0.73 | H4: =$H$3 -> 0.0382 | K4: =$K$3 -> 1.042 | L4: =$L$3 -> 0.0394 | M4: =$M$3 -> 0.1831 | N4: =$N$3 -> 2.847 | O4: =$O$3 -> 2.248 | P4: =$P$3 -> 1 | Q4: ='Rates by District'!C11 -> 3.273 | R4: ='Rates by District'!C12 -> 0.1348 | V4: =SUM(D4:U4) -> 14.8815 | W4: =COUNT(D4:U4)-1 -> 12
A5: M0300 | B5: 17707 | C5: City of Venice | D5: =$D$3 -> 3.2273 | E5: =$E$3 -> 0.0667 | F5: =$F$3 -> 0.052 | H5: =$H$3 -> 0.0382 | K5: =$K$3 -> 1.042 | L5: =$L$3 -> 0.0394 | M5: =$M$3 -> 0.1831 | N5: =$N$3 -> 2.847 | O5: =$O$3 -> 2.248 | P5: =$P$3 -> 1 | Q5: ='Rates by District'!C13 -> 3.845 | R5: ='Rates by District'!C14 -> 0.3405 | V5: =SUM(D5:U5) -> 14.9292 | W5: =COUNT(D5:U5)-1 -> 11
A6: M0420 | B6: 3384 | C6: Longboat Key Gulfside | D6: =$D$3 -> 3.2273 | E6: =$E$3 -> 0.0667 | F6: =$F$3 -> 0.052 | H6: =$H$3 -> 0.0382 | K6: =$K$3 -> 1.042 | L6: =$L$3 -> 0.0394 | M6: =$M$3 -> 0.1831 | N6: =$N$3 -> 2.847 | O6: =$O$3 -> 2.248 | P6: =$P$3 -> 1 | Q6: ='Rates by District'!C15 -> 1.96 | R6: ='Rates by District'!C16 -> 0.038 | U6: ='Rates by District'!C17 -> 0.5563 | V6: =SUM(D6:U6) -> 13.298 | W6: =COUNT(D6:U6)-1 -> 12
A7: M0430 | B7: 3233 | C7: Longboat Key Bayside | D7: =$D$3 -> 3.2273 | E7: =$E$3 -> 0.0667 | F7: =$F$3 -> 0.052 | H7: =$H$3 -> 0.0382 | K7: =$K$3 -> 1.042 | L7: =$L$3 -> 0.0394 | M7: =$M$3 -> 0.1831 | N7: =$N$3 -> 2.847 | O7: =$O$3 -> 2.248 | P7: =$P$3 -> 1 | Q7: ='Rates by District'!C15 -> 1.96 | R7: ='Rates by District'!C16 -> 0.038 | U7: ='Rates by District'!C18 -> 0.1391 | V7: =SUM(D7:U7) -> 12.8808 | W7: =COUNT(D7:U7)-1 -> 12
A8: M0500 | B8: 75782 | C8: City of North Port | D8: =$D$3 -> 3.2273 | E8: =$E$3 -> 0.0667 | F8: =$F$3 -> 0.052 | H8: =$H$3 -> 0.0382 | K8: =$K$3 -> 1.042 | L8: =$L$3 -> 0.0394 | M8: =$M$3 -> 0.1831 | N8: =$N$3 -> 2.847 | O8: =$O$3 -> 2.248 | P8: =$P$3 -> 1 | Q8: ='Rates by District'!C19 -> 3.7667 | V8: =SUM(D8:U8) -> 14.5104 | W8: =COUNT(D8:U8)-1 -> 10
A9: M0600 | B9: 295 | C9: Country Club of Sarasota Lighting | D9: =$D$3 -> 3.2273 | E9: =$E$3 -> 0.0667 | F9: =$F$3 -> 0.052 | G9: =$G$3 -> 0.73 | H9: =$H$3 -> 0.0382 | J9: ='Rates by District'!C20 -> 0 | K9: =$K$3 -> 1.042 | L9: =$L$3 -> 0.0394 | M9: =$M$3 -> 0.1831 | N9: =$N$3 -> 2.847 | O9: =$O$3 -> 2.248 | P9: =$P$3 -> 1 | V9: =SUM(D9:U9) -> 11.4737 | W9: =COUNT(D9:U9)-1 -> 11
A10: M0700 | B10: 137 | C10: Village Green Lighting | D10: =$D$3 -> 3.2273 | E10: =$E$3 -> 0.0667 | F10: =$F$3 -> 0.052 | G10: =$G$3 -> 0.73 | H10: =$H$3 -> 0.0382 | J10: ='Rates by District'!C21 -> 0.235 | K10: =$K$3 -> 1.042 | L10: =$L$3 -> 0.0394 | M10: =$M$3 -> 0.1831 | N10: =$N$3 -> 2.847 | O10: =$O$3 -> 2.248 | P10: =$P$3 -> 1 | V10: =SUM(D10:U10) -> 11.7087 | W10: =COUNT(D10:U10)-1 -> 11
A11: M0800 | B11: 1120 | C11: Kensington Park Lighting | D11: =$D$3 -> 3.2273 | E11: =$E$3 -> 0.0667 | F11: =$F$3 -> 0.052 | G11: =$G$3 -> 0.73 | H11: =$H$3 -> 0.0382 | J11: ='Rates by District'!C22 -> 0.1965 | K11: =$K$3 -> 1.042 | L11: =$L$3 -> 0.0394 | M11: =$M$3 -> 0.1831 | N11: =$N$3 -> 2.847 | O11: =$O$3 -> 2.248 | P11: =$P$3 -> 1 | V11: =SUM(D11:U11) -> 11.6702 | W11: =COUNT(D11:U11)-1 -> 11
A12: M0900 | B12: 1105 | C12: Nokomis East Lighting | D12: =$D$3 -> 3.2273 | E12: =$E$3 -> 0.0667 | F12: =$F$3 -> 0.052 | G12: =$G$3 -> 0.73 | H12: =$H$3 -> 0.0382 | J12: ='Rates by District'!C23 -> 0.0981 | K12: =$K$3 -> 1.042 | L12: =$L$3 -> 0.0394 | M12: =$M$3 -> 0.1831 | N12: =$N$3 -> 2.847 | O12: =$O$3 -> 2.248 | P12: =$P$3 -> 1 | V12: =SUM(D12:U12) -> 11.5718 | W12: =COUNT(D12:U12)-1 -> 11
A13: M0992 | B13: 496 | C13: Waterway MSTU & Nokomis E Lighting | D13: =$D$3 -> 3.2273 | E13: =$E$3 -> 0.0667 | F13: =$F$3 -> 0.052 | G13: =$G$3 -> 0.73 | H13: =$H$3 -> 0.0382 | I13: ='Rates by District'!C61 -> 0.03 | J13: =J12 -> 0.0981 | K13: =$K$3 -> 1.042 | L13: =$L$3 -> 0.0394 | M13: =$M$3 -> 0.1831 | N13: =$N$3 -> 2.847 | O13: =$O$3 -> 2.248 | P13: =$P$3 -> 1 | V13: =SUM(D13:U13) -> 11.6018 | W13: =COUNT(D13:U13)-1 -> 12
A14: M1000 | B14: 339 | C14: Colonial Terrace/Golden Acres Lighting | D14: =$D$3 -> 3.2273 | E14: =$E$3 -> 0.0667 | F14: =$F$3 -> 0.052 | G14: =$G$3 -> 0.73 | H14: =$H$3 -> 0.0382 | J14: ='Rates by District'!C24 -> 0.1328 | K14: =$K$3 -> 1.042 | L14: =$L$3 -> 0.0394 | M14: =$M$3 -> 0.1831 | N14: =$N$3 -> 2.847 | O14: =$O$3 -> 2.248 | P14: =$P$3 -> 1 | V14: =SUM(D14:U14) -> 11.6065 | W14: =COUNT(D14:U14)-1 -> 11
A15: M1100 | B15: 189 | C15: Gulf Gate Woods Lighting | D15: =$D$3 -> 3.2273 | E15: =$E$3 -> 0.0667 | F15: =$F$3 -> 0.052 | G15: =$G$3 -> 0.73 | H15: =$H$3 -> 0.0382 | J15: ='Rates by District'!C25 -> 0.1618 | K15: =$K$3 -> 1.042 | L15: =$L$3 -> 0.0394 | M15: =$M$3 -> 0.1831 | N15: =$N$3 -> 2.847 | O15: =$O$3 -> 2.248 | P15: =$P$3 -> 1 | V15: =SUM(D15:U15) -> 11.6355 | W15: =COUNT(D15:U15)-1 -> 11
A16: M1300 | B16: 1760 | C16: South Gate Lighting | D16: =$D$3 -> 3.2273 | E16: =$E$3 -> 0.0667 | F16: =$F$3 -> 0.052 | G16: =$G$3 -> 0.73 | H16: =$H$3 -> 0.0382 | J16: ='Rates by District'!C26 -> 0.0933 | K16: =$K$3 -> 1.042 | L16: =$L$3 -> 0.0394 | M16: =$M$3 -> 0.1831 | N16: =$N$3 -> 2.847 | O16: =$O$3 -> 2.248 | P16: =$P$3 -> 1 | V16: =SUM(D16:U16) -> 11.567 | W16: =COUNT(D16:U16)-1 -> 11
A17: M1392 | B17: 187 | C17: Waterway MSTU & Southgate Lighting | D17: =$D$3 -> 3.2273 | E17: =$E$3 -> 0.0667 | F17: =$F$3 -> 0.052 | G17: =$G$3 -> 0.73 | H17: =$H$3 -> 0.0382 | I17: =$I$13 -> 0.03 | J17: =J16 -> 0.0933 | K17: =$K$3 -> 1.042 | L17: =$L$3 -> 0.0394 | M17: =$M$3 -> 0.1831 | N17: =$N$3 -> 2.847 | O17: =$O$3 -> 2.248 | P17: =$P$3 -> 1 | V17: =SUM(D17:U17) -> 11.597 | W17: =COUNT(D17:U17)-1 -> 12
A18: M1500 | B18: 4126 | C18: Englewood Lighting | D18: =$D$3 -> 3.2273 | E18: =$E$3 -> 0.0667 | F18: =$F$3 -> 0.052 | G18: =$G$3 -> 0.73 | H18: =$H$3 -> 0.0382 | J18: ='Rates by District'!C27 -> 0.0438 | K18: =$K$3 -> 1.042 | L18: =$L$3 -> 0.0394 | M18: =$M$3 -> 0.1831 | N18: =$N$3 -> 2.847 | O18: =$O$3 -> 2.248 | P18: =$P$3 -> 1 | V18: =SUM(D18:U18) -> 11.5175 | W18: =COUNT(D18:U18)-1 -> 11
A19: M1592 | B19: 452 | C19: Waterway MSTU & Englewood Lighting | D19: =$D$3 -> 3.2273 | E19: =$E$3 -> 0.0667 | F19: =$F$3 -> 0.052 | G19: =$G$3 -> 0.73 | H19: =$H$3 -> 0.0382 | I19: =$I$13 -> 0.03 | J19: =J18 -> 0.0438 | K19: =$K$3 -> 1.042 | L19: =$L$3 -> 0.0394 | M19: =$M$3 -> 0.1831 | N19: =$N$3 -> 2.847 | O19: =$O$3 -> 2.248 | P19: =$P$3 -> 1 | V19: =SUM(D19:U19) -> 11.5475 | W19: =COUNT(D19:U19)-1 -> 12
A20: M1800 | B20: 6233 | C20: Siesta Key Lighting | D20: =$D$3 -> 3.2273 | E20: =$E$3 -> 0.0667 | F20: =$F$3 -> 0.052 | G20: =$G$3 -> 0.73 | H20: =$H$3 -> 0.0382 | J20: ='Rates by District'!C28 -> 0.004 | K20: =$K$3 -> 1.042 | L20: =$L$3 -> 0.0394 | M20: =$M$3 -> 0.1831 | N20: =$N$3 -> 2.847 | O20: =$O$3 -> 2.248 | P20: =$P$3 -> 1 | V20: =SUM(D20:U20) -> 11.4777 | W20: =COUNT(D20:U20)-1 -> 11
A21: M1892 | B21: 3977 | C21: Waterway MSTU & Siesta Key Lighting | D21: =$D$3 -> 3.2273 | E21: =$E$3 -> 0.0667 | F21: =$F$3 -> 0.052 | G21: =$G$3 -> 0.73 | H21: =$H$3 -> 0.0382 | I21: =$I$13 -> 0.03 | J21: =J20 -> 0.004 | K21: =$K$3 -> 1.042 | L21: =$L$3 -> 0.0394 | M21: =$M$3 -> 0.1831 | N21: =$N$3 -> 2.847 | O21: =$O$3 -> 2.248 | P21: =$P$3 -> 1 | V21: =SUM(D21:U21) -> 11.5077 | W21: =COUNT(D21:U21)-1 -> 12
A22: M1894 | B22: 83 | C22: Siesta Key Lighting & Public Improvement | D22: =$D$3 -> 3.2273 | E22: =$E$3 -> 0.0667 | F22: =$F$3 -> 0.052 | G22: =$G$3 -> 0.73 | H22: =$H$3 -> 0.0382 | J22: =J21 -> 0.004 | K22: =$K$3 -> 1.042 | L22: =$L$3 -> 0.0394 | M22: =$M$3 -> 0.1831 | N22: =$N$3 -> 2.847 | O22: =$O$3 -> 2.248 | P22: =$P$3 -> 1 | S22: ='Rates by District'!C64 -> 2.4647 | V22: =SUM(D22:U22) -> 13.9424 | W22: =COUNT(D22:U22)-1 -> 12
A23: M2000 | B23: 1805 | C23: Gulf Gate Lighting | D23: =$D$3 -> 3.2273 | E23: =$E$3 -> 0.0667 | F23: =$F$3 -> 0.052 | G23: =$G$3 -> 0.73 | H23: =$H$3 -> 0.0382 | J23: ='Rates by District'!C29 -> 0.1371 | K23: =$K$3 -> 1.042 | L23: =$L$3 -> 0.0394 | M23: =$M$3 -> 0.1831 | N23: =$N$3 -> 2.847 | O23: =$O$3 -> 2.248 | P23: =$P$3 -> 1 | V23: =SUM(D23:U23) -> 11.6108 | W23: =COUNT(D23:U23)-1 -> 11
A24: M2300 | B24: 3194 | C24: Venice Gardens Lighting | D24: =$D$3 -> 3.2273 | E24: =$E$3 -> 0.0667 | F24: =$F$3 -> 0.052 | G24: =$G$3 -> 0.73 | H24: =$H$3 -> 0.0382 | J24: ='Rates by District'!C30 -> 0.084 | K24: =$K$3 -> 1.042 | L24: =$L$3 -> 0.0394 | M24: =$M$3 -> 0.1831 | N24: =$N$3 -> 2.847 | O24: =$O$3 -> 2.248 | P24: =$P$3 -> 1 | V24: =SUM(D24:U24) -> 11.5577 | W24: =COUNT(D24:U24)-1 -> 11
A25: M2700 | B25: 2162 | C25: Warm Mineral Springs Lighting | D25: =$D$3 -> 3.2273 | E25: =$E$3 -> 0.0667 | F25: =$F$3 -> 0.052 | G25: =$G$3 -> 0.73 | H25: =$H$3 -> 0.0382 | J25: ='Rates by District'!C31 -> 0.196 | K25: =$K$3 -> 1.042 | L25: =$L$3 -> 0.0394 | M25: =$M$3 -> 0.1831 | N25: =$N$3 -> 2.847 | O25: =$O$3 -> 2.248 | P25: =$P$3 -> 1 | V25: =SUM(D25:U25) -> 11.6697 | W25: =COUNT(D25:U25)-1 -> 11
A26: M2800 | B26: 64 | C26: River Forest Lighting | D26: =$D$3 -> 3.2273 | E26: =$E$3 -> 0.0667 | F26: =$F$3 -> 0.052 | G26: =$G$3 -> 0.73 | H26: =$H$3 -> 0.0382 | J26: ='Rates by District'!C32 -> 0.0631 | K26: =$K$3 -> 1.042 | L26: =$L$3 -> 0.0394 | M26: =$M$3 -> 0.1831 | N26: =$N$3 -> 2.847 | O26: =$O$3 -> 2.248 | P26: =$P$3 -> 1 | V26: =SUM(D26:U26) -> 11.5368 | W26: =COUNT(D26:U26)-1 -> 11
A27: M2892 | B27: 27 | C27: Waterway MSTU & River Forest Lighting | D27: =$D$3 -> 3.2273 | E27: =$E$3 -> 0.0667 | F27: =$F$3 -> 0.052 | G27: =$G$3 -> 0.73 | H27: =$H$3 -> 0.0382 | I27: =$I$13 -> 0.03 | J27: =J26 -> 0.0631 | K27: =$K$3 -> 1.042 | L27: =$L$3 -> 0.0394 | M27: =$M$3 -> 0.1831 | N27: =$N$3 -> 2.847 | O27: =$O$3 -> 2.248 | P27: =$P$3 -> 1 | V27: =SUM(D27:U27) -> 11.5668 | W27: =COUNT(D27:U27)-1 -> 12
A28: M2900 | B28: 106 | C28: Denham Acres Lighting | D28: =$D$3 -> 3.2273 | E28: =$E$3 -> 0.0667 | F28: =$F$3 -> 0.052 | G28: =$G$3 -> 0.73 | H28: =$H$3 -> 0.0382 | J28: ='Rates by District'!C33 -> 0.0923 | K28: =$K$3 -> 1.042 | L28: =$L$3 -> 0.0394 | M28: =$M$3 -> 0.1831 | N28: =$N$3 -> 2.847 | O28: =$O$3 -> 2.248 | P28: =$P$3 -> 1 | V28: =SUM(D28:U28) -> 11.566 | W28: =COUNT(D28:U28)-1 -> 11
A29: M3000 | B29: 103 | C29: Oyster Bay Lighting | D29: =$D$3 -> 3.2273 | E29: =$E$3 -> 0.0667 | F29: =$F$3 -> 0.052 | G29: =$G$3 -> 0.73 | H29: =$H$3 -> 0.0382 | J29: ='Rates by District'!C34 -> 0.0186 | K29: =$K$3 -> 1.042 | L29: =$L$3 -> 0.0394 | M29: =$M$3 -> 0.1831 | N29: =$N$3 -> 2.847 | O29: =$O$3 -> 2.248 | P29: =$P$3 -> 1 | V29: =SUM(D29:U29) -> 11.4923 | W29: =COUNT(D29:U29)-1 -> 11
A30: M3092 | B30: 41 | C30: Waterway MSTU & Oyster Bay Lighting | D30: =$D$3 -> 3.2273 | E30: =$E$3 -> 0.0667 | F30: =$F$3 -> 0.052 | G30: =$G$3 -> 0.73 | H30: =$H$3 -> 0.0382 | I30: =$I$13 -> 0.03 | J30: =J29 -> 0.0186 | K30: =$K$3 -> 1.042 | L30: =$L$3 -> 0.0394 | M30: =$M$3 -> 0.1831 | N30: =$N$3 -> 2.847 | O30: =$O$3 -> 2.248 | P30: =$P$3 -> 1 | V30: =SUM(D30:U30) -> 11.5223 | W30: =COUNT(D30:U30)-1 -> 12
A31: M3100 | B31: 698 | C31: Ridgewood Estates Lighting | D31: =$D$3 -> 3.2273 | E31: =$E$3 -> 0.0667 | F31: =$F$3 -> 0.052 | G31: =$G$3 -> 0.73 | H31: =$H$3 -> 0.0382 | J31: ='Rates by District'!C35 -> 0.16 | K31: =$K$3 -> 1.042 | L31: =$L$3 -> 0.0394 | M31: =$M$3 -> 0.1831 | N31: =$N$3 -> 2.847 | O31: =$O$3 -> 2.248 | P31: =$P$3 -> 1 | V31: =SUM(D31:U31) -> 11.6337 | W31: =COUNT(D31:U31)-1 -> 11
A32: M3200 | B32: 166 | C32: Shadow Lakes Lighting | D32: =$D$3 -> 3.2273 | E32: =$E$3 -> 0.0667 | F32: =$F$3 -> 0.052 | G32: =$G$3 -> 0.73 | H32: =$H$3 -> 0.0382 | J32: ='Rates by District'!C36 -> 0.1206 | K32: =$K$3 -> 1.042 | L32: =$L$3 -> 0.0394 | M32: =$M$3 -> 0.1831 | N32: =$N$3 -> 2.847 | O32: =$O$3 -> 2.248 | P32: =$P$3 -> 1 | V32: =SUM(D32:U32) -> 11.5943 | W32: =COUNT(D32:U32)-1 -> 11
A33: M3300 | B33: 480 | C33: South Gate Ridge Lighting | D33: =$D$3 -> 3.2273 | E33: =$E$3 -> 0.0667 | F33: =$F$3 -> 0.052 | G33: =$G$3 -> 0.73 | H33: =$H$3 -> 0.0382 | J33: ='Rates by District'!C37 -> 0.1646 | K33: =$K$3 -> 1.042 | L33: =$L$3 -> 0.0394 | M33: =$M$3 -> 0.1831 | N33: =$N$3 -> 2.847 | O33: =$O$3 -> 2.248 | P33: =$P$3 -> 1 | V33: =SUM(D33:U33) -> 11.6383 | W33: =COUNT(D33:U33)-1 -> 11
A34: M3400 | B34: 22 | C34: Riverview Manor Lighting | D34: =$D$3 -> 3.2273 | E34: =$E$3 -> 0.0667 | F34: =$F$3 -> 0.052 | G34: =$G$3 -> 0.73 | H34: =$H$3 -> 0.0382 | J34: ='Rates by District'!C38 -> 0.1125 | K34: =$K$3 -> 1.042 | L34: =$L$3 -> 0.0394 | M34: =$M$3 -> 0.1831 | N34: =$N$3 -> 2.847 | O34: =$O$3 -> 2.248 | P34: =$P$3 -> 1 | V34: =SUM(D34:U34) -> 11.5862 | W34: =COUNT(D34:U34)-1 -> 11
A35: M3492 | B35: 4 | C35: Waterway MSTU & Riverview Manor Lighting | D35: =$D$3 -> 3.2273 | E35: =$E$3 -> 0.0667 | F35: =$F$3 -> 0.052 | G35: =$G$3 -> 0.73 | H35: =$H$3 -> 0.0382 | I35: =$I$13 -> 0.03 | J35: =J34 -> 0.1125 | K35: =$K$3 -> 1.042 | L35: =$L$3 -> 0.0394 | M35: =$M$3 -> 0.1831 | N35: =$N$3 -> 2.847 | O35: =$O$3 -> 2.248 | P35: =$P$3 -> 1 | V35: =SUM(D35:U35) -> 11.6162 | W35: =COUNT(D35:U35)-1 -> 12
A36: M3600 | B36: 43 | C36: Southpointe Shores Lighting | D36: =$D$3 -> 3.2273 | E36: =$E$3 -> 0.0667 | F36: =$F$3 -> 0.052 | G36: =$G$3 -> 0.73 | H36: =$H$3 -> 0.0382 | J36: ='Rates by District'!C39 -> 0.0257 | K36: =$K$3 -> 1.042 | L36: =$L$3 -> 0.0394 | M36: =$M$3 -> 0.1831 | N36: =$N$3 -> 2.847 | O36: =$O$3 -> 2.248 | P36: =$P$3 -> 1 | V36: =SUM(D36:U36) -> 11.4994 | W36: =COUNT(D36:U36)-1 -> 11
A37: M3692 | B37: 70 | C37: Waterway MSTU & Southpointe Shores Lighting | D37: =$D$3 -> 3.2273 | E37: =$E$3 -> 0.0667 | F37: =$F$3 -> 0.052 | G37: =$G$3 -> 0.73 | H37: =$H$3 -> 0.0382 | I37: =$I$13 -> 0.03 | J37: =J36 -> 0.0257 | K37: =$K$3 -> 1.042 | L37: =$L$3 -> 0.0394 | M37: =$M$3 -> 0.1831 | N37: =$N$3 -> 2.847 | O37: =$O$3 -> 2.248 | P37: =$P$3 -> 1 | V37: =SUM(D37:U37) -> 11.5294 | W37: =COUNT(D37:U37)-1 -> 12
A38: M3700 | B38: 418 | C38: Forest Lakes Lighting | D38: =$D$3 -> 3.2273 | E38: =$E$3 -> 0.0667 | F38: =$F$3 -> 0.052 | G38: =$G$3 -> 0.73 | H38: =$H$3 -> 0.0382 | J38: ='Rates by District'!C40 -> 0.0585 | K38: =$K$3 -> 1.042 | L38: =$L$3 -> 0.0394 | M38: =$M$3 -> 0.1831 | N38: =$N$3 -> 2.847 | O38: =$O$3 -> 2.248 | P38: =$P$3 -> 1 | V38: =SUM(D38:U38) -> 11.5322 | W38: =COUNT(D38:U38)-1 -> 11
A39: M3792 | B39: 15 | C39: Waterway MSTU & Forest Lakes Lighting | D39: =$D$3 -> 3.2273 | E39: =$E$3 -> 0.0667 | F39: =$F$3 -> 0.052 | G39: =$G$3 -> 0.73 | H39: =$H$3 -> 0.0382 | I39: =$I$13 -> 0.03 | J39: =J38 -> 0.0585 | K39: =$K$3 -> 1.042 | L39: =$L$3 -> 0.0394 | M39: =$M$3 -> 0.1831 | N39: =$N$3 -> 2.847 | O39: =$O$3 -> 2.248 | P39: =$P$3 -> 1 | V39: =SUM(D39:U39) -> 11.5622 | W39: =COUNT(D39:U39)-1 -> 12
A40: M3800 | B40: 1192 | C40: East Park Lighting | D40: =$D$3 -> 3.2273 | E40: =$E$3 -> 0.0667 | F40: =$F$3 -> 0.052 | G40: =$G$3 -> 0.73 | H40: =$H$3 -> 0.0382 | J40: ='Rates by District'!C41 -> 0.1643 | K40: =$K$3 -> 1.042 | L40: =$L$3 -> 0.0394 | M40: =$M$3 -> 0.1831 | N40: =$N$3 -> 2.847 | O40: =$O$3 -> 2.248 | P40: =$P$3 -> 1 | V40: =SUM(D40:U40) -> 11.638 | W40: =COUNT(D40:U40)-1 -> 11
A41: M4000 | B41: 357 | C41: Overbrook Gardens Lighting | D41: =$D$3 -> 3.2273 | E41: =$E$3 -> 0.0667 | F41: =$F$3 -> 0.052 | G41: =$G$3 -> 0.73 | H41: =$H$3 -> 0.0382 | J41: ='Rates by District'!C42 -> 0.0848 | K41: =$K$3 -> 1.042 | L41: =$L$3 -> 0.0394 | M41: =$M$3 -> 0.1831 | N41: =$N$3 -> 2.847 | O41: =$O$3 -> 2.248 | P41: =$P$3 -> 1 | V41: =SUM(D41:U41) -> 11.5585 | W41: =COUNT(D41:U41)-1 -> 11
A42: M4092 | B42: 132 | C42: Waterway MSTU & Overbrook Gardens | D42: =$D$3 -> 3.2273 | E42: =$E$3 -> 0.0667 | F42: =$F$3 -> 0.052 | G42: =$G$3 -> 0.73 | H42: =$H$3 -> 0.0382 | I42: =$I$13 -> 0.03 | J42: =J41 -> 0.0848 | K42: =$K$3 -> 1.042 | L42: =$L$3 -> 0.0394 | M42: =$M$3 -> 0.1831 | N42: =$N$3 -> 2.847 | O42: =$O$3 -> 2.248 | P42: =$P$3 -> 1 | V42: =SUM(D42:U42) -> 11.5885 | W42: =COUNT(D42:U42)-1 -> 12
A43: M4200 | B43: 106 | C43: Northgate Center Lighting | D43: =$D$3 -> 3.2273 | E43: =$E$3 -> 0.0667 | F43: =$F$3 -> 0.052 | G43: =$G$3 -> 0.73 | H43: =$H$3 -> 0.0382 | J43: ='Rates by District'!C43 -> 0.1366 | K43: =$K$3 -> 1.042 | L43: =$L$3 -> 0.0394 | M43: =$M$3 -> 0.1831 | N43: =$N$3 -> 2.847 | O43: =$O$3 -> 2.248 | P43: =$P$3 -> 1 | V43: =SUM(D43:U43) -> 11.6103 | W43: =COUNT(D43:U43)-1 -> 11
A44: M4300 | B44: 254 | C44: Center Gate Woods Lighting | D44: =$D$3 -> 3.2273 | E44: =$E$3 -> 0.0667 | F44: =$F$3 -> 0.052 | G44: =$G$3 -> 0.73 | H44: =$H$3 -> 0.0382 | J44: ='Rates by District'!C44 -> 0.1029 | K44: =$K$3 -> 1.042 | L44: =$L$3 -> 0.0394 | M44: =$M$3 -> 0.1831 | N44: =$N$3 -> 2.847 | O44: =$O$3 -> 2.248 | P44: =$P$3 -> 1 | V44: =SUM(D44:U44) -> 11.5766 | W44: =COUNT(D44:U44)-1 -> 11
A45: M4400 | B45: 218 | C45: Bay Vista Blvd Lighting | D45: =$D$3 -> 3.2273 | E45: =$E$3 -> 0.0667 | F45: =$F$3 -> 0.052 | G45: =$G$3 -> 0.73 | H45: =$H$3 -> 0.0382 | J45: ='Rates by District'!C45 -> 0.1855 | K45: =$K$3 -> 1.042 | L45: =$L$3 -> 0.0394 | M45: =$M$3 -> 0.1831 | N45: =$N$3 -> 2.847 | O45: =$O$3 -> 2.248 | P45: =$P$3 -> 1 | V45: =SUM(D45:U45) -> 11.6592 | W45: =COUNT(D45:U45)-1 -> 11
A46: M4500 | B46: 82 | C46: Clark Road Industrial Lighting | D46: =$D$3 -> 3.2273 | E46: =$E$3 -> 0.0667 | F46: =$F$3 -> 0.052 | G46: =$G$3 -> 0.73 | H46: =$H$3 -> 0.0382 | J46: ='Rates by District'!C46 -> 0.037 | K46: =$K$3 -> 1.042 | L46: =$L$3 -> 0.0394 | M46: =$M$3 -> 0.1831 | N46: =$N$3 -> 2.847 | O46: =$O$3 -> 2.248 | P46: =$P$3 -> 1 | V46: =SUM(D46:U46) -> 11.5107 | W46: =COUNT(D46:U46)-1 -> 11
A47: M4700 | B47: 348 | C47: Bay Point Lighting | D47: =$D$3 -> 3.2273 | E47: =$E$3 -> 0.0667 | F47: =$F$3 -> 0.052 | G47: =$G$3 -> 0.73 | H47: =$H$3 -> 0.0382 | J47: ='Rates by District'!C47 -> 0.0441 | K47: =$K$3 -> 1.042 | L47: =$L$3 -> 0.0394 | M47: =$M$3 -> 0.1831 | N47: =$N$3 -> 2.847 | O47: =$O$3 -> 2.248 | P47: =$P$3 -> 1 | V47: =SUM(D47:U47) -> 11.5178 | W47: =COUNT(D47:U47)-1 -> 11
A48: M4792 | B48: 92 | C48: Waterway MSTU & Bay Point Lighting | D48: =$D$3 -> 3.2273 | E48: =$E$3 -> 0.0667 | F48: =$F$3 -> 0.052 | G48: =$G$3 -> 0.73 | H48: =$H$3 -> 0.0382 | I48: =$I$13 -> 0.03 | J48: =J47 -> 0.0441 | K48: =$K$3 -> 1.042 | L48: =$L$3 -> 0.0394 | M48: =$M$3 -> 0.1831 | N48: =$N$3 -> 2.847 | O48: =$O$3 -> 2.248 | P48: =$P$3 -> 1 | V48: =SUM(D48:U48) -> 11.5478 | W48: =COUNT(D48:U48)-1 -> 12
A49: M4800 | B49: 308 | C49: Phillippi Gardens Lighting | D49: =$D$3 -> 3.2273 | E49: =$E$3 -> 0.0667 | F49: =$F$3 -> 0.052 | G49: =$G$3 -> 0.73 | H49: =$H$3 -> 0.0382 | J49: ='Rates by District'!C48 -> 0.0574 | K49: =$K$3 -> 1.042 | L49: =$L$3 -> 0.0394 | M49: =$M$3 -> 0.1831 | N49: =$N$3 -> 2.847 | O49: =$O$3 -> 2.248 | P49: =$P$3 -> 1 | V49: =SUM(D49:U49) -> 11.5311 | W49: =COUNT(D49:U49)-1 -> 11
A50: M4892 | B50: 97 | C50: Waterway MSTU & Phillippi Gardens Lighting | D50: =$D$3 -> 3.2273 | E50: =$E$3 -> 0.0667 | F50: =$F$3 -> 0.052 | G50: =$G$3 -> 0.73 | H50: =$H$3 -> 0.0382 | I50: =$I$13 -> 0.03 | J50: =J49 -> 0.0574 | K50: =$K$3 -> 1.042 | L50: =$L$3 -> 0.0394 | M50: =$M$3 -> 0.1831 | N50: =$N$3 -> 2.847 | O50: =$O$3 -> 2.248 | P50: =$P$3 -> 1 | V50: =SUM(D50:U50) -> 11.5611 | W50: =COUNT(D50:U50)-1 -> 12
A51: M4900 | B51: 6835 | C51: South Venice Lighting | D51: =$D$3 -> 3.2273 | E51: =$E$3 -> 0.0667 | F51: =$F$3 -> 0.052 | G51: =$G$3 -> 0.73 | H51: =$H$3 -> 0.0382 | J51: ='Rates by District'!C49 -> 0.1482 | K51: =$K$3 -> 1.042 | L51: =$L$3 -> 0.0394 | M51: =$M$3 -> 0.1831 | N51: =$N$3 -> 2.847 | O51: =$O$3 -> 2.248 | P51: =$P$3 -> 1 | V51: =SUM(D51:U51) -> 11.6219 | W51: =COUNT(D51:U51)-1 -> 11
A52: M4992 | B52: 97 | C52: Waterway MSTU & South Venice Lighting | D52: =$D$3 -> 3.2273 | E52: =$E$3 -> 0.0667 | F52: =$F$3 -> 0.052 | G52: =$G$3 -> 0.73 | H52: =$H$3 -> 0.0382 | I52: =$I$13 -> 0.03 | J52: =J51 -> 0.1482 | K52: =$K$3 -> 1.042 | L52: =$L$3 -> 0.0394 | M52: =$M$3 -> 0.1831 | N52: =$N$3 -> 2.847 | O52: =$O$3 -> 2.248 | P52: =$P$3 -> 1 | V52: =SUM(D52:U52) -> 11.6519 | W52: =COUNT(D52:U52)-1 -> 12
A53: M5000 | B53: 1373 | C53: Jacaranda West Lighting | D53: =$D$3 -> 3.2273 | E53: =$E$3 -> 0.0667 | F53: =$F$3 -> 0.052 | G53: =$G$3 -> 0.73 | H53: =$H$3 -> 0.0382 | J53: ='Rates by District'!C50 -> 0.1297 | K53: =$K$3 -> 1.042 | L53: =$L$3 -> 0.0394 | M53: =$M$3 -> 0.1831 | N53: =$N$3 -> 2.847 | O53: =$O$3 -> 2.248 | P53: =$P$3 -> 1 | V53: =SUM(D53:U53) -> 11.6034 | W53: =COUNT(D53:U53)-1 -> 11
A54: M5100 | B54: 74 | C54: Uplands Lighting | D54: =$D$3 -> 3.2273 | E54: =$E$3 -> 0.0667 | F54: =$F$3 -> 0.052 | G54: =$G$3 -> 0.73 | H54: =$H$3 -> 0.0382 | J54: ='Rates by District'!C51 -> 0.118 | K54: =$K$3 -> 1.042 | L54: =$L$3 -> 0.0394 | M54: =$M$3 -> 0.1831 | N54: =$N$3 -> 2.847 | O54: =$O$3 -> 2.248 | P54: =$P$3 -> 1 | V54: =SUM(D54:U54) -> 11.5917 | W54: =COUNT(D54:U54)-1 -> 11
A55: M5200 | B55: 87 | C55: Sunrise Golf Club Lighting | D55: =$D$3 -> 3.2273 | E55: =$E$3 -> 0.0667 | F55: =$F$3 -> 0.052 | G55: =$G$3 -> 0.73 | H55: =$H$3 -> 0.0382 | J55: ='Rates by District'!C52 -> 0.2875 | K55: =$K$3 -> 1.042 | L55: =$L$3 -> 0.0394 | M55: =$M$3 -> 0.1831 | N55: =$N$3 -> 2.847 | O55: =$O$3 -> 2.248 | P55: =$P$3 -> 1 | V55: =SUM(D55:U55) -> 11.7612 | W55: =COUNT(D55:U55)-1 -> 11
A56: M5400 | B56: 140 | C56: Venetian Gardens Lighting | D56: =$D$3 -> 3.2273 | E56: =$E$3 -> 0.0667 | F56: =$F$3 -> 0.052 | G56: =$G$3 -> 0.73 | H56: =$H$3 -> 0.0382 | J56: ='Rates by District'!C53 -> 0.0868 | K56: =$K$3 -> 1.042 | L56: =$L$3 -> 0.0394 | M56: =$M$3 -> 0.1831 | N56: =$N$3 -> 2.847 | O56: =$O$3 -> 2.248 | P56: =$P$3 -> 1 | V56: =SUM(D56:U56) -> 11.5605 | W56: =COUNT(D56:U56)-1 -> 11
A57: M5500 | B57: 152 | C57: North Casey Key Public Improvement | D57: =$D$3 -> 3.2273 | E57: =$E$3 -> 0.0667 | F57: =$F$3 -> 0.052 | G57: =$G$3 -> 0.73 | H57: =$H$3 -> 0.0382 | J57: ='Rates by District'!C54 -> 0 | K57: =$K$3 -> 1.042 | L57: =$L$3 -> 0.0394 | M57: =$M$3 -> 0.1831 | N57: =$N$3 -> 2.847 | O57: =$O$3 -> 2.248 | P57: =$P$3 -> 1 | V57: =SUM(D57:U57) -> 11.4737 | W57: =COUNT(D57:U57)-1 -> 11
A58: M5592 | B58: 250 | C58: Waterway MSTU & N Casey Key PID | D58: =$D$3 -> 3.2273 | E58: =$E$3 -> 0.0667 | F58: =$F$3 -> 0.052 | G58: =$G$3 -> 0.73 | H58: =$H$3 -> 0.0382 | I58: =$I$13 -> 0.03 | J58: =J57 -> 0 | K58: =$K$3 -> 1.042 | L58: =$L$3 -> 0.0394 | M58: =$M$3 -> 0.1831 | N58: =$N$3 -> 2.847 | O58: =$O$3 -> 2.248 | P58: =$P$3 -> 1 | V58: =SUM(D58:U58) -> 11.5037 | W58: =COUNT(D58:U58)-1 -> 12
A59: M5600 | B59: 107 | C59: Center Gate Estates Lighting | D59: =$D$3 -> 3.2273 | E59: =$E$3 -> 0.0667 | F59: =$F$3 -> 0.052 | G59: =$G$3 -> 0.73 | H59: =$H$3 -> 0.0382 | J59: ='Rates by District'!C55 -> 0.1547 | K59: =$K$3 -> 1.042 | L59: =$L$3 -> 0.0394 | M59: =$M$3 -> 0.1831 | N59: =$N$3 -> 2.847 | O59: =$O$3 -> 2.248 | P59: =$P$3 -> 1 | V59: =SUM(D59:U59) -> 11.6284 | W59: =COUNT(D59:U59)-1 -> 11
A60: M5900 | B60: 2 | C60: Aqualane Estates Lighting | D60: =$D$3 -> 3.2273 | E60: =$E$3 -> 0.0667 | F60: =$F$3 -> 0.052 | G60: =$G$3 -> 0.73 | H60: =$H$3 -> 0.0382 | J60: ='Rates by District'!C56 -> 0.0342 | K60: =$K$3 -> 1.042 | L60: =$L$3 -> 0.0394 | M60: =$M$3 -> 0.1831 | N60: =$N$3 -> 2.847 | O60: =$O$3 -> 2.248 | P60: =$P$3 -> 1 | V60: =SUM(D60:U60) -> 11.5079 | W60: =COUNT(D60:U60)-1 -> 11
A61: M5992 | B61: 107 | C61: Waterway MSTU & Aqualane Estates Lighting | D61: =$D$3 -> 3.2273 | E61: =$E$3 -> 0.0667 | F61: =$F$3 -> 0.052 | G61: =$G$3 -> 0.73 | H61: =$H$3 -> 0.0382 | I61: =$I$13 -> 0.03 | J61: =J60 -> 0.0342 | K61: =$K$3 -> 1.042 | L61: =$L$3 -> 0.0394 | M61: =$M$3 -> 0.1831 | N61: =$N$3 -> 2.847 | O61: =$O$3 -> 2.248 | P61: =$P$3 -> 1 | V61: =SUM(D61:U61) -> 11.5379 | W61: =COUNT(D61:U61)-1 -> 12
A62: M6400 | B62: 510 | C62: Pinecraft Lighting | D62: =$D$3 -> 3.2273 | E62: =$E$3 -> 0.0667 | F62: =$F$3 -> 0.052 | G62: =$G$3 -> 0.73 | H62: =$H$3 -> 0.0382 | J62: ='Rates by District'!C57 -> 0.0399 | K62: =$K$3 -> 1.042 | L62: =$L$3 -> 0.0394 | M62: =$M$3 -> 0.1831 | N62: =$N$3 -> 2.847 | O62: =$O$3 -> 2.248 | P62: =$P$3 -> 1 | V62: =SUM(D62:U62) -> 11.5136 | W62: =COUNT(D62:U62)-1 -> 11
A63: M6500 | B63: 1319 | C63: Sarasota Springs Lighting Improvement | D63: =$D$3 -> 3.2273 | E63: =$E$3 -> 0.0667 | F63: =$F$3 -> 0.052 | G63: =$G$3 -> 0.73 | H63: =$H$3 -> 0.0382 | J63: ='Rates by District'!C58 -> 0.0704 | K63: =$K$3 -> 1.042 | L63: =$L$3 -> 0.0394 | M63: =$M$3 -> 0.1831 | N63: =$N$3 -> 2.847 | O63: =$O$3 -> 2.248 | P63: =$P$3 -> 1 | V63: =SUM(D63:U63) -> 11.5441
A64: M9100 | B64: 80 | C64: St Armands | D64: =$D$3 -> 3.2273 | E64: =$E$3 -> 0.0667 | F64: =$F$3 -> 0.052 | G64: =$G$3 -> 0.73 | H64: =$H$3 -> 0.0382 | K64: =$K$3 -> 1.042 | L64: =$L$3 -> 0.0394 | M64: =$M$3 -> 0.1831 | N64: =$N$3 -> 2.847 | O64: =$O$3 -> 2.248 | P64: =$P$3 -> 1 | Q64: =Q4 -> 3.273 | R64: =R4 -> 0.1348 | S64: ='Rates by District'!C60 -> 0 | V64: =SUM(D64:U64) -> 14.8815 | W64: =COUNT(D64:U64)-1 -> 13
A65: M9201 | B65: 6644 | C65: Waterwy MSTU County | D65: =$D$3 -> 3.2273 | E65: =$E$3 -> 0.0667 | F65: =$F$3 -> 0.052 | G65: =$G$3 -> 0.73 | H65: =$H$3 -> 0.0382 | I65: =$I$13 -> 0.03 | K65: =$K$3 -> 1.042 | L65: =$L$3 -> 0.0394 | M65: =$M$3 -> 0.1831 | N65: =$N$3 -> 2.847 | O65: =$O$3 -> 2.248 | P65: =$P$3 -> 1 | V65: =SUM(D65:U65) -> 11.5037 | W65: =COUNT(D65:U65)-1 -> 11
A66: M9300 | B66: 331 | C66: Golden Gate Point - City of Sarasota | D66: =$D$3 -> 3.2273 | E66: =$E$3 -> 0.0667 | F66: =$F$3 -> 0.052 | G66: =$G$3 -> 0.73 | H66: =$H$3 -> 0.0382 | K66: =$K$3 -> 1.042 | L66: =$L$3 -> 0.0394 | M66: =$M$3 -> 0.1831 | N66: =$N$3 -> 2.847 | O66: =$O$3 -> 2.248 | P66: =$P$3 -> 1 | Q66: =Q4 -> 3.273 | R66: =R4 -> 0.1348 | S66: ='Rates by District'!C62 -> 0.6148 | U66: ='Rates by District'!C63 -> 0.5899 | V66: =SUM(D66:U66) -> 16.0862 | W66: =COUNT(D66:U66)-1 -> 14
A67: M9500 | B67: 272 | C67: Downtown Improvement District | D67: =$D$3 -> 3.2273 | E67: =$E$3 -> 0.0667 | F67: =$F$3 -> 0.052 | G67: =$G$3 -> 0.73 | H67: =$H$3 -> 0.0382 | K67: =$K$3 -> 1.042 | L67: =$L$3 -> 0.0394 | M67: =$M$3 -> 0.1831 | N67: =$N$3 -> 2.847 | O67: =$O$3 -> 2.248 | P67: =$P$3 -> 1 | Q67: =Q4 -> 3.273 | R67: =R4 -> 0.1348 | S67: ='Rates by District'!C65 -> 2 | V67: =SUM(D67:U67) -> 16.8815 | W67: =COUNT(D67:U67)-1 -> 13

Sheet Rates by District
A1: code | B1: district | C1: curr_rate
A2: 0100 | B2: Sarasota - Operating | C2: 3.2273
A3: 0110 | B3: Sarasota County Debt Service | C3: 0.0667
A4: 0115 | B4: Sarasota County Legacy Trail Debt | C4: 0.0382
A5: 0120 | B5: Sarasota County Mosquito Control | C5: 0.052
A6: 0130 | B6: Sarasota County Public Hospital Board | C6: 1.042
A7: 0140 | B7: Southwest Fl. Water Management Dist. - District | C7: 0.1831
A8: 0150 | B8: West Coast Inland Navigation District | C8: 0.0394
A9: 0161 | B9: School Board - State Law | C9: 2.847
A10: 0162 | B10: School Board - Local Board | C10: 3.248
A11: 0200 | B11: City of Sarasota | C11: 3.273
A12: 0210 | B12: City of Sarasota Debt Service | C12: 0.1348
A13: 0300 | B13: City of Venice | C13: 3.845
... A65: 9500 | B65: Downtown Improvement District | C65: 2
