Workbook

Sheet Report Index
A2: Municipal Report
B4: Alachua | E4: Lake
B5: Baker | E5: Lee
B6: Bay | E6: Leon
B7: Bradford | E7: Levy
B8: Brevard | E8: Liberty
B9: Broward | E9: Madison
B10: Calhoun | E10: Manatee
B11: Charlotte | E11: Marion
B12: Citrus | E12: Martin
B13: Clay | E13: Monroe
B14: Collier | E14: Nassau
B15: Columbia | E15: Okaloosa
... B37: Lafayette | E37: Statewide
A43: Contact Information: | D43: Property Tax Oversight, Research & Analysis
D44: PTOResearchAnalysis@floridarevenue.com

Sheet Alachua
A1: Municipality | B1: Year | C1: Just Value | D1: Assessed Value | E1: Government Exemption Value | F1: Institutional Exemption Value | G1: Homestead Exemption Value | H1: Additional 25,000 Homestead Exemption Value | I1: Senior Homestead Exemptions | J1: Other Exemptions | K1: Total Exemption Value | L1: Total Taxable Value | M1: City Millage Rate | N1: Taxes Levied
A2: ALACHUA | B2: 2024 | C2: 2235849949 | D2: 1702372821 | E2: 140613537 | F2: 38160513 | G2: 76234750 | H2: 70210177 | I2: 3045840 | J2: 23107210 | K2: 351372027 | L2: 1351000794 | M2: 5.95 | N2: 8038454.7
A3: ALACHUA | B3: 2025 | C3: 2330291849 | D3: 1824102998 | E3: 143389534 | F3: 36787543 | G3: 79149625 | H3: 75900467 | I3: 3230245 | J3: 27577533 | K3: 366034947 | L3: 1458068051 | M3: 6.25 | N3: 9112925.3
A4: Pct Change | C4: =(C3-C2)/C2 -> 0.04223982 | D4: =(D3-D2)/D2 -> 0.07150618 | E4: =(E3-E2)/E2 -> 0.019742032 | F4: =(F3-F2)/F2 -> -0.035978814 | G4: =(G3-G2)/G2 -> 0.038235516 | H4: =(H3-H2)/H2 -> 0.081046513 | I4: =(I3-I2)/I2 -> 0.060543233 | J4: =(J3-J2)/J2 -> 0.19346009 | ... N4: =(N3-N2)/N2 -> 0.13366631
A6: ARCHER | B6: 2024 | C6: 132905454 | D6: 80384436 | E6: 4922945 | F6: 6820170 | G6: 6549373 | H6: 5124702 | I6: 0 | J6: 1332141 | K6: 24749331 | L6: 55635105 | M6: 5.5479 | N6: 308658
A7: ARCHER | B7: 2025 | C7: 137921948 | D7: 84881267 | E7: 5304160 | F7: 7041642 | G7: 6675080 | H7: 5514537 | I7: 0 | J7: 1897818 | K7: 26433237 | L7: 58448030 | M7: 6.4322 | N7: 375949.42
A8: Pct Change | C8: =(C7-C6)/C6 -> 0.037744832 | D8: =(D7-D6)/D6 -> 0.055941563 | E8: =(E7-E6)/E6 -> 0.077436372 | F8: =(F7-F6)/F6 -> 0.032473091 | G8: =(G7-G6)/G6 -> 0.019193746 | H8: =(H7-H6)/H6 -> 0.076069789 | I8: =(I7-I6)/I6 -> #DIV/0! | J8: =(J7-J6)/J6 -> 0.42463748 | ... N8: =(N7-N6)/N6 -> 0.21801288
A10: GAINESVILLE | B10: 2024 | C10: 22868254162 | D10: 19562395370 | E10: 7002294607 | F10: 592358212 | G10: 446668593 | H10: 414975147 | I10: 17752129 | J10: 91828058 | K10: 8565876746 | L10: 10996518624 | M10: 6.4297 | N10: 70704316
A11: GAINESVILLE | B11: 2025 | C11: 23568000626 | D11: 20531679268 | E11: 7001895912 | F11: 601802270 | G11: 446589853 | H11: 430500968 | I11: 18466739 | J11: 101145947 | K11: 8600401689 | L11: 11931277579 | M11: 6.7297 | N11: 80293919
A12: Pct Change | C12: =(C11-C10)/C10 -> 0.030599033 | D12: =(D11-D10)/D10 -> 0.049548324 | E12: =(E11-E10)/E10 -> -5.6937764e-05 | F12: =(F11-F10)/F10 -> 0.015943154 | G12: =(G11-G10)/G10 -> -0.00017628282 | H12: =(H11-H10)/H10 -> 0.037413857 | I12: =(I11-I10)/I10 -> 0.04025489 | J12: =(J11-J10)/J10 -> 0.10147104 | ... N12: =(N11-N10)/N10 -> 0.13562967
A14: HAWTHORNE | B14: 2024 | C14: 182747552 | D14: 135501048 | E14: 36453852 | F14: 5064477 | G14: 8604779 | H14: 6336893 | I14: 0 | J14: 1736639 | K14: 58196640 | L14: 77304408 | M14: 6.4322 | N14: 497237.41
A15: HAWTHORNE | B15: 2025 | C15: 186944992 | D15: 144099195 | E15: 37313966 | F15: 4779347 | G15: 8860234 | H15: 6983618 | I15: 0 | J15: 2333448 | K15: 60270613 | L15: 83828582 | M15: 6.4322 | N15: 539202.21
A16: Pct Change | C16: =(C15-C14)/C14 -> 0.022968516 | D16: =(D15-D14)/D14 -> 0.063454469 | E16: =(E15-E14)/E14 -> 0.023594598 | F16: =(F15-F14)/F14 -> -0.056299989 | G16: =(G15-G14)/G14 -> 0.029687572 | H16: =(H15-H14)/H14 -> 0.10205711 | I16: =(I15-I14)/I14 -> #DIV/0! | J16: =(J15-J14)/J14 -> 0.34365749 | ... N16: =(N15-N14)/N14 -> 0.084395886
A18: HIGH SPRINGS | B18: 2024 | C18: 994272178 | D18: 719685802 | E18: 23744623 | F18: 30945958 | G18: 55456634 | H18: 50580710 | I18: 2513650 | J18: 17540657 | K18: 180782232 | L18: 538903570 | M18: 6.74 | N18: 3632210.1
A19: HIGH SPRINGS | B19: 2025 | C19: 1064830056 | D19: 772138731 | E19: 24526100 | F19: 32618187 | G19: 56199069 | H19: 53328472 | I19: 2616352 | J19: 19118718 | K19: 188406898 | L19: 583731833 | M19: 6.99 | N19: 4080285.5
A20: Pct Change | C20: =(C19-C18)/C18 -> 0.070964349 | D20: =(D19-D18)/D18 -> 0.072883095 | E20: =(E19-E18)/E18 -> 0.032911746 | F20: =(F19-F18)/F18 -> 0.054037073 | G20: =(G19-G18)/G18 -> 0.013387668 | H20: =(H19-H18)/H18 -> 0.054324307 | I20: =(I19-I18)/I18 -> 0.040857717 | J20: =(J19-J18)/J18 -> 0.0899659 | ... N20: =(N19-N18)/N18 -> 0.12336166
A22: LACROSSE | B22: 2024 | C22: 35285343 | D22: 20169909 | E22: 587722 | F22: 756959 | G22: 2027358 | H22: 1436812 | I22: 0 | J22: 420993 | K22: 5229844 | L22: 14940065 | M22: 6.541 | N22: 97722.965
A23: LACROSSE | B23: 2025 | C23: 38277810 | D23: 21627811 | E23: 575500 | F23: 823338 | G23: 2046158 | H23: 1501042 | I23: 0 | J23: 508455 | K23: 5454493 | L23: 16173318 | M23: 6.541 | N23: 105789.67
A24: Pct Change | C24: =(C23-C22)/C22 -> 0.084807649 | D24: =(D23-D22)/D22 -> 0.07228104 | E24: =(E23-E22)/E22 -> -0.020795546 | F24: =(F23-F22)/F22 -> 0.087691672 | G24: =(G23-G22)/G22 -> 0.0092731525 | H24: =(H23-H22)/H22 -> 0.044703134 | I24: =(I23-I22)/I22 -> #DIV/0! | J24: =(J23-J22)/J22 -> 0.20775167 | ... N24: =(N23-N22)/N22 -> 0.082546696
A26: MICANOPY | B26: 2024 | C26: 82501774 | D26: 62494804 | E26: 2356620 | F26: 4763813 | G26: 4706055 | H26: 3877616 | I26: 547711 | J26: 396175 | K26: 16647990 | L26: 45846814 | M26: 5.2 | N26: 238403.43
A27: MICANOPY | B27: 2025 | C27: 84189162 | D27: 66843141 | E27: 2516450 | F27: 4969955 | G27: 4832137 | H27: 4142883 | I27: 425778 | J27: 656599 | K27: 17543802 | L27: 49299339 | M27: 5.2 | N27: 256356.56
A28: Pct Change | C28: =(C27-C26)/C26 -> 0.020452748 | D28: =(D27-D26)/D26 -> 0.069579177 | E28: =(E27-E26)/E26 -> 0.067821711 | F28: =(F27-F26)/F26 -> 0.043272479 | G28: =(G27-G26)/G26 -> 0.026791442 | H28: =(H27-H26)/H26 -> 0.068409817 | I28: =(I27-I26)/I26 -> -0.22262288 | J28: =(J27-J26)/J26 -> 0.65734587 | ... N28: =(N27-N26)/N26 -> 0.075305669
A30: NEWBERRY | B30: 2024 | C30: 1620552741 | D30: 1040477031 | E30: 89632830 | F30: 22126701 | G30: 61786748 | H30: 57928989 | I30: 0 | J30: 22565099 | K30: 254040367 | L30: 786436664 | M30: 5.9 | N30: 4639976.3
A31: NEWBERRY | B31: 2025 | C31: 1720632295 | D31: 1133216481 | E31: 90643152 | F31: 19488098 | G31: 66107843 | H31: 64258276 | I31: 0 | J31: 27558525 | K31: 268055894 | L31: 865160587 | M31: 5.88 | N31: 5087144.3
A32: Pct Change | C32: =(C31-C30)/C30 -> 0.061756431 | D32: =(D31-D30)/D30 -> 0.089131665 | E32: =(E31-E30)/E30 -> 0.011271785 | F32: =(F31-F30)/F30 -> -0.11924972 | G32: =(G31-G30)/G30 -> 0.069935628 | H32: =(H31-H30)/H30 -> 0.10925941 | I32: =(I31-I30)/I30 -> #DIV/0! | J32: =(J31-J30)/J30 -> 0.22128979 | ... N32: =(N31-N30)/N30 -> 0.096372891
A34: WALDO | B34: 2024 | C34: 81090172 | D34: 57169932 | E34: 6158619 | F34: 2174810 | G34: 4831229 | H34: 2348655 | I34: 0 | J34: 778532 | K34: 16291845 | L34: 40878087 | M34: 6.4 | N34: 261619.76
A35: WALDO | B35: 2025 | C35: 82244672 | D35: 60374586 | E35: 5748895 | F35: 2182398 | G35: 4884598 | H35: 2685629 | I35: 0 | J35: 1227603 | K35: 16729123 | L35: 43645463 | M35: 6.4 | N35: 279330.96
A36: Pct Change | C36: =(C35-C34)/C34 -> 0.014237237 | D36: =(D35-D34)/D34 -> 0.056054886 | E36: =(E35-E34)/E34 -> -0.066528551 | F36: =(F35-F34)/F34 -> 0.0034890404 | G36: =(G35-G34)/G34 -> 0.011046672 | H36: =(H35-H34)/H34 -> 0.14347531 | I36: =(I35-I34)/I34 -> #DIV/0! | J36: =(J35-J34)/J34 -> 0.57681765 | ... N36: =(N35-N34)/N34 -> 0.067698276
A38: Total Municipal | B38: 2024 | C38: =C2+C6+C10+C14+C18+C22+C26+C30+C34 -> 28233459325 | D38: =D2+D6+D10+D14+D18+D22+D26+D30+D34 -> 23380651153 | E38: =E2+E6+E10+E14+E18+E22+E26+E30+E34 -> 7306765355 | F38: =F2+F6+F10+F14+F18+F22+F26+F30+F34 -> 703171613 | G38: =G2+G6+G10+G14+G18+G22+G26+G30+G34 -> 666865519 | H38: =H2+H6+H10+H14+H18+H22+H26+H30+H34 -> 612819701 | I38: =I2+I6+I10+I14+I18+I22+I26+I30+I34 -> 23859330 | J38: =J2+J6+J10+J14+J18+J22+J26+J30+J34 -> 159705504 | ... L38: =L2+L6+L10+L14+L18+L22+L26+L30+L34 -> 13907464131 | N38: =N2+N6+N10+N14+N18+N22+N26+N30+N34 -> 88418598
B39: 2025 | C39: =C3+C7+C11+C15+C19+C23+C27+C31+C35 -> 29213333410 | D39: =D3+D7+D11+D15+D19+D23+D27+D31+D35 -> 24638963478 | E39: =E3+E7+E11+E15+E19+E23+E27+E31+E35 -> 7311913669 | F39: =F3+F7+F11+F15+F19+F23+F27+F31+F35 -> 710492778 | G39: =G3+G7+G11+G15+G19+G23+G27+G31+G35 -> 675344597 | H39: =H3+H7+H11+H15+H19+H23+H27+H31+H35 -> 644815892 | I39: =I3+I7+I11+I15+I19+I23+I27+I31+I35 -> 24739114 | J39: =J3+J7+J11+J15+J19+J23+J27+J31+J35 -> 182024646 | ... L39: =L3+L7+L11+L15+L19+L23+L27+L31+L35 -> 15089632782 | N39: =N3+N7+N11+N15+N19+N23+N27+N31+N35 -> 1.001309e+08
A40: Pct Change | C40: =(C39-C38)/C38 -> 0.034706129 | D40: =(D39-D38)/D38 -> 0.053818532 | E40: =(E39-E38)/E38 -> 0.0007045955 | F40: =(F39-F38)/F38 -> 0.010411633 | G40: =(G39-G38)/G38 -> 0.012714824 | H40: =(H39-H38)/H38 -> 0.052211427 | I40: =(I39-I38)/I38 -> 0.036873793 | J40: =(J39-J38)/J38 -> 0.13975186 | ... L40: =(L39-L38)/L38 -> 0.085002459 | N40: =(N39-N38)/N38 -> 0.13246426
K42: Effective Millage Rate | L42: 2024 | M42: =(M2+M6+M10+M14+M18+M22+M26+M30+M34)/9 -> 6.1267556
L43: 2025 | M43: =(M3+M7+M11+M15+M19+M23+M27+M31+M35)/9 -> 6.3172333
K44: Percent change | M44: =(M43-M42)/M42 -> 0.031089502

Sheet Baker
A1: Municipality | B1: Year | C1: Just Value | D1: Assessed Value | E1: Government Exemption Value | F1: Institutional Exemption Value | G1: Homestead Exemption Value | H1: Additional 25,000 Homestead Exemption Value | I1: Senior Homestead Exemptions | J1: Other Exemptions | K1: Total Exemption Value | L1: Total Taxable Value | M1: City Millage Rate | N1: Taxes Levied
A2: MACLENNY | B2: 2024 | C2: 721542768 | D2: 606425935 | E2: 37085305 | F2: 58143086 | G2: 37297165 | H2: 34243060 | I2: 5452595 | J2: 17091606 | K2: 189312817 | L2: 417113118 | M2: 3.6 | N2: 1501607.2
A3: MACLENNY | B3: 2025 | C3: 769170442 | D3: 644088497 | E3: 37264456 | F3: 56859506 | G3: 37453319 | H3: 35849452 | I3: 5443974 | J3: 19170680 | K3: 192041387 | L3: 452047110 | M3: 3.6 | N3: 1627369.6
A4: Pct Change | C4: =(C3-C2)/C2 -> 0.066008109 | D4: =(D3-D2)/D2 -> 0.06210579 | E4: =(E3-E2)/E2 -> 0.0048307814 | F4: =(F3-F2)/F2 -> -0.022076228 | G4: =(G3-G2)/G2 -> 0.0041867525 | H4: =(H3-H2)/H2 -> 0.046911462 | I4: =(I3-I2)/I2 -> -0.001581082 | J4: =(J3-J2)/J2 -> 0.12164299 | ... N4: =(N3-N2)/N2 -> 0.083751842
A6: Total Municipal | B6: 2024 | C6: =C2 -> 721542768 | D6: =D2 -> 606425935 | E6: =E2 -> 37085305 | F6: =F2 -> 58143086 | G6: =G2 -> 37297165 | H6: =H2 -> 34243060 | I6: =I2 -> 5452595 | J6: =J2 -> 17091606 | ... L6: =L2 -> 417113118 | N6: =N2 -> 1501607.2
B7: 2025 | C7: =C3 -> 769170442 | D7: =D3 -> 644088497 | E7: =E3 -> 37264456 | F7: =F3 -> 56859506 | G7: =G3 -> 37453319 | H7: =H3 -> 35849452 | I7: =I3 -> 5443974 | J7: =J3 -> 19170680 | ... L7: =L3 -> 452047110 | N7: =N3 -> 1627369.6
A8: Pct Change | C8: =(C7-C6)/C6 -> 0.066008109 | D8: =(D7-D6)/D6 -> 0.06210579 | E8: =(E7-E6)/E6 -> 0.0048307814 | F8: =(F7-F6)/F6 -> -0.022076228 | G8: =(G7-G6)/G6 -> 0.0041867525 | H8: =(H7-H6)/H6 -> 0.046911462 | I8: =(I7-I6)/I6 -> -0.001581082 | J8: =(J7-J6)/J6 -> 0.12164299 | ... L8: =(L7-L6)/L6 -> 0.083751842 | N8: =(N7-N6)/N6 -> 0.083751842
K10: Effective Millage Rate | L10: 2024 | M10: =M2 -> 3.6
L11: 2025 | M11: =M3 -> 3.6
K12: Percent change | M12: =(M11-M10)/M10 -> 0

Sheet Bay
A1: Municipality | B1: Year | C1: Just Value | D1: Assessed Value | E1: Government Exemption Value | F1: Institutional Exemption Value | G1: Homestead Exemption Value | H1: Additional 25,000 Homestead Exemption Value | I1: Senior Homestead Exemptions | J1: Other Exemptions | K1: Total Exemption Value | L1: Total Taxable Value | M1: City Millage Rate | N1: Taxes Levied
A2: CALLAWAY | B2: 2024 | C2: 1340006866 | D2: 1204347447 | E2: 18081371 | F2: 19492430 | G2: 81703046 | H2: 69954926 | I2: 4488434 | J2: 55986951 | K2: 249707158 | L2: 954640289 | M2: 2.75 | N2: 2625260.8
A3: CALLAWAY | B3: 2025 | C3: 1419307839 | D3: 1288295575 | E3: 18168808 | F3: 19634979 | G3: 83064138 | H3: 72383708 | I3: 4543348 | J3: 68913813 | K3: 266708794 | L3: 1021586781 | M3: 2.7 | N3: 2758284.3
A4: Pct Change | C4: =(C3-C2)/C2 -> 0.059179527 | D4: =(D3-D2)/D2 -> 0.069704244 | E4: =(E3-E2)/E2 -> 0.0048357506 | F4: =(F3-F2)/F2 -> 0.0073130441 | G4: =(G3-G2)/G2 -> 0.016659012 | H4: =(H3-H2)/H2 -> 0.034719242 | I4: =(I3-I2)/I2 -> 0.012234557 | J4: =(J3-J2)/J2 -> 0.23089062 | ... N4: =(N3-N2)/N2 -> 0.05067059
A6: LYNN HAVEN | B6: 2024 | C6: 2574134674 | D6: 2255670966 | E6: 82490108 | F6: 59406713 | G6: 125819711 | H6: 113455278 | I6: 11215206 | J6: 87711434 | K6: 480098450 | L6: 1775572516 | M6: 4.05 | N6: 7191068.7
A7: LYNN HAVEN | B7: 2025 | C7: 2683265349 | D7: 2398498935 | E7: 82395755 | F7: 59729329 | G7: 126695283 | H7: 116406652 | I7: 11658553 | J7: 106757461 | K7: 503643033 | L7: 1894855902 | M7: 4.05 | N7: 7674166.4
A8: Pct Change | C8: =(C7-C6)/C6 -> 0.042395091 | D8: =(D7-D6)/D6 -> 0.063319505 | E8: =(E7-E6)/E6 -> -0.0011438099 | F8: =(F7-F6)/F6 -> 0.0054306321 | G8: =(G7-G6)/G6 -> 0.0069589414 | H8: =(H7-H6)/H6 -> 0.026013545 | I8: =(I7-I6)/I6 -> 0.039530883 | J8: =(J7-J6)/J6 -> 0.21714418 | ... N8: =(N7-N6)/N6 -> 0.067180239
A10: MEXICO BEACH | B10: 2024 | C10: 1088322382 | D10: 822749060 | E10: 34031612 | F10: 1489825 | G10: 9675000 | H10: 9056019 | I10: 1132345 | J10: 6212234 | K10: 61597035 | L10: 761152025 | M10: 5.75 | N10: 4376624.1
A11: MEXICO BEACH | B11: 2025 | C11: 1254126450 | D11: 958551375 | E11: 34126452 | F11: 1533376 | G11: 9850000 | H11: 9440037 | I11: 1192219 | J11: 7911021 | K11: 64053105 | L11: 894498270 | M11: 5.25 | N11: 4696115.9
A12: Pct Change | C12: =(C11-C10)/C10 -> 0.1523483 | D12: =(D11-D10)/D10 -> 0.16505922 | E12: =(E11-E10)/E10 -> 0.0027868207 | F12: =(F11-F10)/F10 -> 0.029232292 | G12: =(G11-G10)/G10 -> 0.018087855 | H12: =(H11-H10)/H10 -> 0.042404726 | I12: =(I11-I10)/I10 -> 0.052876111 | J12: =(J11-J10)/J10 -> 0.27345831 | ... N12: =(N11-N10)/N10 -> 0.072999591
A14: PANAMA CITY | B14: 2024 | C14: 5481353472 | D14: 4790416345 | E14: 415107208 | F14: 280260293 | G14: 180955555 | H14: 147484162 | I14: 19747912 | J14: 91891135 | K14: 1135446265 | L14: 3654970080 | M14: 4.7999 | N14: 17543491
A15: PANAMA CITY | B15: 2025 | C15: 5799104026 | D15: 5186465775 | E15: 455902103 | F15: 300066046 | G15: 186341211 | H15: 156990053 | I15: 21712573 | J15: 117184183 | K15: 1238196169 | L15: 3948269606 | M15: 4.7999 | N15: 18951299
A16: Pct Change | C16: =(C15-C14)/C14 -> 0.05796936 | D16: =(D15-D14)/D14 -> 0.082675367 | E16: =(E15-E14)/E14 -> 0.098275564 | F16: =(F15-F14)/F14 -> 0.070669137 | G16: =(G15-G14)/G14 -> 0.029762314 | H16: =(H15-H14)/H14 -> 0.064453639 | I16: =(I15-I14)/I14 -> 0.099487024 | J16: =(J15-J14)/J14 -> 0.27525014 | ... N16: =(N15-N14)/N14 -> 0.080246765
A18: SPRINGFIELD | B18: 2024 | C18: 609267817 | D18: 533881401 | E18: 38608983 | F18: 26483972 | G18: 35912205 | H18: 26087903 | I18: 2579316 | J18: 11105646 | K18: 140778025 | L18: 393103376 | M18: 4.865 | N18: 1912447.9
A19: SPRINGFIELD | B19: 2025 | C19: 648691988 | D19: 574177183 | E19: 38271282 | F19: 27659255 | G19: 36321820 | H19: 28020608 | I19: 2674668 | J19: 12917715 | K19: 145865348 | L19: 428311835 | M19: 4.865 | N19: 2083737.1
A20: Pct Change | C20: =(C19-C18)/C18 -> 0.064707457 | D20: =(D19-D18)/D18 -> 0.075477029 | E20: =(E19-E18)/E18 -> -0.008746695 | F20: =(F19-F18)/F18 -> 0.044377143 | G20: =(G19-G18)/G18 -> 0.011406011 | H20: =(H19-H18)/H18 -> 0.074084337 | I20: =(I19-I18)/I18 -> 0.03696794 | J20: =(J19-J18)/J18 -> 0.16316647 | ... N20: =(N19-N18)/N18 -> 0.089565395
A22: Total Municipal | B22: 2024 | C22: =C2+C6+C10+C14+C18 -> 11093085211 | D22: =D2+D6+D10+D14+D18 -> 9607065219 | E22: =E2+E6+E10+E14+E18 -> 588319282 | F22: =F2+F6+F10+F14+F18 -> 387133233 | G22: =G2+G6+G10+G14+G18 -> 434065517 | H22: =H2+H6+H10+H14+H18 -> 366038288 | I22: =I2+I6+I10+I14+I18 -> 39163213 | J22: =J2+J6+J10+J14+J18 -> 252907400 | ... L22: =L2+L6+L10+L14+L18 -> 7539438286 | N22: =N2+N6+N10+N14+N18 -> 33648892
B23: 2025 | C23: =C3+C7+C11+C15+C19 -> 11804495652 | D23: =D3+D7+D11+D15+D19 -> 10405988843 | E23: =E3+E7+E11+E15+E19 -> 628864400 | F23: =F3+F7+F11+F15+F19 -> 408622985 | G23: =G3+G7+G11+G15+G19 -> 442272452 | H23: =H3+H7+H11+H15+H19 -> 383241058 | I23: =I3+I7+I11+I15+I19 -> 41781361 | J23: =J3+J7+J11+J15+J19 -> 313684193 | ... L23: =L3+L7+L11+L15+L19 -> 8187522394 | N23: =N3+N7+N11+N15+N19 -> 36163603
A24: Pct Change | C24: =(C23-C22)/C22 -> 0.064130981 | D24: =(D23-D22)/D22 -> 0.083160008 | E24: =(E23-E22)/E22 -> 0.068916861 | F24: =(F23-F22)/F22 -> 0.055509964 | G24: =(G23-G22)/G22 -> 0.018907134 | H24: =(H23-H22)/H22 -> 0.046997187 | I24: =(I23-I22)/I22 -> 0.066852227 | J24: =(J23-J22)/J22 -> 0.24031243 | ... L24: =(L23-L22)/L22 -> 0.085959203 | N24: =(N23-N22)/N22 -> 0.074733828
K26: Effective Millage Rate | L26: 2024 | M26: =(M2+M6+M10+M14+M18)/5 -> 4.44298
L27: 2025 | M27: =(M3+M7+M11+M15+M19)/5 -> 4.33298
K28: Percent change | M28: =(M27-M26)/M26 -> -0.024758158

Sheet Bradford
A1: Municipality | B1: Year | C1: Just Value | D1: Assessed Value | E1: Government Exemption Value | F1: Institutional Exemption Value | G1: Homestead Exemption Value | H1: Additional 25,000 Homestead Exemption Value | I1: Senior Homestead Exemptions | J1: Other Exemptions | K1: Total Exemption Value | L1: Total Taxable Value | M1: City Millage Rate | N1: Taxes Levied
A2: BROOKER | B2: 2024 | C2: 25779315 | D2: 19967364 | E2: 1556951 | F2: 644831 | G2: 2670209 | H2: 1891504 | I2: 0 | J2: 183233 | K2: 6946728 | L2: 13020636 | M2: 0.2503 | N2: 3259.0652
A3: BROOKER | B3: 2025 | C3: 27696126 | D3: 21159689 | E3: 558005 | F3: 1577281 | G3: 2645506 | H3: 1999720 | I3: 0 | J3: 203986 | K3: 6984498 | L3: 14175191 | M3: 0.237 | N3: 3359.5203
A4: Pct Change | C4: =(C3-C2)/C2 -> 0.074354613 | D4: =(D3-D2)/D2 -> 0.059713691 | E4: =(E3-E2)/E2 -> -0.64160401 | F4: =(F3-F2)/F2 -> 1.4460378 | G4: =(G3-G2)/G2 -> -0.0092513358 | H4: =(H3-H2)/H2 -> 0.057211616 | I4: =(I3-I2)/I2 -> #DIV/0! | J4: =(J3-J2)/J2 -> 0.11326017 | ... N4: =(N3-N2)/N2 -> 0.030823279
A6: HAMPTON | B6: 2024 | C6: 25501783 | D6: 19403988 | E6: 260463 | F6: 313335 | G6: 2920835 | H6: 1297859 | I6: 0 | J6: 322732 | K6: 5115224 | L6: 14288764 | M6: 2 | N6: 28577.528
A7: HAMPTON | B7: 2025 | C7: 27884950 | D7: 21080460 | E7: 273192 | F7: 310084 | G7: 2834555 | H7: 1329711 | I7: 0 | J7: 357856 | K7: 5105398 | L7: 15975062 | M7: 2.0623 | N7: 32945.37
A8: Pct Change | C8: =(C7-C6)/C6 -> 0.093450995 | D8: =(D7-D6)/D6 -> 0.086398322 | E8: =(E7-E6)/E6 -> 0.048870665 | F8: =(F7-F6)/F6 -> -0.010375477 | G8: =(G7-G6)/G6 -> -0.029539498 | H8: =(H7-H6)/H6 -> 0.024541957 | I8: =(I7-I6)/I6 -> #DIV/0! | J8: =(J7-J6)/J6 -> 0.10883334 | ... N8: =(N7-N6)/N6 -> 0.15284185
A10: LAWTEY | B10: 2024 | C10: 42485919 | D10: 33207797 | E10: 1354353 | F10: 1635931 | G10: 4055108 | H10: 2436809 | I10: 0 | J10: 1198834 | K10: 10681035 | L10: 22526762 | M10: 2.2498 | N10: 50680.709
A11: LAWTEY | B11: 2025 | C11: 45159417 | D11: 35194445 | E11: 1390885 | F11: 1631962 | G11: 4060312 | H11: 2592831 | I11: 0 | J11: 1277619 | K11: 10953609 | L11: 24240836 | M11: 2.2512 | N11: 54570.97
A12: Pct Change | C12: =(C11-C10)/C10 -> 0.062926684 | D12: =(D11-D10)/D10 -> 0.059824745 | E12: =(E11-E10)/E10 -> 0.026973765 | F12: =(F11-F10)/F10 -> -0.0024261414 | G12: =(G11-G10)/G10 -> 0.0012833197 | H12: =(H11-H10)/H10 -> 0.064027177 | I12: =(I11-I10)/I10 -> #DIV/0! | J12: =(J11-J10)/J10 -> 0.065718023 | ... N12: =(N11-N10)/N10 -> 0.07676019
A14: STARKE | B14: 2024 | C14: 464667886 | D14: 393478210 | E14: 25979775 | F14: 18877501 | G14: 29140984 | H14: 20484485 | I14: 2034521 | J14: 10958732 | K14: 107475998 | L14: 286002212 | M14: 4.3879 | N14: 1254949.1
A15: STARKE | B15: 2025 | C15: 500932532 | D15: 425883132 | E15: 26361188 | F15: 19089879 | G15: 29436514 | H15: 21831466 | I15: 1978647 | J15: 13113709 | K15: 111811403 | L15: 314071729 | M15: 4.3879 | N15: 1378115.3
A16: Pct Change | C16: =(C15-C14)/C14 -> 0.078044227 | D16: =(D15-D14)/D14 -> 0.082355061 | E16: =(E15-E14)/E14 -> 0.014681151 | F16: =(F15-F14)/F14 -> 0.011250324 | G16: =(G15-G14)/G14 -> 0.010141387 | H16: =(H15-H14)/H14 -> 0.065756156 | I16: =(I15-I14)/I14 -> -0.027462975 | J16: =(J15-J14)/J14 -> 0.19664474 | ... N16: =(N15-N14)/N14 -> 0.098144405
A18: Total Municipal | B18: 2024 | C18: =C2+C6+C10+C14 -> 558434903 | D18: =D2+D6+D10+D14 -> 466057359 | E18: =E2+E6+E10+E14 -> 29151542 | F18: =F2+F6+F10+F14 -> 21471598 | G18: =G2+G6+G10+G14 -> 38787136 | H18: =H2+H6+H10+H14 -> 26110657 | I18: =I2+I6+I10+I14 -> 2034521 | J18: =J2+J6+J10+J14 -> 12663531 | ... L18: =L2+L6+L10+L14 -> 335838374 | N18: =N2+N6+N10+N14 -> 1337466.4
B19: 2025 | C19: =C3+C7+C11+C15 -> 601673025 | D19: =D3+D7+D11+D15 -> 503317726 | E19: =E3+E7+E11+E15 -> 28583270 | F19: =F3+F7+F11+F15 -> 22609206 | G19: =G3+G7+G11+G15 -> 38976887 | H19: =H3+H7+H11+H15 -> 27753728 | I19: =I3+I7+I11+I15 -> 1978647 | J19: =J3+J7+J11+J15 -> 14953170 | ... L19: =L3+L7+L11+L15 -> 368462818 | N19: =N3+N7+N11+N15 -> 1468991.2
A20: Pct Change | C20: =(C19-C18)/C18 -> 0.077427327 | D20: =(D19-D18)/D18 -> 0.079948028 | E20: =(E19-E18)/E18 -> -0.01949372 | F20: =(F19-F18)/F18 -> 0.05298199 | G20: =(G19-G18)/G18 -> 0.0048921117 | H20: =(H19-H18)/H18 -> 0.062927218 | I20: =(I19-I18)/I18 -> -0.027462975 | J20: =(J19-J18)/J18 -> 0.18080573 | ... L20: =(L19-L18)/L18 -> 0.097143288 | N20: =(N19-N18)/N18 -> 0.098338763
K22: Effective Millage Rate | L22: 2024 | M22: =(M2+M6+M10+M14)/4 -> 2.222
L23: 2025 | M23: =(M3+M7+M11+M15)/4 -> 2.2346
K24: Percent change | M24: =(M23-M22)/M22 -> 0.0056705671

Sheet Brevard
A1: Municipality | B1: Year | C1: Just Value | D1: Assessed Value | E1: Government Exemption Value | F1: Institutional Exemption Value | G1: Homestead Exemption Value | H1: Additional 25,000 Homestead Exemption Value | I1: Senior Homestead Exemptions | J1: Other Exemptions | K1: Total Exemption Value | L1: Total Taxable Value | M1: City Millage Rate | N1: Taxes Levied
A2: CAPE CANAVERAL | B2: 2024 | C2: 2853422598 | D2: 2293734258 | E2: 44503470 | F2: 13059110 | G2: 61661440 | H2: 58968110 | I2: 3553290 | J2: 34466781 | K2: 216212201 | L2: 2077522057 | M2: 3.2 | N2: 6648070.6
A3: CAPE CANAVERAL | B3: 2025 | C3: 2775635592 | D3: 2362601682 | E3: 45677100 | F3: 13811930 | G3: 61563490 | H3: 60846596 | I3: 3531874 | J3: 39237919 | K3: 224668909 | L3: 2137932773 | M3: 3.1018 | N3: 6631439.9
A4: Pct Change | C4: =(C3-C2)/C2 -> -0.027260948 | D4: =(D3-D2)/D2 -> 0.030024151 | E4: =(E3-E2)/E2 -> 0.026371651 | F4: =(F3-F2)/F2 -> 0.057647114 | G4: =(G3-G2)/G2 -> -0.001588513 | H4: =(H3-H2)/H2 -> 0.031855964 | I4: =(I3-I2)/I2 -> -0.0060270904 | J4: =(J3-J2)/J2 -> 0.13842714 | ... N4: =(N3-N2)/N2 -> -0.002501584
A6: COCOA | B6: 2024 | C6: 2946095087 | D6: 2369377357 | E6: 101891385 | F6: 203808827 | G6: 97204070 | H6: 75957800 | I6: 6105660 | J6: 43155939 | K6: 528123681 | L6: 1841253676 | M6: 6.9532 | N6: 12802605
A7: COCOA | B7: 2025 | C7: 3044438408 | D7: 2549486898 | E7: 102215258 | F7: 221558683 | G7: 96560420 | H7: 79642835 | I7: 6192610 | J7: 49393546 | K7: 555563352 | L7: 1993923546 | M7: 6.9532 | N7: 13864149
A8: Pct Change | C8: =(C7-C6)/C6 -> 0.033380905 | D8: =(D7-D6)/D6 -> 0.076015558 | E8: =(E7-E6)/E6 -> 0.0031786102 | F8: =(F7-F6)/F6 -> 0.087090713 | G8: =(G7-G6)/G6 -> -0.0066216363 | H8: =(H7-H6)/H6 -> 0.048514241 | I8: =(I7-I6)/I6 -> 0.014240885 | J8: =(J7-J6)/J6 -> 0.14453647 | ... N8: =(N7-N6)/N6 -> 0.082916261
A10: COCOA BEACH | B10: 2024 | C10: 4959316702 | D10: 3721069902 | E10: 103290010 | F10: 205432044 | G10: 95600000 | H10: 94536480 | I10: 4085990 | J10: 53569558 | K10: 556514082 | L10: 3164555820 | M10: 6.1644 | N10: 19507588
A11: COCOA BEACH | B11: 2025 | C11: 4831619397 | D11: 3878156547 | E11: 112301530 | F11: 210687999 | G11: 93850000 | H11: 95677744 | I11: 3819300 | J11: 62324983 | K11: 578661556 | L11: 3299494991 | M11: 6 | N11: 19796970
A12: Pct Change | C12: =(C11-C10)/C10 -> -0.025748972 | D12: =(D11-D10)/D10 -> 0.042215451 | E12: =(E11-E10)/E10 -> 0.087244836 | F12: =(F11-F10)/F10 -> 0.025584884 | G12: =(G11-G10)/G10 -> -0.018305439 | H12: =(H11-H10)/H10 -> 0.012072207 | I12: =(I11-I10)/I10 -> -0.065269372 | J12: =(J11-J10)/J10 -> 0.16344031 | ... N12: =(N11-N10)/N10 -> 0.014834333
A14: GRANT-VALKARIA | B14: 2024 | C14: 1294835730 | D14: 906075620 | E14: 36175620 | F14: 7975630 | G14: 46415720 | H14: 45746360 | I14: 2153390 | J14: 29930127 | K14: 168396847 | L14: 737678773 | M14: 1.3038 | N14: 961785.58
A15: GRANT-VALKARIA | B15: 2025 | C15: 1414724616 | D15: 1018716816 | E15: 37739690 | F15: 8526160 | G15: 50366890 | H15: 51194700 | I15: 2354640 | J15: 40924912 | K15: 191106992 | L15: 827609824 | M15: 1.3038 | N15: 1079037.7
A16: Pct Change | C16: =(C15-C14)/C14 -> 0.092590035 | D16: =(D15-D14)/D14 -> 0.12431765 | E16: =(E15-E14)/E14 -> 0.043235472 | F16: =(F15-F14)/F14 -> 0.069026522 | G16: =(G15-G14)/G14 -> 0.085125686 | H16: =(H15-H14)/H14 -> 0.11909887 | I16: =(I15-I14)/I14 -> 0.093457293 | J16: =(J15-J14)/J14 -> 0.36734842 | ... N16: =(N15-N14)/N14 -> 0.12191086
A18: INDIALANTIC | B18: 2024 | C18: 1027102555 | D18: 734333605 | E18: 11094810 | F18: 6777830 | G18: 25575000 | H18: 25496320 | I18: 0 | J18: 12776150 | K18: 81720110 | L18: 652613495 | M18: 5.9999 | N18: 3915615.7
A19: INDIALANTIC | B19: 2025 | C19: 1076166337 | D19: 790904157 | E19: 12094130 | F19: 7373120 | G19: 25225000 | H19: 25882690 | I19: 0 | J19: 14043861 | K19: 84618801 | L19: 706285356 | M19: 6.2388 | N19: 4406373.1
A20: Pct Change | C20: =(C19-C18)/C18 -> 0.047769117 | D20: =(D19-D18)/D18 -> 0.077036583 | E20: =(E19-E18)/E18 -> 0.090070943 | F20: =(F19-F18)/F18 -> 0.087828995 | G20: =(G19-G18)/G18 -> -0.013685239 | H20: =(H19-H18)/H18 -> 0.015153952 | I20: =(I19-I18)/I18 -> #DIV/0! | J20: =(J19-J18)/J18 -> 0.099224806 | ... N20: =(N19-N18)/N18 -> 0.12533338
A22: INDIAN HARBOUR | B22: 2024 | C22: 2266359980 | D22: 1629950420 | E22: 21958834 | F22: 9869630 | G22: 69169790 | H22: 68687760 | I22: 3117780 | J22: 36367015 | K22: 209170809 | L22: 1420779611 | M22: 5.5168 | N22: 7838157
A23: INDIAN HARBOUR | B23: 2025 | C23: 2250646191 | D23: 1698163781 | E23: 22460911 | F23: 11216540 | G23: 68075000 | H23: 69661530 | I23: 2845756 | J23: 40856761 | K23: 215116498 | L23: 1483047283 | M23: 5.5099 | N23: 8171442.2
A24: Pct Change | C24: =(C23-C22)/C22 -> -0.0069334921 | D24: =(D23-D22)/D22 -> 0.041849961 | E24: =(E23-E22)/E22 -> 0.022864465 | F24: =(F23-F22)/F22 -> 0.13647016 | G24: =(G23-G22)/G22 -> -0.015827574 | H24: =(H23-H22)/H22 -> 0.014176762 | I24: =(I23-I22)/I22 -> -0.087249261 | J24: =(J23-J22)/J22 -> 0.12345654 | ... N24: =(N23-N22)/N22 -> 0.042520872
A26: MALABAR | B26: 2024 | C26: 748984435 | D26: 531252095 | E26: 11306590 | F26: 9948940 | G26: 24598160 | H26: 24013600 | I26: 1153220 | J26: 17648732 | K26: 88669242 | L26: 442582853 | M26: 4.5 | N26: 1991622.8
A27: MALABAR | B27: 2025 | C27: 780752360 | D27: 561392960 | E27: 12188100 | F27: 10414330 | G27: 24923830 | H27: 25107252 | I27: 1106340 | J27: 21892777 | K27: 95632629 | L27: 465760331 | M27: 4.5 | N27: 2095921.5
A28: Pct Change | C28: =(C27-C26)/C26 -> 0.042414666 | D28: =(D27-D26)/D26 -> 0.056735522 | E28: =(E27-E26)/E26 -> 0.077964267 | F28: =(F27-F26)/F26 -> 0.046777848 | G28: =(G27-G26)/G26 -> 0.013239608 | H28: =(H27-H26)/H26 -> 0.045543026 | I28: =(I27-I26)/I26 -> -0.040651393 | J28: =(J27-J26)/J26 -> 0.24047308 | ... N28: =(N27-N26)/N26 -> 0.052368676
A30: MELBOURNE | B30: 2024 | C30: 14723083528 | D30: 11497503648 | E30: 700467224 | F30: 1211127613 | G30: 462523690 | H30: 407123230 | I30: 25621380 | J30: 250737540 | K30: 3057600677 | L30: 8439902971 | M30: 6.5466 | N30: 55252669
A31: MELBOURNE | B31: 2025 | C31: 14953480635 | D31: 12179756295 | E31: 753491718 | F31: 1338673997 | G31: 459344880 | H31: 420820262 | I31: 25433450 | J31: 276020902 | K31: 3273785209 | L31: 8905971086 | M31: 7.0112 | N31: 62441544
A32: Pct Change | C32: =(C31-C30)/C30 -> 0.015648699 | D32: =(D31-D30)/D30 -> 0.059339198 | E32: =(E31-E30)/E30 -> 0.075698751 | F32: =(F31-F30)/F30 -> 0.10531209 | G32: =(G31-G30)/G30 -> -0.0068727507 | H32: =(H31-H30)/H30 -> 0.033643455 | I32: =(I31-I30)/I30 -> -0.0073348898 | J32: =(J31-J30)/J30 -> 0.10083597 | ... N32: =(N31-N30)/N30 -> 0.13010911
A34: MELBOURNE BECH | B34: 2024 | C34: 1148895515 | D34: 741930105 | E34: 10222240 | F34: 14576110 | G34: 27400000 | H34: 27354580 | I34: 850000 | J34: 9336719 | K34: 89739649 | L34: 652190456 | M34: 4.477 | N34: 2919856.7
A35: MELBOURNE BECH | B35: 2025 | C35: 1142304024 | D35: 783202534 | E35: 10540030 | F35: 15567970 | G35: 27225000 | H35: 27970308 | I35: 750000 | J35: 12142613 | K35: 94195921 | L35: 689006613 | M35: 4.6 | N35: 3169430.4
A36: Pct Change | C36: =(C35-C34)/C34 -> -0.0057372415 | D36: =(D35-D34)/D34 -> 0.05562846 | E36: =(E35-E34)/E34 -> 0.031088098 | F36: =(F35-F34)/F34 -> 0.068046962 | G36: =(G35-G34)/G34 -> -0.0063868613 | H36: =(H35-H34)/H34 -> 0.022509137 | I36: =(I35-I34)/I34 -> -0.11764706 | J36: =(J35-J34)/J34 -> 0.30052249 | ... N36: =(N35-N34)/N34 -> 0.085474657
A38: MELBOURNE VILL | B38: 2024 | C38: 135827104 | D38: 91077864 | E38: 448680 | F38: 812132 | G38: 6075000 | H38: 5998200 | I38: 565000 | J38: 2972955 | K38: 16871967 | L38: 74205897 | M38: 6.85 | N38: 508310.39
A39: MELBOURNE VILL | B39: 2025 | C39: 144287915 | D39: 96159905 | E39: 535690 | F39: 823162 | G39: 6125000 | H39: 6216474 | I39: 515000 | J39: 2401958 | K39: 16617284 | L39: 79542621 | M39: 6.419 | N39: 510584.08
A40: Pct Change | C40: =(C39-C38)/C38 -> 0.062291036 | D40: =(D39-D38)/D38 -> 0.05579886 | E40: =(E39-E38)/E38 -> 0.1939244 | F40: =(F39-F38)/F38 -> 0.013581536 | G40: =(G39-G38)/G38 -> 0.0082304527 | H40: =(H39-H38)/H38 -> 0.036389917 | I40: =(I39-I38)/I38 -> -0.088495575 | J40: =(J39-J38)/J38 -> -0.19206379 | ... N40: =(N39-N38)/N38 -> 0.0044730341
A42: PALM BAY | B42: 2024 | C42: 17146177442 | D42: 12224840722 | E42: 193382170 | F42: 545965542 | G42: 896452490 | H42: 792395800 | I42: 0 | J42: 520742282 | K42: 2948938284 | L42: 9275902438 | M42: 6.7339 | N42: 62462999
A43: PALM BAY | B43: 2025 | C43: 17927910488 | D43: 13665444258 | E43: 201017428 | F43: 590414329 | G43: 928216975 | H43: 858738509 | I43: 0 | J43: 691246655 | K43: 3269633896 | L43: 10395810362 | M43: 6.7 | N43: 69651929
A44: Pct Change | C44: =(C43-C42)/C42 -> 0.045592264 | D44: =(D43-D42)/D42 -> 0.11784232 | E44: =(E43-E42)/E42 -> 0.03948274 | F44: =(F43-F42)/F42 -> 0.081413173 | G44: =(G43-G42)/G42 -> 0.03543354 | H44: =(H43-H42)/H42 -> 0.083724206 | I44: =(I43-I42)/I42 -> #DIV/0! | J44: =(J43-J42)/J42 -> 0.32742564 | ... N44: =(N43-N42)/N42 -> 0.11509101
A46: ROCKLEDGE | B46: 2024 | C46: 4574055006 | D46: 3382324376 | E46: 49974210 | F46: 280267970 | G46: 192516760 | H46: 180464570 | I46: 0 | J46: 107410056 | K46: 810633566 | L46: 2571690810 | M46: 5.38 | N46: 13835697
A47: ROCKLEDGE | B47: 2025 | C47: 4704699293 | D47: 3664392893 | E47: 50613650 | F47: 360339980 | G47: 195488380 | H47: 189892899 | I47: 0 | J47: 128079648 | K47: 924414557 | L47: 2739978336 | M47: 5.35 | N47: 14658884
A48: Pct Change | C48: =(C47-C46)/C46 -> 0.028562028 | D48: =(D47-D46)/D46 -> 0.083394875 | E48: =(E47-E46)/E46 -> 0.0127954 | F48: =(F47-F46)/F46 -> 0.28569804 | G48: =(G47-G46)/G46 -> 0.015435643 | H48: =(H47-H46)/H46 -> 0.052244765 | I48: =(I47-I46)/I46 -> #DIV/0! | J48: =(J47-J46)/J46 -> 0.19243628 | ... N48: =(N47-N46)/N46 -> 0.059497369
A50: SATELLITE BEAC | B50: 2024 | C50: 2834009683 | D50: 1971150503 | E50: 122999990 | F50: 58580630 | G50: 86850000 | H50: 86782040 | I50: 2950000 | J50: 65554012 | K50: 423716672 | L50: 1547433831 | M50: 7.9812 | N50: 12350379
A51: SATELLITE BEAC | B51: 2025 | C51: 2856295842 | D51: 2082088522 | E51: 133372040 | F51: 60248760 | G51: 86025000 | H51: 88416202 | I51: 2850000 | J51: 81235129 | K51: 452147131 | L51: 1629941391 | M51: 7.9 | N51: 12876537
A52: Pct Change | C52: =(C51-C50)/C50 -> 0.007863826 | D52: =(D51-D50)/D50 -> 0.056280847 | E52: =(E51-E50)/E50 -> 0.084325617 | F52: =(F51-F50)/F50 -> 0.028475795 | G52: =(G51-G50)/G50 -> -0.0094991364 | H52: =(H51-H50)/H50 -> 0.018830647 | I52: =(I51-I50)/I50 -> -0.033898305 | J52: =(J51-J50)/J50 -> 0.23920911 | ... N52: =(N51-N50)/N50 -> 0.042602587
A54: TITUSVILLE | B54: 2024 | C54: 6441677273 | D54: 4834379833 | E54: 200593616 | F54: 418559275 | G54: 307675550 | H54: 255636460 | I54: 16588330 | J54: 111593734 | K54: 1310646965 | L54: 3523732868 | M54: 6.5817 | N54: 23192153
A55: TITUSVILLE | B55: 2025 | C55: 6715400569 | D55: 5237069189 | E55: 207067620 | F55: 427542045 | G55: 312294250 | H55: 273642134 | I55: 16656258 | J55: 126785319 | K55: 1363987626 | L55: 3873081563 | M55: 6.3 | N55: 24400414
A56: Pct Change | C56: =(C55-C54)/C54 -> 0.04249255 | D56: =(D55-D54)/D54 -> 0.083297004 | E56: =(E55-E54)/E54 -> 0.032274228 | F56: =(F55-F54)/F54 -> 0.021461166 | G56: =(G55-G54)/G54 -> 0.015011593 | H56: =(H55-H54)/H54 -> 0.070434687 | I56: =(I55-I54)/I54 -> 0.004094927 | J56: =(J55-J54)/J54 -> 0.13613296 | ... N56: =(N55-N54)/N54 -> 0.052097847
A58: WEST MELBOURNE | B58: 2024 | C58: 4801699621 | D58: 3734889551 | E58: 37957280 | F58: 193547634 | G58: 166727390 | H58: 156886230 | I58: 7609370 | J58: 101465914 | K58: 664193818 | L58: 3070695733 | M58: 1.8843 | N58: 5786112
A59: WEST MELBOURNE | B59: 2025 | C59: 4883182609 | D59: 4005652329 | E59: 40267013 | F59: 195283603 | G59: 167093580 | H59: 162873077 | I59: 7646084 | J59: 114025566 | K59: 687188923 | L59: 3318463406 | M59: 1.8151 | N59: 6023342.9
A60: Pct Change | C60: =(C59-C58)/C58 -> 0.016969614 | D60: =(D59-D58)/D58 -> 0.072495525 | E60: =(E59-E58)/E58 -> 0.060850857 | F60: =(F59-F58)/F58 -> 0.0089692081 | G60: =(G59-G58)/G58 -> 0.0021963398 | H60: =(H59-H58)/H58 -> 0.038160436 | I60: =(I59-I58)/I58 -> 0.004824841 | J60: =(J59-J58)/J58 -> 0.12378198 | ... N60: =(N59-N58)/N58 -> 0.041000064
A62: Total Municipal | B62: 2024 | C62: =C2+C6+C10+C14+C18+C22+C26+C30+C34+C38+C42+C46+C50+C54+C58 -> 67901542259 | D62: =D2+D6+D10+D14+D18+D22+D26+D30+D34+D38+D42+D46+D50+D54+D58 -> 50663889859 | E62: =E2+E6+E10+E14+E18+E22+E26+E30+E34+E38+E42+E46+E50+E54+E58 -> 1646266129 | F62: =F2+F6+F10+F14+F18+F22+F26+F30+F34+F38+F42+F46+F50+F54+F58 -> 3180308917 | G62: =G2+G6+G10+G14+G18+G22+G26+G30+G34+G38+G42+G46+G50+G54+G58 -> 2566445060 | H62: =H2+H6+H10+H14+H18+H22+H26+H30+H34+H38+H42+H46+H50+H54+H58 -> 2306047540 | I62: =I2+I6+I10+I14+I18+I22+I26+I30+I34+I38+I42+I46+I50+I54+I58 -> 74353410 | J62: =J2+J6+J10+J14+J18+J22+J26+J30+J34+J38+J42+J46+J50+J54+J58 -> 1397727514 | ... L62: =L2+L6+L10+L14+L18+L22+L26+L30+L34+L38+L42+L46+L50+L54+L58 -> 39492741289 | N62: =N2+N6+N10+N14+N18+N22+N26+N30+N34+N38+N42+N46+N50+N54+N58 -> 2.2997362e+08
B63: 2025 | C63: =C3+C7+C11+C15+C19+C23+C27+C31+C35+C39+C43+C47+C51+C55+C59 -> 69501544276 | D63: =D3+D7+D11+D15+D19+D23+D27+D31+D35+D39+D43+D47+D51+D55+D59 -> 54573188766 | E63: =E3+E7+E11+E15+E19+E23+E27+E31+E35+E39+E43+E47+E51+E55+E59 -> 1741581908 | F63: =F3+F7+F11+F15+F19+F23+F27+F31+F35+F39+F43+F47+F51+F55+F59 -> 3472482608 | G63: =G3+G7+G11+G15+G19+G23+G27+G31+G35+G39+G43+G47+G51+G55+G59 -> 2602377695 | H63: =H3+H7+H11+H15+H19+H23+H27+H31+H35+H39+H43+H47+H51+H55+H59 -> 2436583212 | I63: =I3+I7+I11+I15+I19+I23+I27+I31+I35+I39+I43+I47+I51+I55+I59 -> 73701312 | J63: =J3+J7+J11+J15+J19+J23+J27+J31+J35+J39+J43+J47+J51+J55+J59 -> 1700612549 | ... L63: =L3+L7+L11+L15+L19+L23+L27+L31+L35+L39+L43+L47+L51+L55+L59 -> 42545849482 | N63: =N3+N7+N11+N15+N19+N23+N27+N31+N35+N39+N43+N47+N51+N55+N59 -> 2.49778e+08
A64: Pct Change | C64: =(C63-C62)/C62 -> 0.023563559 | D64: =(D63-D62)/D62 -> 0.077161444 | E64: =(E63-E62)/E62 -> 0.05789816 | F64: =(F63-F62)/F62 -> 0.091869595 | G64: =(G63-G62)/G62 -> 0.014000937 | H64: =(H63-H62)/H62 -> 0.056605803 | I64: =(I63-I62)/I62 -> -0.0087702501 | J64: =(J63-J62)/J62 -> 0.2166982 | ... L64: =(L63-L62)/L62 -> 0.077308085 | N64: =(N63-N62)/N62 -> 0.086115876
K66: Effective Millage Rate | L66: 2024 | M66: =(M2+M6+M10+M14+M18+M22+M26+M30+M34+M38+M42+M46+M50+M54+M58)/15 -> 5.3381867
L67: 2025 | M67: =(M3+M7+M11+M15+M19+M23+M27+M31+M35+M39+M43+M47+M51+M55+M59)/15 -> 5.31352
K68: Percent change | M68: =(M67-M66)/M66 -> -0.0046207951

Sheet Broward
A1: Municipality | B1: Year | C1: Just Value | D1: Assessed Value | E1: Government Exemption Value | F1: Institutional Exemption Value | G1: Homestead Exemption Value | H1: Additional 25,000 Homestead Exemption Value | I1: Senior Homestead Exemptions | J1: Other Exemptions | K1: Total Exemption Value | L1: Total Taxable Value | M1: City Millage Rate | N1: Taxes Levied
A2: COCONUT CREEK | B2: 2024 | C2: 10380120499 | D2: 7754940919 | E2: 732053119 | F2: 192356583 | G2: 337283460 | H2: 309981970 | I2: 49356840 | J2: 56614895 | K2: 1677646867 | L2: 6077294052 | M2: 6.8988 | N2: 41926036
A3: COCONUT CREEK | B3: 2025 | C3: 10637595605 | D3: 8170727455 | E3: 740009066 | F3: 190066560 | G3: 335624120 | H3: 321031494 | I3: 51421860 | J3: 67177546 | K3: 1705330646 | L3: 6465396809 | M3: 6.8988 | N3: 44603480
A4: Pct Change | C4: =(C3-C2)/C2 -> 0.024804636 | D4: =(D3-D2)/D2 -> 0.053615694 | E4: =(E3-E2)/E2 -> 0.010867991 | F4: =(F3-F2)/F2 -> -0.011905093 | G4: =(G3-G2)/G2 -> -0.0049197195 | H4: =(H3-H2)/H2 -> 0.035645699 | I4: =(I3-I2)/I2 -> 0.041838578 | J4: =(J3-J2)/J2 -> 0.18657018 | ... N4: =(N3-N2)/N2 -> 0.063861112
A6: COOPER CITY | B6: 2024 | C6: 8181523873 | D6: 5301649893 | E6: 224582440 | F6: 168049738 | G6: 226952670 | H6: 226638060 | I6: 13500420 | J6: 53960500 | K6: 913683828 | L6: 4387966065 | M6: 5.855 | N6: 25691541
A7: COOPER CITY | B7: 2025 | C7: 8615816141 | D7: 5665250711 | E7: 227048460 | F7: 177068068 | G7: 225977740 | H7: 232215504 | I7: 13877558 | J7: 63775434 | K7: 939962764 | L7: 4725287947 | M7: 5.845 | N7: 27619308
A8: Pct Change | C8: =(C7-C6)/C6 -> 0.053082076 | D8: =(D7-D6)/D6 -> 0.068582578 | E8: =(E7-E6)/E6 -> 0.010980467 | F8: =(F7-F6)/F6 -> 0.053664648 | G8: =(G7-G6)/G6 -> -0.0042957415 | H8: =(H7-H6)/H6 -> 0.024609476 | I8: =(I7-I6)/I6 -> 0.027935279 | J8: =(J7-J6)/J6 -> 0.18189109 | ... N8: =(N7-N6)/N6 -> 0.075035075
A10: CORAL SPRINGS | B10: 2024 | C10: 24679358532 | D10: 17768290242 | E10: 936031970 | F10: 270981958 | G10: 638880740 | H10: 608327480 | I10: 37568730 | J10: 207617934 | K10: 2699408812 | L10: 15068881430 | M10: 6.0232 | N10: 90762887
A11: CORAL SPRINGS | B11: 2025 | C11: 25737677200 | D11: 18926693500 | E11: 954639830 | F11: 302049190 | G11: 635586250 | H11: 624789456 | I11: 39122972 | J11: 239741956 | K11: 2795929654 | L11: 16130763846 | M11: 6.0232 | N11: 97158817
A12: Pct Change | C12: =(C11-C10)/C10 -> 0.042882746 | D12: =(D11-D10)/D10 -> 0.065194976 | E12: =(E11-E10)/E10 -> 0.019879513 | F12: =(F11-F10)/F10 -> 0.11464687 | G12: =(G11-G10)/G10 -> -0.0051566588 | H12: =(H11-H10)/H10 -> 0.027061043 | I12: =(I11-I10)/I10 -> 0.041370629 | J12: =(J11-J10)/J10 -> 0.15472662 | ... N12: =(N11-N10)/N10 -> 0.070468563
A14: DANIA | B14: 2024 | C14: 9374800906 | D14: 7720986244 | E14: 287273450 | F14: 128916005 | G14: 140892540 | H14: 132553750 | I14: 23968680 | J14: 40340173 | K14: 753944598 | L14: 6967041646 | M14: 5.9998 | N14: 41800856
A15: DANIA | B15: 2025 | C15: 10487876241 | D15: 8735070688 | E15: 291905690 | F15: 164787944 | G15: 141239830 | H15: 137848786 | I15: 25209050 | J15: 44274655 | K15: 805265955 | L15: 7929804733 | M15: 5.9998 | N15: 47577242
A16: Pct Change | C16: =(C15-C14)/C14 -> 0.11873056 | D16: =(D15-D14)/D14 -> 0.13134131 | E16: =(E15-E14)/E14 -> 0.016124846 | F16: =(F15-F14)/F14 -> 0.27825823 | G16: =(G15-G14)/G14 -> 0.0024649282 | H16: =(H15-H14)/H14 -> 0.039946331 | I16: =(I15-I14)/I14 -> 0.051749617 | J16: =(J15-J14)/J14 -> 0.097532601 | ... N16: =(N15-N14)/N14 -> 0.13818822
A18: DAVIE | B18: 2024 | C18: 24846174113 | D18: 17965176142 | E18: 904290114 | F18: 1034765237 | G18: 518433810 | H18: 498582010 | I18: 25178010 | J18: 150159992 | K18: 3131409173 | L18: 14833766969 | M18: 5.625 | N18: 83439939
A19: DAVIE | B19: 2025 | C19: 26687865638 | D19: 19326668389 | E19: 915482424 | F19: 1106237634 | G19: 518011240 | H19: 515098532 | I19: 26018428 | J19: 165110627 | K19: 3245958885 | L19: 16080709504 | M19: 5.625 | N19: 90453991
A20: Pct Change | C20: =(C19-C18)/C18 -> 0.074123747 | D20: =(D19-D18)/D18 -> 0.075785076 | E20: =(E19-E18)/E18 -> 0.012376902 | F20: =(F19-F18)/F18 -> 0.069071123 | G20: =(G19-G18)/G18 -> -0.00081508959 | H20: =(H19-H18)/H18 -> 0.033126991 | I20: =(I19-I18)/I18 -> 0.033379048 | J20: =(J19-J18)/J18 -> 0.099564703 | ... N20: =(N19-N18)/N18 -> 0.084061084
A22: DEERFIELD BCH | B22: 2024 | C22: 17184777805 | D22: 13021583642 | E22: 544998724 | F22: 238294293 | G22: 447481770 | H22: 373792480 | I22: 68463310 | J22: 91054384 | K22: 1764084961 | L22: 11257498681 | M22: 6.0018 | N22: 67565256
A23: DEERFIELD BCH | B23: 2025 | C23: 18113662464 | D23: 13988777933 | E23: 577204508 | F23: 248199079 | G23: 446371450 | H23: 390999342 | I23: 72453998 | J23: 100832310 | K23: 1836060687 | L23: 12152717246 | M23: 6.0018 | N23: 72938178
A24: Pct Change | C24: =(C23-C22)/C22 -> 0.054052759 | D24: =(D23-D22)/D22 -> 0.074276241 | E24: =(E23-E22)/E22 -> 0.05909332 | F24: =(F23-F22)/F22 -> 0.041565351 | G24: =(G23-G22)/G22 -> -0.0024812631 | H24: =(H23-H22)/H22 -> 0.046033195 | I24: =(I23-I22)/I22 -> 0.05828944 | J24: =(J23-J22)/J22 -> 0.10738556 | ... N24: =(N23-N22)/N22 -> 0.079521978
A26: FT. LAUDERDALE | B26: 2024 | C26: 83812958449 | D26: 66280911703 | E26: 4052785027 | F26: 1376924274 | G26: 964945910 | H26: 925111130 | I26: 96517980 | J26: 339184103 | K26: 7755468424 | L26: 58525443279 | M26: 4.1193 | N26: 2.4108386e+08
A27: FT. LAUDERDALE | B27: 2025 | C27: 89452858419 | D27: 71546908477 | E27: 4209353026 | F27: 1516731164 | G27: 958258340 | H27: 949810270 | I27: 100036472 | J27: 359098474 | K27: 8093287746 | L27: 63453620731 | M27: 4.1193 | N27: 2.613845e+08
A28: Pct Change | C28: =(C27-C26)/C26 -> 0.067291503 | D28: =(D27-D26)/D26 -> 0.079449673 | E28: =(E27-E26)/E26 -> 0.038632199 | F28: =(F27-F26)/F26 -> 0.10153564 | G28: =(G27-G26)/G26 -> -0.0069305128 | H28: =(H27-H26)/H26 -> 0.026698565 | I28: =(I27-I26)/I26 -> 0.036454265 | J28: =(J27-J26)/J26 -> 0.058712572 | ... N28: =(N27-N26)/N26 -> 0.084205726
A30: HALLANDALE | B30: 2024 | C30: 11687074202 | D30: 9219455232 | E30: 203425438 | F30: 101686349 | G30: 205139200 | H30: 188828170 | I30: 55416890 | J30: 38076598 | K30: 792572645 | L30: 8426882587 | M30: 7.5884 | N30: 63946556
A31: HALLANDALE | B31: 2025 | C31: 12162821820 | D31: 10081224510 | E31: 199778218 | F31: 103419367 | G31: 203560450 | H31: 194854348 | I31: 56315618 | J31: 40630115 | K31: 798558116 | L31: 9282666394 | M31: 7.3848 | N31: 68550635
A32: Pct Change | C32: =(C31-C30)/C30 -> 0.040707162 | D32: =(D31-D30)/D30 -> 0.093472907 | E32: =(E31-E30)/E30 -> -0.017929026 | F32: =(F31-F30)/F30 -> 0.017042779 | G32: =(G31-G30)/G30 -> -0.0076959937 | H32: =(H31-H30)/H30 -> 0.031913554 | I32: =(I31-I30)/I30 -> 0.016217583 | J32: =(J31-J30)/J30 -> 0.067062635 | ... N32: =(N31-N30)/N30 -> 0.071998858
A34: HILLSBORO BEAC | B34: 2024 | C34: 2431463949 | D34: 1950100359 | E34: 12105490 | F34: 2222860 | G34: 19825000 | H34: 19781590 | I34: 2100000 | J34: 4594656 | K34: 60629596 | L34: 1889470763 | M34: 3.5 | N34: 6613147.7
A35: HILLSBORO BEAC | B35: 2025 | C35: 2541482247 | D35: 2063908897 | E35: 12620320 | F35: 2445110 | G35: 19650000 | H35: 20174278 | I35: 1950000 | J35: 4502345 | K35: 61342053 | L35: 2002566844 | M35: 3.5 | N35: 7008984
A36: Pct Change | C36: =(C35-C34)/C34 -> 0.04524776 | D36: =(D35-D34)/D34 -> 0.058360349 | E36: =(E35-E34)/E34 -> 0.042528638 | F36: =(F35-F34)/F34 -> 0.099983805 | G36: =(G35-G34)/G34 -> -0.0088272383 | H36: =(H35-H34)/H34 -> 0.019851185 | I36: =(I35-I34)/I34 -> -0.071428571 | J36: =(J35-J34)/J34 -> -0.020090949 | ... N36: =(N35-N34)/N34 -> 0.059855957
A38: HOLLYWOOD | B38: 2024 | C38: 39819299675 | D38: 29684339538 | E38: 2121843811 | F38: 439484306 | G38: 780716330 | H38: 728350170 | I38: 73566590 | J38: 161667706 | K38: 4305628913 | L38: 25378710625 | M38: 7.4479 | N38: 1.890181e+08
A39: HOLLYWOOD | B39: 2025 | C39: 41330317195 | D39: 31747656771 | E39: 2176307460 | F39: 451075163 | G39: 775268870 | H39: 749135550 | I39: 75552974 | J39: 177570207 | K39: 4404910224 | L39: 27342746547 | M39: 7.4293 | N39: 2.0313747e+08
A40: Pct Change | C40: =(C39-C38)/C38 -> 0.037946863 | D40: =(D39-D38)/D38 -> 0.069508612 | E40: =(E39-E38)/E38 -> 0.025668076 | F40: =(F39-F38)/F38 -> 0.026373768 | G40: =(G39-G38)/G38 -> -0.0069775151 | H40: =(H39-H38)/H38 -> 0.028537619 | I40: =(I39-I38)/I38 -> 0.02700117 | J40: =(J39-J38)/J38 -> 0.098365353 | ... N40: =(N39-N38)/N38 -> 0.074698498
A42: LAUD-BY-THE-SE | B42: 2024 | C42: 4936488491 | D42: 3797605211 | E42: 22069250 | F42: 10416889 | G42: 55150000 | H42: 55063290 | I42: 5635230 | J42: 21063230 | K42: 169397889 | L42: 3628207322 | M42: 3.9235 | N42: 14235271
A43: LAUD-BY-THE-SE | B43: 2025 | C43: 4962441547 | D43: 4002120567 | E43: 23260540 | F43: 10426589 | G43: 54825000 | H43: 56322424 | I43: 5966660 | J43: 21205932 | K43: 172007145 | L43: 3830113422 | M43: 3.9 | N43: 14937442
A44: Pct Change | C44: =(C43-C42)/C42 -> 0.0052573922 | D44: =(D43-D42)/D42 -> 0.05385377 | E44: =(E43-E42)/E42 -> 0.053979632 | F44: =(F43-F42)/F42 -> 0.00093118012 | G44: =(G43-G42)/G42 -> -0.005893019 | H44: =(H43-H42)/H42 -> 0.022867032 | I44: =(I43-I42)/I42 -> 0.058813926 | J44: =(J43-J42)/J42 -> 0.0067749343 | ... N44: =(N43-N42)/N42 -> 0.049326135
A46: LAUDERDALE LAK | B46: 2024 | C46: 3827399590 | D46: 2663898410 | E46: 135411560 | F46: 244940199 | G46: 147845230 | H46: 104624930 | I46: 22585430 | J46: 19926112 | K46: 675333461 | L46: 1988564949 | M46: 8.6 | N46: 17101659
A47: LAUDERDALE LAK | B47: 2025 | C47: 4069430402 | D47: 2891824452 | E47: 136669620 | F47: 312492841 | G47: 149528220 | H47: 112083348 | I47: 21299286 | J47: 29026895 | K47: 761100210 | L47: 2130724242 | M47: 8.6 | N47: 18324228
A48: Pct Change | C48: =(C47-C46)/C46 -> 0.063236358 | D48: =(D47-D46)/D46 -> 0.085561086 | E48: =(E47-E46)/E46 -> 0.0092906396 | F48: =(F47-F46)/F46 -> 0.27579239 | G48: =(G47-G46)/G46 -> 0.011383458 | H48: =(H47-H46)/H46 -> 0.071287197 | I48: =(I47-I46)/I46 -> -0.056945739 | J48: =(J47-J46)/J46 -> 0.45672648 | ... N48: =(N47-N46)/N46 -> 0.071488383
A50: LAUDERHILL | B50: 2024 | C50: 8141663574 | D50: 5446152644 | E50: 303090726 | F50: 102529326 | G50: 315367820 | H50: 239138410 | I50: 38698970 | J50: 63106583 | K50: 1061931835 | L50: 4384220809 | M50: 7.9998 | N50: 35072890
A51: LAUDERHILL | B51: 2025 | C51: 8631055892 | D51: 5995580152 | E51: 307983066 | F51: 106544055 | G51: 315564860 | H51: 252948888 | I51: 40263850 | J51: 69553531 | K51: 1092858250 | L51: 4902721902 | M51: 7.4998 | N51: 36769434
A52: Pct Change | C52: =(C51-C50)/C50 -> 0.060109622 | D52: =(D51-D50)/D50 -> 0.1008836 | E52: =(E51-E50)/E50 -> 0.016141503 | F52: =(F51-F50)/F50 -> 0.039156885 | G52: =(G51-G50)/G50 -> 0.00062479425 | H52: =(H51-H50)/H50 -> 0.057750982 | I52: =(I51-I50)/I50 -> 0.040437252 | J52: =(J51-J50)/J50 -> 0.10215967 | ... N52: =(N51-N50)/N50 -> 0.048371951
A54: LAZY LAKE VIL | B54: 2024 | C54: 13686404 | D54: 11482934 | E54: 174100 | F54: 0 | G54: 175000 | H54: 175000 | I54: 25000 | J54: 10055 | K54: 559155 | L54: 10923779 | M54: 6.5 | N54: 71004.564
A55: LAZY LAKE VIL | B55: 2025 | C55: 14429016 | D55: 12118706 | E55: 174100 | G55: 175000 | H55: 180054 | I55: 25000 | J55: 10045 | K55: 564199 | L55: 11554507 | M55: 6.5 | N55: 75104.295
A56: Pct Change | C56: =(C55-C54)/C54 -> 0.054259103 | D56: =(D55-D54)/D54 -> 0.055366686 | E56: =(E55-E54)/E54 -> 0 | F56: =(F55-F54)/F54 -> #DIV/0! | G56: =(G55-G54)/G54 -> 0 | H56: =(H55-H54)/H54 -> 0.02888 | I56: =(I55-I54)/I54 -> 0 | J56: =(J55-J54)/J54 -> -0.00099453008 | ... N56: =(N55-N54)/N54 -> 0.057738993
A58: LIGHTHOUSE PT | B58: 2024 | C58: 6192784173 | D58: 4030292413 | E58: 34226440 | F58: 14936334 | G58: 89971920 | H58: 84221770 | I58: 8349140 | J58: 21909849 | K58: 253615453 | L58: 3776676960 | M58: 4.1329 | N58: 15608628
A59: LIGHTHOUSE PT | B59: 2025 | C59: 6622963396 | D59: 4350907056 | E59: 34294010 | F59: 15406315 | G59: 88735290 | H59: 85989662 | I59: 8698094 | J59: 27081910 | K59: 260205281 | L59: 4090701775 | M59: 4.4207 | N59: 18083765
A60: Pct Change | C60: =(C59-C58)/C58 -> 0.069464592 | D60: =(D59-D58)/D58 -> 0.079551211 | E60: =(E59-E58)/E58 -> 0.0019742047 | F60: =(F59-F58)/F58 -> 0.031465619 | G60: =(G59-G58)/G58 -> -0.013744622 | H60: =(H59-H58)/H58 -> 0.020990915 | I60: =(I59-I58)/I58 -> 0.041795203 | J60: =(J59-J58)/J58 -> 0.23606101 | ... N60: =(N59-N58)/N58 -> 0.15857493
A62: MARGATE | B62: 2024 | C62: 8652051507 | D62: 6034425257 | E62: 164458650 | F62: 109490909 | G62: 376565950 | H62: 306196390 | I62: 37250990 | J62: 77721955 | K62: 1071684844 | L62: 4962740413 | M62: 7.1171 | N62: 35320320
A63: MARGATE | B63: 2025 | C63: 9028505678 | D63: 6417095868 | E63: 169469317 | F63: 111330908 | G63: 375963680 | H63: 320508752 | I63: 39015670 | J63: 83786500 | K63: 1100074827 | L63: 5317021041 | M63: 7.1171 | N63: 37841770
A64: Pct Change | C64: =(C63-C62)/C62 -> 0.043510394 | D64: =(D63-D62)/D62 -> 0.063414591 | E64: =(E63-E62)/E62 -> 0.03046764 | F64: =(F63-F62)/F62 -> 0.016805039 | G64: =(G63-G62)/G62 -> -0.0015993746 | H64: =(H63-H62)/H62 -> 0.046742426 | I64: =(I63-I62)/I62 -> 0.047372701 | J64: =(J63-J62)/J62 -> 0.078028724 | ... N64: =(N63-N62)/N62 -> 0.071388104
A66: MIRAMAR | B66: 2024 | C66: 25291661289 | D66: 17855358629 | E66: 1098717680 | F66: 153527593 | G66: 681540110 | H66: 666229560 | I66: 53890190 | J66: 207909197 | K66: 2861814330 | L66: 14993544299 | M66: 7.1172 | N66: 1.0671205e+08
A67: MIRAMAR | B67: 2025 | C67: 27050919411 | D67: 19071124871 | E67: 1119848130 | F67: 170015274 | G67: 680605830 | H67: 685979982 | I67: 57067526 | J67: 238536665 | K67: 2952053407 | L67: 16119071464 | M67: 7.1172 | N67: 1.1472266e+08
A68: Pct Change | C68: =(C67-C66)/C66 -> 0.06955882 | D68: =(D67-D66)/D66 -> 0.068089713 | E68: =(E67-E66)/E66 -> 0.01923192 | F68: =(F67-F66)/F66 -> 0.1073923 | G68: =(G67-G66)/G66 -> -0.0013708364 | H68: =(H67-H66)/H66 -> 0.02964507 | I68: =(I67-I66)/I66 -> 0.058959451 | J68: =(J67-J66)/J66 -> 0.14731175 | ... N68: =(N67-N66)/N66 -> 0.075067452
A70: N LAUDERDALE | B70: 2024 | C70: 4612171389 | D70: 3127036919 | E70: 120746130 | F70: 156471992 | G70: 175475290 | H70: 149505750 | I70: 13433090 | J70: 21386879 | K70: 637019131 | L70: 2490017788 | M70: 7.4 | N70: 18426132
A71: N LAUDERDALE | B71: 2025 | C71: 4840948910 | D71: 3343769970 | E71: 121294230 | F71: 160810434 | G71: 174944810 | H71: 155590824 | I71: 14439858 | J71: 25541490 | K71: 652621646 | L71: 2691148324 | M71: 7.4 | N71: 19914498
A72: Pct Change | C72: =(C71-C70)/C70 -> 0.049602996 | D72: =(D71-D70)/D70 -> 0.069309399 | E72: =(E71-E70)/E70 -> 0.0045392759 | F72: =(F71-F70)/F70 -> 0.027726636 | G72: =(G71-G70)/G70 -> -0.0030231037 | H72: =(H71-H70)/H70 -> 0.040701271 | I72: =(I71-I70)/I70 -> 0.074946866 | J72: =(J71-J70)/J70 -> 0.19425981 | ... N72: =(N71-N70)/N70 -> 0.080774739
A74: OAKLAND PARK | B74: 2024 | C74: 9159310896 | D74: 6739274966 | E74: 308912011 | F74: 153736052 | G74: 241796030 | H74: 224577680 | I74: 31344310 | J74: 59900552 | K74: 1020266635 | L74: 5719008331 | M74: 5.7243 | N74: 32737319
A75: OAKLAND PARK | B75: 2025 | C75: 9739923017 | D75: 7337844187 | E75: 336659991 | F75: 172030392 | G75: 241460020 | H75: 232711322 | I75: 32255518 | J75: 66816435 | K75: 1081933678 | L75: 6255910509 | M75: 5.6979 | N75: 35645552
A76: Pct Change | C76: =(C75-C74)/C74 -> 0.063390372 | D76: =(D75-D74)/D74 -> 0.088818044 | E76: =(E75-E74)/E74 -> 0.089824866 | F76: =(F75-F74)/F74 -> 0.11899837 | G76: =(G75-G74)/G74 -> -0.0013896423 | H76: =(H75-H74)/H74 -> 0.036217499 | I76: =(I75-I74)/I74 -> 0.029070922 | J76: =(J75-J74)/J74 -> 0.11545608 | ... N76: =(N75-N74)/N74 -> 0.088835407
A78: PARKLAND | B78: 2024 | C78: 12896517051 | D78: 9070627461 | E78: 260871172 | F78: 67419477 | G78: 247000000 | H78: 247000000 | I78: 2475000 | J78: 64612451 | K78: 889378100 | L78: 8181249361 | M78: 4.2979 | N78: 35162192
A79: PARKLAND | B79: 2025 | C79: 13502267184 | D79: 9636896234 | E79: 264516905 | F79: 67618649 | G79: 248650000 | H79: 255831012 | I79: 2625000 | J79: 76805418 | K79: 916046984 | L79: 8720849250 | M79: 4.2979 | N79: 37481338
A80: Pct Change | C80: =(C79-C78)/C78 -> 0.046970056 | D80: =(D79-D78)/D78 -> 0.062428842 | E80: =(E79-E78)/E78 -> 0.013975224 | F80: =(F79-F78)/F78 -> 0.0029542205 | G80: =(G79-G78)/G78 -> 0.0066801619 | H80: =(H79-H78)/H78 -> 0.035753085 | I80: =(I79-I78)/I78 -> 0.060606061 | J80: =(J79-J78)/J78 -> 0.18870925 | ... N80: =(N79-N78)/N78 -> 0.065955683
A82: PEMBROKE PARK | B82: 2024 | C82: 1413965103 | D82: 1282690203 | E82: 41291720 | F82: 47382606 | G82: 5386730 | H82: 3943230 | I82: 512920 | J82: 8093298 | K82: 106610504 | L82: 1176079699 | M82: 8.5 | N82: 9996677.4
A83: PEMBROKE PARK | B83: 2025 | C83: 1569698694 | D83: 1405405124 | E83: 41069770 | F83: 45529018 | G83: 5312790 | H83: 4270130 | I83: 470178 | J83: 8329112 | K83: 104980998 | L83: 1300424126 | M83: 8.5 | N83: 11053605
A84: Pct Change | C84: =(C83-C82)/C82 -> 0.11013963 | D84: =(D83-D82)/D82 -> 0.09566996 | E84: =(E83-E82)/E82 -> -0.0053751696 | F84: =(F83-F82)/F82 -> -0.039119587 | G84: =(G83-G82)/G82 -> -0.013726324 | H84: =(H83-H82)/H82 -> 0.082901581 | I84: =(I83-I82)/I82 -> -0.083330734 | J84: =(J83-J82)/J82 -> 0.029136948 | ... N84: =(N83-N82)/N82 -> 0.10572789
A86: PEMBROKE PINES | B86: 2024 | C86: 32502261206 | D86: 22941913887 | E86: 1523148403 | F86: 293760572 | G86: 1022063970 | H86: 973463130 | I86: 157786790 | J86: 257309410 | K86: 4227532275 | L86: 18714381612 | M86: 5.669 | N86: 1.0609183e+08
A87: PEMBROKE PINES | B87: 2025 | C87: 34329767375 | D87: 24381749396 | E87: 1590425013 | F87: 321800409 | G87: 1017065840 | H87: 1003152678 | I87: 163556418 | J87: 308199516 | K87: 4404199874 | L87: 19977549522 | M87: 5.669 | N87: 1.1325273e+08
A88: Pct Change | C88: =(C87-C86)/C86 -> 0.056227047 | D88: =(D87-D86)/D86 -> 0.062760043 | E88: =(E87-E86)/E86 -> 0.044169439 | F88: =(F87-F86)/F86 -> 0.095451329 | G88: =(G87-G86)/G86 -> -0.0048902321 | H88: =(H87-H86)/H86 -> 0.030498893 | I88: =(I87-I86)/I86 -> 0.036565976 | J88: =(J87-J86)/J86 -> 0.19777787 | ... N88: =(N87-N86)/N86 -> 0.067497176
A90: PLANTATION | B90: 2024 | C90: 22015915324 | D90: 15968916864 | E90: 589253760 | F90: 328427572 | G90: 544294130 | H90: 517654330 | I90: 29888140 | J90: 142964841 | K90: 2152482773 | L90: 13816434091 | M90: 5.8 | N90: 80135318
A91: PLANTATION | B91: 2025 | C91: 23122898943 | D91: 16956570113 | E91: 592441160 | F91: 328542473 | G91: 541157740 | H91: 532095376 | I91: 30421994 | J91: 169760430 | K91: 2194419173 | L91: 14762150940 | M91: 5.7 | N91: 84144260
A92: Pct Change | C92: =(C91-C90)/C90 -> 0.050281063 | D92: =(D91-D90)/D90 -> 0.061848481 | E92: =(E91-E90)/E90 -> 0.0054092145 | F92: =(F91-F90)/F90 -> 0.00034985187 | G92: =(G91-G90)/G90 -> -0.0057623072 | H92: =(H91-H90)/H90 -> 0.027897083 | I92: =(I91-I90)/I90 -> 0.017861734 | J92: =(J91-J90)/J90 -> 0.18742782 | ... N92: =(N91-N90)/N90 -> 0.050027163
A94: POMPANO BEACH | B94: 2024 | C94: 30811618742 | D94: 23846051392 | E94: 1091669379 | F94: 425237111 | G94: 561408120 | H94: 518419900 | I94: 81024410 | J94: 159982390 | K94: 2837741310 | L94: 21008310082 | M94: 5.2443 | N94: 1.1017388e+08
A95: POMPANO BEACH | B95: 2025 | C95: 33161991372 | D95: 26024897193 | E95: 1111672850 | F95: 448518371 | G95: 560072610 | H95: 536844068 | I95: 83853092 | J95: 179110042 | K95: 2920071033 | L95: 23104826160 | M95: 5.2181 | N95: 1.2056329e+08
A96: Pct Change | C96: =(C95-C94)/C94 -> 0.076282024 | D96: =(D95-D94)/D94 -> 0.091371346 | E96: =(E95-E94)/E94 -> 0.018323745 | F96: =(F95-F94)/F94 -> 0.05474889 | G96: =(G95-G94)/G94 -> -0.0023788576 | H96: =(H95-H94)/H94 -> 0.035539083 | I96: =(I95-I94)/I94 -> 0.034911479 | J96: =(J95-J94)/J94 -> 0.11956098 | ... N96: =(N95-N94)/N94 -> 0.094300144
A98: SEA RANCH LAKE | B98: 2024 | C98: 642965562 | D98: 371249392 | E98: 5880 | F98: 1414 | G98: 4150000 | H98: 4150000 | I98: 0 | J98: 519848 | K98: 8827142 | L98: 362422250 | M98: 6.5 | N98: 2355744.6
A99: SEA RANCH LAKE | B99: 2025 | C99: 665023942 | D99: 401213502 | E99: 5880 | F99: 90 | G99: 4325000 | H99: 4449906 | I99: 0 | J99: 556699 | K99: 9337575 | L99: 391875927 | M99: 6 | N99: 2351255.6
A100: Pct Change | C100: =(C99-C98)/C98 -> 0.03430725 | D100: =(D99-D98)/D98 -> 0.08071154 | E100: =(E99-E98)/E98 -> 0 | F100: =(F99-F98)/F98 -> -0.93635078 | G100: =(G99-G98)/G98 -> 0.042168675 | H100: =(H99-H98)/H98 -> 0.072266506 | I100: =(I99-I98)/I98 -> #DIV/0! | J100: =(J99-J98)/J98 -> 0.070888029 | ... N100: =(N99-N98)/N98 -> -0.0019055813
A102: SOUTHWEST RANC | B102: 2024 | C102: 4689662583 | D102: 2803493073 | E102: 69501240 | F102: 138729530 | G102: 53725000 | H102: 53723680 | I102: 3075000 | J102: 23170738 | K102: 341925188 | L102: 2461567885 | M102: 3.9 | N102: 9600114.8
A103: SOUTHWEST RANC | B103: 2025 | C103: 5505413542 | D103: 3125493422 | E103: 73801240 | F103: 143340430 | G103: 53350000 | H103: 54890748 | I103: 3200000 | J103: 27317371 | K103: 355899789 | L103: 2769593633 | M103: 3.9 | N103: 10801415
A104: Pct Change | C104: =(C103-C102)/C102 -> 0.17394662 | D104: =(D103-D102)/D102 -> 0.11485684 | E104: =(E103-E102)/E102 -> 0.0618694 | F104: =(F103-F102)/F102 -> 0.033236615 | G104: =(G103-G102)/G102 -> -0.0069799907 | H104: =(H103-H102)/H102 -> 0.02172353 | I104: =(I103-I102)/I102 -> 0.040650407 | J104: =(J103-J102)/J102 -> 0.1789599 | ... N104: =(N103-N102)/N102 -> 0.12513396
A106: SUNRISE | B106: 2024 | C106: 17894149226 | D106: 13224989219 | E106: 978395780 | F106: 207070376 | G106: 571199740 | H106: 469141150 | I106: 76088760 | J106: 120026422 | K106: 2421922228 | L106: 10803066991 | M106: 6.0543 | N106: 65405008
A107: SUNRISE | B107: 2025 | C107: 18815668712 | D107: 14085370073 | E107: 989357470 | F107: 237200285 | G107: 570906360 | H107: 489799724 | I107: 83474468 | J107: 137064556 | K107: 2507802863 | L107: 11577567210 | M107: 6.0543 | N107: 70094065
A108: Pct Change | C108: =(C107-C106)/C106 -> 0.051498368 | D108: =(D107-D106)/D106 -> 0.065057206 | E108: =(E107-E106)/E106 -> 0.011203738 | F108: =(F107-F106)/F106 -> 0.14550565 | G108: =(G107-G106)/G106 -> -0.00051362068 | H108: =(H107-H106)/H106 -> 0.044034879 | I108: =(I107-I106)/I106 -> 0.097067004 | J108: =(J107-J106)/J106 -> 0.14195319 | ... N108: =(N107-N106)/N106 -> 0.071692624
A110: TAMARAC | B110: 2024 | C110: 11444619679 | D110: 8102828559 | E110: 218376969 | F110: 143890589 | G110: 546507550 | H110: 470468250 | I110: 77611340 | J110: 109992765 | K110: 1566847463 | L110: 6535981096 | M110: 7 | N110: 45751868
A111: TAMARAC | B111: 2025 | C111: 11835865438 | D111: 8606108158 | E111: 219629199 | F111: 207377883 | G111: 546980620 | H111: 491890874 | I111: 79833122 | J111: 121789287 | K111: 1667500985 | L111: 6938607173 | M111: 7 | N111: 48570250
A112: Pct Change | C112: =(C111-C110)/C110 -> 0.034185999 | D112: =(D111-D110)/D110 -> 0.062111594 | E112: =(E111-E110)/E110 -> 0.0057342585 | F112: =(F111-F110)/F110 -> 0.44121922 | G112: =(G111-G110)/G110 -> 0.00086562391 | H112: =(H111-H110)/H110 -> 0.045534686 | I112: =(I111-I110)/I110 -> 0.028627028 | J112: =(J111-J110)/J110 -> 0.10724816 | ... N112: =(N111-N110)/N110 -> 0.061601475
A114: WEST PARK | B114: 2024 | C114: 2050400027 | D114: 1257971157 | E114: 21034710 | F114: 39819330 | G114: 71221740 | H114: 64887330 | I114: 8128830 | J114: 11511251 | K114: 216603191 | L114: 1041367966 | M114: 8.2 | N114: 8539217.3
A115: WEST PARK | B115: 2025 | C115: 2274986526 | D115: 1380843026 | E115: 21253390 | F115: 40842170 | G115: 71660190 | H115: 68081952 | I115: 8879866 | J115: 13491258 | K115: 224208826 | L115: 1156634200 | M115: 7.9 | N115: 9137410.2
A116: Pct Change | C116: =(C115-C114)/C114 -> 0.10953302 | D116: =(D115-D114)/D114 -> 0.097674631 | E116: =(E115-E114)/E114 -> 0.01039615 | F116: =(F115-F114)/F114 -> 0.025687022 | G116: =(G115-G114)/G114 -> 0.0061561259 | H116: =(H115-H114)/H114 -> 0.049233371 | I116: =(I115-I114)/I114 -> 0.092391648 | J116: =(J115-J114)/J114 -> 0.17200624 | ... N116: =(N115-N114)/N114 -> 0.070052422
A118: WESTON | B118: 2024 | C118: 19182581406 | D118: 13830252896 | E118: 455372210 | F118: 378286928 | G118: 371196410 | H118: 370863400 | I118: 23359250 | J118: 76447720 | K118: 1675525918 | L118: 12154726978 | M118: 3.3464 | N118: 40674578
A119: WESTON | B119: 2025 | C119: 20444513162 | D119: 14716596072 | E119: 498429048 | F119: 388344990 | G119: 369425000 | H119: 379828748 | I119: 25352846 | J119: 83546645 | K119: 1744927277 | L119: 12971668795 | M119: 3.3464 | N119: 43408392
A120: Pct Change | C120: =(C119-C118)/C118 -> 0.065785294 | D120: =(D119-D118)/D118 -> 0.064087272 | E120: =(E119-E118)/E118 -> 0.094553065 | F120: =(F119-F118)/F118 -> 0.026588447 | G120: =(G119-G118)/G118 -> -0.0047721636 | H120: =(H119-H118)/H118 -> 0.024174259 | I120: =(I119-I118)/I118 -> 0.085345035 | J120: =(J119-J118)/J118 -> 0.092859866 | ... N120: =(N119-N118)/N118 -> 0.067211861
A122: WILTON MANORS | B122: 2024 | C122: 3659261256 | D122: 2611180426 | E122: 46404770 | F122: 72302124 | G122: 80000000 | H122: 77732360 | I122: 7562710 | J122: 20231437 | K122: 304233401 | L122: 2306947025 | M122: 6.4196 | N122: 14809677
A123: WILTON MANORS | B123: 2025 | C123: 3803199504 | D123: 2791838834 | E123: 46895640 | F123: 74925425 | G123: 80450000 | H123: 80841046 | I123: 8025554 | J123: 21558854 | K123: 312696519 | L123: 2479142315 | M123: 6.227 | N123: 15437619
A124: Pct Change | C124: =(C123-C122)/C122 -> 0.03933533 | D124: =(D123-D122)/D122 -> 0.06918649 | E124: =(E123-E122)/E122 -> 0.010578007 | F124: =(F123-F122)/F122 -> 0.036282489 | G124: =(G123-G122)/G122 -> 0.005625 | H124: =(H123-H122)/H122 -> 0.039992173 | I124: =(I123-I122)/I122 -> 0.061200813 | J124: =(J123-J122)/J122 -> 0.065611602 | ... N124: =(N123-N122)/N122 -> 0.042400794
A126: Total Municipal | B126: 2024 | C126: =C2+C6+C10+C14+C18+C22+C26+C30+C34+C38+C42+C46+C50+C54+C58+C62+C66+C70+C74+C78+C82+C86+C90+C94+C98+C102+C106+C110+C114+C118+C122 -> 462428686481 | D126: =D2+D6+D10+D14+D18+D22+D26+D30+D34+D38+D42+D46+D50+D54+D58+D62+D66+D70+D74+D78+D82+D86+D90+D94+D98+D102+D106+D110+D114+D118+D122 -> 341685125826 | E126: =E2+E6+E10+E14+E18+E22+E26+E30+E34+E38+E42+E46+E50+E54+E58+E62+E66+E70+E74+E78+E82+E86+E90+E94+E98+E102+E106+E110+E114+E118+E122 -> 17502522123 | F126: =F2+F6+F10+F14+F18+F22+F26+F30+F34+F38+F42+F46+F50+F54+F58+F62+F66+F70+F74+F78+F82+F86+F90+F94+F98+F102+F106+F110+F114+F118+F122 -> 7042058526 | G126: =G2+G6+G10+G14+G18+G22+G26+G30+G34+G38+G42+G46+G50+G54+G58+G62+G66+G70+G74+G78+G82+G86+G90+G94+G98+G102+G106+G110+G114+G118+G122 -> 10442592170 | H126: =H2+H6+H10+H14+H18+H22+H26+H30+H34+H38+H42+H46+H50+H54+H58+H62+H66+H70+H74+H78+H82+H86+H90+H94+H98+H102+H106+H110+H114+H118+H122 -> 9613126350 | I126: =I2+I6+I10+I14+I18+I22+I26+I30+I34+I38+I42+I46+I50+I54+I58+I62+I66+I70+I74+I78+I82+I86+I90+I94+I98+I102+I106+I110+I114+I118+I122 -> 1124362950 | J126: =J2+J6+J10+J14+J18+J22+J26+J30+J34+J38+J42+J46+J50+J54+J58+J62+J66+J70+J74+J78+J82+J86+J90+J94+J98+J102+J106+J110+J114+J118+J122 -> 2631067924 | ... L126: =L2+L6+L10+L14+L18+L22+L26+L30+L34+L38+L42+L46+L50+L54+L58+L62+L66+L70+L74+L78+L82+L86+L90+L94+L98+L102+L106+L110+L114+L118+L122 -> 293329395783 | N126: =N2+N6+N10+N14+N18+N22+N26+N30+N34+N38+N42+N46+N50+N54+N58+N62+N66+N70+N74+N78+N82+N86+N90+N94+N98+N102+N106+N110+N114+N118+N122 -> 1.6558296e+09
B127: 2025 | C127: =C3+C7+C11+C15+C19+C23+C27+C31+C35+C39+C43+C47+C51+C55+C59+C63+C67+C71+C75+C79+C83+C87+C91+C95+C99+C103+C107+C111+C115+C119+C123 -> 489759884633 | D127: =D3+D7+D11+D15+D19+D23+D27+D31+D35+D39+D43+D47+D51+D55+D59+D63+D67+D71+D75+D79+D83+D87+D91+D95+D99+D103+D107+D111+D115+D119+D123 -> 367188254307 | E127: =E3+E7+E11+E15+E19+E23+E27+E31+E35+E39+E43+E47+E51+E55+E59+E63+E67+E71+E75+E79+E83+E87+E91+E95+E99+E103+E107+E111+E115+E119+E123 -> 18003499571 | F127: =F3+F7+F11+F15+F19+F23+F27+F31+F35+F39+F43+F47+F51+F55+F59+F63+F67+F71+F75+F79+F83+F87+F91+F95+F99+F103+F107+F111+F115+F119+F123 -> 7625176280 | G127: =G3+G7+G11+G15+G19+G23+G27+G31+G35+G39+G43+G47+G51+G55+G59+G63+G67+G71+G75+G79+G83+G87+G91+G95+G99+G103+G107+G111+G115+G119+G123 -> 10410707150 | H127: =H3+H7+H11+H15+H19+H23+H27+H31+H35+H39+H43+H47+H51+H55+H59+H63+H67+H71+H75+H79+H83+H87+H91+H95+H99+H103+H107+H111+H115+H119+H123 -> 9940249078 | I127: =I3+I7+I11+I15+I19+I23+I27+I31+I35+I39+I43+I47+I51+I55+I59+I63+I67+I71+I75+I79+I83+I87+I91+I95+I99+I103+I107+I111+I115+I119+I123 -> 1170682930 | J127: =J3+J7+J11+J15+J19+J23+J27+J31+J35+J39+J43+J47+J51+J55+J59+J63+J67+J71+J75+J79+J83+J87+J91+J95+J99+J103+J107+J111+J115+J119+J123 -> 2971802260 | ... L127: =L3+L7+L11+L15+L19+L23+L27+L31+L35+L39+L43+L47+L51+L55+L59+L63+L67+L71+L75+L79+L83+L87+L91+L95+L99+L103+L107+L111+L115+L119+L123 -> 317066137038 | N127: =N3+N7+N11+N15+N19+N23+N27+N31+N35+N39+N43+N47+N51+N55+N59+N63+N67+N71+N75+N79+N83+N87+N91+N95+N99+N103+N107+N111+N115+N119+N123 -> 1.7830427e+09
A128: Pct Change | C128: =(C127-C126)/C126 -> 0.059103596 | D128: =(D127-D126)/D126 -> 0.07463927 | E128: =(E127-E126)/E126 -> 0.028623158 | F128: =(F127-F126)/F126 -> 0.082805014 | G128: =(G127-G126)/G126 -> -0.0030533626 | H128: =(H127-H126)/H126 -> 0.034028756 | I128: =(I127-I126)/I126 -> 0.041196644 | J128: =(J127-J126)/J126 -> 0.1295042 | ... L128: =(L127-L126)/L126 -> 0.080921795 | N128: =(N127-N126)/N126 -> 0.076827428
K130: Effective Millage Rate | L130: 2024 | M130: =(M2+M6+M10+M14+M18+M22+M26+M30+M34+M38+M42+M46+M50+M54+M58+M62+M66+M70+M74+M78+M82+M86+M90+M94+M98+M102+M106+M110+M114+M118+M122)/31 -> 6.0808226
L131: 2025 | M131: =(M3+M7+M11+M15+M19+M23+M27+M31+M35+M39+M43+M47+M51+M55+M59+M63+M67+M71+M75+M79+M83+M87+M91+M95+M99+M103+M107+M111+M115+M119+M123)/31 -> 6.0287871
K132: Percent change | M132: =(M131-M130)/M130 -> -0.00855731

Sheet Calhoun
A1: Municipality | B1: Year | C1: Just Value | D1: Assessed Value | E1: Government Exemption Value | F1: Institutional Exemption Value | G1: Homestead Exemption Value | H1: Additional 25,000 Homestead Exemption Value | I1: Senior Homestead Exemptions | J1: Other Exemptions | K1: Total Exemption Value | L1: Total Taxable Value | M1: City Millage Rate | N1: Taxes Levied
A2: BLOUNTSTOWN | B2: 2024 | C2: 153507405 | D2: 130504094 | E2: 16093276 | F2: 6339629 | G2: 12420645 | H2: 7149271 | I2: 1243744 | J2: 3378270 | K2: 46624835 | L2: 83879259 | M2: 1.5 | N2: 125818.89
A3: BLOUNTSTOWN | B3: 2025 | C3: 160295507 | D3: 138085208 | E3: 16220168 | F3: 6810233 | G3: 12291250 | H3: 7528728 | I3: 1237693 | J3: 3733539 | K3: 47821611 | L3: 90263597 | M3: 1.5 | N3: 135395.4
A4: Pct Change | C4: =(C3-C2)/C2 -> 0.04422003 | D4: =(D3-D2)/D2 -> 0.058091005 | E4: =(E3-E2)/E2 -> 0.0078847837 | F4: =(F3-F2)/F2 -> 0.074232104 | G4: =(G3-G2)/G2 -> -0.010417736 | H4: =(H3-H2)/H2 -> 0.053076321 | I4: =(I3-I2)/I2 -> -0.0048651491 | J4: =(J3-J2)/J2 -> 0.105163 | ... N4: =(N3-N2)/N2 -> 0.076113429
A6: Total Municipal | B6: 2024 | C6: =C2 -> 153507405 | D6: =D2 -> 130504094 | E6: =E2 -> 16093276 | F6: =F2 -> 6339629 | G6: =G2 -> 12420645 | H6: =H2 -> 7149271 | I6: =I2 -> 1243744 | J6: =J2 -> 3378270 | ... L6: =L2 -> 83879259 | N6: =N2 -> 125818.89
B7: 2025 | C7: =C3 -> 160295507 | D7: =D3 -> 138085208 | E7: =E3 -> 16220168 | F7: =F3 -> 6810233 | G7: =G3 -> 12291250 | H7: =H3 -> 7528728 | I7: =I3 -> 1237693 | J7: =J3 -> 3733539 | ... L7: =L3 -> 90263597 | N7: =N3 -> 135395.4
A8: Pct Change | C8: =(C7-C6)/C6 -> 0.04422003 | D8: =(D7-D6)/D6 -> 0.058091005 | E8: =(E7-E6)/E6 -> 0.0078847837 | F8: =(F7-F6)/F6 -> 0.074232104 | G8: =(G7-G6)/G6 -> -0.010417736 | H8: =(H7-H6)/H6 -> 0.053076321 | I8: =(I7-I6)/I6 -> -0.0048651491 | J8: =(J7-J6)/J6 -> 0.105163 | ... L8: =(L7-L6)/L6 -> 0.076113429 | N8: =(N7-N6)/N6 -> 0.076113429
K10: Effective Millage Rate | L10: 2024 | M10: =M2 -> 1.5
L11: 2025 | M11: =M3 -> 1.5
K12: Percent change | M12: =(M11-M10)/M10 -> 0

Sheet Charlotte
A1: Municipality | B1: Year | C1: Just Value | D1: Assessed Value | E1: Government Exemption Value | F1: Institutional Exemption Value | G1: Homestead Exemption Value | H1: Additional 25,000 Homestead Exemption Value | I1: Senior Homestead Exemptions | J1: Other Exemptions | K1: Total Exemption Value | L1: Total Taxable Value | M1: City Millage Rate | N1: Taxes Levied
A2: PUNTA GORDA | B2: 2024 | C2: 7961374791 | D2: 5941424559 | E2: 324365240 | F2: 71164422 | G2: 182184023 | H2: 176278140 | I2: 0 | J2: 99111074 | K2: 853102899 | L2: 5088321660 | M2: 3.95 | N2: 20098871
A3: PUNTA GORDA | B3: 2025 | C3: 7310119862 | D3: 6089600212 | E3: 325455468 | F3: 73410011 | G3: 179563272 | H3: 179158553 | I3: 0 | J3: 105078310 | K3: 862665614 | L3: 5226934598 | M3: 3.8686 | N3: 20220919
A4: Pct Change | C4: =(C3-C2)/C2 -> -0.081801818 | D4: =(D3-D2)/D2 -> 0.024939415 | E4: =(E3-E2)/E2 -> 0.0033611123 | F4: =(F3-F2)/F2 -> 0.031554939 | G4: =(G3-G2)/G2 -> -0.014385186 | H4: =(H3-H2)/H2 -> 0.01634016 | I4: =(I3-I2)/I2 -> #DIV/0! | J4: =(J3-J2)/J2 -> 0.060207561 | ... N4: =(N3-N2)/N2 -> 0.0060724123
A6: Total Municipal | B6: 2024 | C6: =C2 -> 7961374791 | D6: =D2 -> 5941424559 | E6: =E2 -> 324365240 | F6: =F2 -> 71164422 | G6: =G2 -> 182184023 | H6: =H2 -> 176278140 | I6: =I2 -> 0 | J6: =J2 -> 99111074 | ... L6: =L2 -> 5088321660 | N6: =N2 -> 20098871
B7: 2025 | C7: =C3 -> 7310119862 | D7: =D3 -> 6089600212 | E7: =E3 -> 325455468 | F7: =F3 -> 73410011 | G7: =G3 -> 179563272 | H7: =H3 -> 179158553 | I7: =I3 -> 0 | J7: =J3 -> 105078310 | ... L7: =L3 -> 5226934598 | N7: =N3 -> 20220919
A8: Pct Change | C8: =(C7-C6)/C6 -> -0.081801818 | D8: =(D7-D6)/D6 -> 0.024939415 | E8: =(E7-E6)/E6 -> 0.0033611123 | F8: =(F7-F6)/F6 -> 0.031554939 | G8: =(G7-G6)/G6 -> -0.014385186 | H8: =(H7-H6)/H6 -> 0.01634016 | I8: =(I7-I6)/I6 -> #DIV/0! | J8: =(J7-J6)/J6 -> 0.060207561 | ... L8: =(L7-L6)/L6 -> 0.027241387 | N8: =(N7-N6)/N6 -> 0.0060724123
K10: Effective Millage Rate | L10: 2024 | M10: =M2 -> 3.95
L11: 2025 | M11: =M3 -> 3.8686
K12: Percent change | M12: =(M11-M10)/M10 -> -0.020607595

Sheet Citrus
A1: Municipality | B1: Year | C1: Just Value | D1: Assessed Value | E1: Government Exemption Value | F1: Institutional Exemption Value | G1: Homestead Exemption Value | H1: Additional 25,000 Homestead Exemption Value | I1: Senior Homestead Exemptions | J1: Other Exemptions | K1: Total Exemption Value | L1: Total Taxable Value | M1: City Millage Rate | N1: Taxes Levied
A2: CRYSTAL RIVER | B2: 2024 | C2: 1042692013 | D2: 826431613 | E2: 58830191 | F2: 19012913 | G2: 17584303 | H2: 14564833 | I2: 0 | J2: 13757726 | K2: 123749966 | L2: 702681647 | M2: 6.59 | N2: 4630672.1
A3: CRYSTAL RIVER | B3: 2025 | C3: 1027197304 | D3: 846339807 | E3: 61215156 | F3: 19642814 | G3: 17210880 | H3: 14629598 | I3: 0 | J3: 14079333 | K3: 126777781 | L3: 719562026 | M3: 6.59 | N3: 4741913.8
A4: Pct Change | C4: =(C3-C2)/C2 -> -0.014860293 | D4: =(D3-D2)/D2 -> 0.024089342 | E4: =(E3-E2)/E2 -> 0.040539814 | F4: =(F3-F2)/F2 -> 0.033130168 | G4: =(G3-G2)/G2 -> -0.021236156 | H4: =(H3-H2)/H2 -> 0.0044466696 | I4: =(I3-I2)/I2 -> #DIV/0! | J4: =(J3-J2)/J2 -> 0.023376465 | ... N4: =(N3-N2)/N2 -> 0.024022798
A6: INVERNESS | B6: 2024 | C6: 1174124552 | D6: 962039585 | E6: 122236403 | F6: 53795666 | G6: 48870295 | H6: 36730157 | I6: 0 | J6: 17844592 | K6: 279477113 | L6: 682562472 | M6: 7.66 | N6: 5228428.5
A7: INVERNESS | B7: 2025 | C7: 1189984954 | D7: 1003988771 | E7: 122994682 | F7: 54494571 | G7: 49401705 | H7: 39350452 | I7: 0 | J7: 18834976 | K7: 285076386 | L7: 718912385 | M7: 7.56 | N7: 5434977.6
A8: Pct Change | C8: =(C7-C6)/C6 -> 0.013508279 | D8: =(D7-D6)/D6 -> 0.043604428 | E8: =(E7-E6)/E6 -> 0.0062033812 | F8: =(F7-F6)/F6 -> 0.012991846 | G8: =(G7-G6)/G6 -> 0.010873886 | H8: =(H7-H6)/H6 -> 0.071339063 | I8: =(I7-I6)/I6 -> #DIV/0! | J8: =(J7-J6)/J6 -> 0.055500512 | ... N8: =(N7-N6)/N6 -> 0.039505005
A10: Total Municipal | B10: 2024 | C10: =C2+C6 -> 2216816565 | D10: =D2+D6 -> 1788471198 | E10: =E2+E6 -> 181066594 | F10: =F2+F6 -> 72808579 | G10: =G2+G6 -> 66454598 | H10: =H2+H6 -> 51294990 | I10: =I2+I6 -> 0 | J10: =J2+J6 -> 31602318 | ... L10: =L2+L6 -> 1385244119 | N10: =N2+N6 -> 9859100.6
B11: 2025 | C11: =C3+C7 -> 2217182258 | D11: =D3+D7 -> 1850328578 | E11: =E3+E7 -> 184209838 | F11: =F3+F7 -> 74137385 | G11: =G3+G7 -> 66612585 | H11: =H3+H7 -> 53980050 | I11: =I3+I7 -> 0 | J11: =J3+J7 -> 32914309 | ... L11: =L3+L7 -> 1438474411 | N11: =N3+N7 -> 10176891
A12: Pct Change | C12: =(C11-C10)/C10 -> 0.00016496313 | D12: =(D11-D10)/D10 -> 0.034586735 | E12: =(E11-E10)/E10 -> 0.017359602 | F12: =(F11-F10)/F10 -> 0.018250679 | G12: =(G11-G10)/G10 -> 0.0023773675 | H12: =(H11-H10)/H10 -> 0.052345463 | I12: =(I11-I10)/I10 -> #DIV/0! | J12: =(J11-J10)/J10 -> 0.041515657 | ... L12: =(L11-L10)/L10 -> 0.038426651 | N12: =(N11-N10)/N10 -> 0.032233244
K14: Effective Millage Rate | L14: 2024 | M14: =(M2+M6)/2 -> 7.125
L15: 2025 | M15: =(M3+M7)/2 -> 7.075
K16: Percent change | M16: =(M15-M14)/M14 -> -0.0070175439

Sheet Clay
A1: Municipality | B1: Year | C1: Just Value | D1: Assessed Value | E1: Government Exemption Value | F1: Institutional Exemption Value | G1: Homestead Exemption Value | H1: Additional 25,000 Homestead Exemption Value | I1: Senior Homestead Exemptions | J1: Other Exemptions | K1: Total Exemption Value | L1: Total Taxable Value | M1: City Millage Rate | N1: Taxes Levied
A2: GREEN COVE SPG | B2: 2024 | C2: 1185281432 | D2: 876226670 | E2: 26731103 | F2: 6523348 | G2: 53320917 | H2: 49284169 | I2: 3933604 | J2: 43663803 | K2: 183456944 | L2: 692769726 | M2: 5.3 | N2: 3671679.5
A3: GREEN COVE SPG | B3: 2025 | C3: 1391762153 | D3: 1069031335 | E3: 68174741 | F3: 17480917 | G3: 53995051 | H3: 51729240 | I3: 4177882 | J3: 55167490 | K3: 250725321 | L3: 818306014 | M3: 5.3 | N3: 4337021.9
A4: Pct Change | C4: =(C3-C2)/C2 -> 0.17420396 | D4: =(D3-D2)/D2 -> 0.22003971 | E4: =(E3-E2)/E2 -> 1.5503901 | F4: =(F3-F2)/F2 -> 1.6797462 | G4: =(G3-G2)/G2 -> 0.012642956 | H4: =(H3-H2)/H2 -> 0.049611692 | I4: =(I3-I2)/I2 -> 0.062100303 | J4: =(J3-J2)/J2 -> 0.26346049 | ... N4: =(N3-N2)/N2 -> 0.18120926
A6: KEYSTONE HEIGH | B6: 2024 | C6: 148575718 | D6: 107870983 | E6: 12204754 | F6: 1494087 | G6: 10108494 | H6: 8932979 | I6: 0 | J6: 3258597 | K6: 35998911 | L6: 71872072 | M6: 3.8847 | N6: 279201.44
A7: KEYSTONE HEIGH | B7: 2025 | C7: 191864148 | D7: 153184486 | E7: 15356786 | F7: 9118144 | G7: 9961058 | H7: 9181227 | I7: 0 | J7: 3288505 | K7: 46905720 | L7: 106278766 | M7: 3.6073 | N7: 383379.39
A8: Pct Change | C8: =(C7-C6)/C6 -> 0.29135602 | D8: =(D7-D6)/D6 -> 0.42007129 | E8: =(E7-E6)/E6 -> 0.25826264 | F8: =(F7-F6)/F6 -> 5.10282 | G8: =(G7-G6)/G6 -> -0.014585358 | H8: =(H7-H6)/H6 -> 0.027790057 | I8: =(I7-I6)/I6 -> #DIV/0! | J8: =(J7-J6)/J6 -> 0.0091781831 | ... N8: =(N7-N6)/N6 -> 0.37312829
A10: ORANGE PARK | B10: 2024 | C10: 1386812321 | D10: 1133995880 | E10: 74861691 | F10: 87997057 | G10: 46530515 | H10: 44727769 | I10: 5214701 | J10: 22315282 | K10: 281647015 | L10: 852348865 | M10: 5.7 | N10: 4858388.5
A11: ORANGE PARK | B11: 2025 | C11: 1451905767 | D11: 1204817306 | E11: 77808766 | F11: 96474528 | G11: 46340753 | H11: 45946216 | I11: 5180383 | J11: 26237715 | K11: 297988361 | L11: 906828945 | M11: 5.95 | N11: 5395632.2
A12: Pct Change | C12: =(C11-C10)/C10 -> 0.046937459 | D12: =(D11-D10)/D10 -> 0.062452984 | E12: =(E11-E10)/E10 -> 0.039366931 | F12: =(F11-F10)/F10 -> 0.09633812 | G12: =(G11-G10)/G10 -> -0.0040782269 | H12: =(H11-H10)/H10 -> 0.027241399 | I12: =(I11-I10)/I10 -> -0.0065810101 | J12: =(J11-J10)/J10 -> 0.1757734 | ... N12: =(N11-N10)/N10 -> 0.11058064
A14: PENNEY FARM | B14: 2024 | C14: 64783820 | D14: 52559808 | E14: 384845 | F14: 24073682 | G14: 875955 | H14: 646084 | I14: 0 | J14: 233936 | K14: 26214502 | L14: 26345306 | M14: 4.4535 | N14: 117328.82
A15: PENNEY FARM | B15: 2025 | C15: 68001219 | D15: 55732955 | E15: 409366 | F15: 23680577 | G15: 878517 | H15: 703669 | I15: 0 | J15: 234445 | K15: 25906574 | L15: 29826381 | M15: 4.4535 | N15: 132831.79
A16: Pct Change | C16: =(C15-C14)/C14 -> 0.04966362 | D16: =(D15-D14)/D14 -> 0.060372119 | E16: =(E15-E14)/E14 -> 0.063716561 | F16: =(F15-F14)/F14 -> -0.016329243 | G16: =(G15-G14)/G14 -> 0.0029248078 | H16: =(H15-H14)/H14 -> 0.089129277 | I16: =(I15-I14)/I14 -> #DIV/0! | J16: =(J15-J14)/J14 -> 0.0021758088 | ... N16: =(N15-N14)/N14 -> 0.13213265
A18: Total Municipal | B18: 2024 | C18: =C2+C6+C10+C14 -> 2785453291 | D18: =D2+D6+D10+D14 -> 2170653341 | E18: =E2+E6+E10+E14 -> 114182393 | F18: =F2+F6+F10+F14 -> 120088174 | G18: =G2+G6+G10+G14 -> 110835881 | H18: =H2+H6+H10+H14 -> 103591001 | I18: =I2+I6+I10+I14 -> 9148305 | J18: =J2+J6+J10+J14 -> 69471618 | ... L18: =L2+L6+L10+L14 -> 1643335969 | N18: =N2+N6+N10+N14 -> 8926598.3
B19: 2025 | C19: =C3+C7+C11+C15 -> 3103533287 | D19: =D3+D7+D11+D15 -> 2482766082 | E19: =E3+E7+E11+E15 -> 161749659 | F19: =F3+F7+F11+F15 -> 146754166 | G19: =G3+G7+G11+G15 -> 111175379 | H19: =H3+H7+H11+H15 -> 107560352 | I19: =I3+I7+I11+I15 -> 9358265 | J19: =J3+J7+J11+J15 -> 84928155 | ... L19: =L3+L7+L11+L15 -> 1861240106 | N19: =N3+N7+N11+N15 -> 10248865
A20: Pct Change | C20: =(C19-C18)/C18 -> 0.11419326 | D20: =(D19-D18)/D18 -> 0.14378746 | E20: =(E19-E18)/E18 -> 0.4165902 | F20: =(F19-F18)/F18 -> 0.22205344 | G20: =(G19-G18)/G18 -> 0.0030630694 | H20: =(H19-H18)/H18 -> 0.038317527 | I20: =(I19-I18)/I18 -> 0.0229507 | J20: =(J19-J18)/J18 -> 0.22248707 | ... L20: =(L19-L18)/L18 -> 0.13259865 | N20: =(N19-N18)/N18 -> 0.14812663
K22: Effective Millage Rate | L22: 2024 | M22: =(M2+M6+M10+M14)/4 -> 4.83455
L23: 2025 | M23: =(M3+M7+M11+M15)/4 -> 4.8277
K24: Percent change | M24: =(M23-M22)/M22 -> -0.0014168847

Sheet Collier
A1: Municipality | B1: Year | C1: Just Value | D1: Assessed Value | E1: Government Exemption Value | F1: Institutional Exemption Value | G1: Homestead Exemption Value | H1: Additional 25,000 Homestead Exemption Value | I1: Senior Homestead Exemptions | J1: Other Exemptions | K1: Total Exemption Value | L1: Total Taxable Value | M1: City Millage Rate | N1: Taxes Levied
A2: EVERGLADES | B2: 2024 | C2: 192236302 | D2: 164692054 | E2: 23169749 | F2: 4180360 | G2: 2707385 | H2: 2501996 | I2: 0 | J2: 881422 | K2: 33440912 | L2: 131251142 | M2: 6.9333 | N2: 910003.54
A3: EVERGLADES | B3: 2025 | C3: 198668120 | D3: 173909183 | E3: 23663167 | F3: 4345232 | G3: 2807599 | H3: 2677329 | I3: 0 | J3: 1069903 | K3: 34563230 | L3: 139345953 | M3: 6.6558 | N3: 927458.79
A4: Pct Change | C4: =(C3-C2)/C2 -> 0.033457874 | D4: =(D3-D2)/D2 -> 0.055965839 | E4: =(E3-E2)/E2 -> 0.021295785 | F4: =(F3-F2)/F2 -> 0.039439665 | G4: =(G3-G2)/G2 -> 0.037015053 | H4: =(H3-H2)/H2 -> 0.07007725 | I4: =(I3-I2)/I2 -> #DIV/0! | J4: =(J3-J2)/J2 -> 0.21383741 | ... N4: =(N3-N2)/N2 -> 0.01918152
A6: MARCO ISLAND C | B6: 2024 | C6: 23785542454 | D6: 17716286294 | E6: 137490018 | F6: 100920692 | G6: 155271523 | H6: 153698037 | I6: 0 | J6: 60868659 | K6: 608248929 | L6: 17108037365 | M6: 1.24 | N6: 21213966
A7: MARCO ISLAND C | B7: 2025 | C7: 24094764328 | D7: 19062640863 | E7: 151965353 | F7: 112854595 | G7: 155550000 | H7: 158300040 | I7: 0 | J7: 65168956 | K7: 643838944 | L7: 18418801919 | M7: 1.267 | N7: 23336622
A8: Pct Change | C8: =(C7-C6)/C6 -> 0.013000413 | D8: =(D7-D6)/D6 -> 0.075995304 | E8: =(E7-E6)/E6 -> 0.10528281 | F8: =(F7-F6)/F6 -> 0.11825031 | G8: =(G7-G6)/G6 -> 0.0017934841 | H8: =(H7-H6)/H6 -> 0.029941846 | I8: =(I7-I6)/I6 -> #DIV/0! | J8: =(J7-J6)/J6 -> 0.070648788 | ... N8: =(N7-N6)/N6 -> 0.10005935
A10: NAPLES | B10: 2024 | C10: 54642016243 | D10: 40229173219 | E10: 709140979 | F10: 703878510 | G10: 176496154 | H10: 166694694 | I10: 2599643 | J10: 60128457 | K10: 1818938437 | L10: 38410234782 | M10: 1.23 | N10: 47244589
A11: NAPLES | B11: 2025 | C11: 55512780552 | D11: 43254101602 | E11: 757090291 | F11: 797436790 | G11: 175349449 | H11: 170105606 | I11: 2295923 | J11: 61142947 | K11: 1963421006 | L11: 41290680596 | M11: 1.23 | N11: 50787537
A12: Pct Change | C12: =(C11-C10)/C10 -> 0.015935801 | D12: =(D11-D10)/D10 -> 0.075192407 | E12: =(E11-E10)/E10 -> 0.06761605 | F12: =(F11-F10)/F10 -> 0.13291822 | G12: =(G11-G10)/G10 -> -0.0064970538 | H12: =(H11-H10)/H10 -> 0.020462031 | I12: =(I11-I10)/I10 -> -0.11683143 | J12: =(J11-J10)/J10 -> 0.016872044 | ... N12: =(N11-N10)/N10 -> 0.074991622
A14: Total Municipal | B14: 2024 | C14: =C2+C6+C10 -> 78619794999 | D14: =D2+D6+D10 -> 58110151567 | E14: =E2+E6+E10 -> 869800746 | F14: =F2+F6+F10 -> 808979562 | G14: =G2+G6+G10 -> 334475062 | H14: =H2+H6+H10 -> 322894727 | I14: =I2+I6+I10 -> 2599643 | J14: =J2+J6+J10 -> 121878538 | ... L14: =L2+L6+L10 -> 55649523289 | N14: =N2+N6+N10 -> 69368559
B15: 2025 | C15: =C3+C7+C11 -> 79806213000 | D15: =D3+D7+D11 -> 62490651648 | E15: =E3+E7+E11 -> 932718811 | F15: =F3+F7+F11 -> 914636617 | G15: =G3+G7+G11 -> 333707048 | H15: =H3+H7+H11 -> 331082975 | I15: =I3+I7+I11 -> 2295923 | J15: =J3+J7+J11 -> 127381806 | ... L15: =L3+L7+L11 -> 59848828468 | N15: =N3+N7+N11 -> 75051618
A16: Pct Change | C16: =(C15-C14)/C14 -> 0.015090576 | D16: =(D15-D14)/D14 -> 0.075382699 | E16: =(E15-E14)/E14 -> 0.072336182 | F16: =(F15-F14)/F14 -> 0.13060535 | G16: =(G15-G14)/G14 -> -0.0022961772 | H16: =(H15-H14)/H14 -> 0.025358878 | I16: =(I15-I14)/I14 -> -0.11683143 | J16: =(J15-J14)/J14 -> 0.045153709 | ... L16: =(L15-L14)/L14 -> 0.075459859 | N16: =(N15-N14)/N14 -> 0.081925579
K18: Effective Millage Rate | L18: 2024 | M18: =(M2+M6+M10)/3 -> 3.1344333
L19: 2025 | M19: =(M3+M7+M11)/3 -> 3.0509333
K20: Percent change | M20: =(M19-M18)/M18 -> -0.026639584

Sheet Columbia
A1: Municipality | B1: Year | C1: Just Value | D1: Assessed Value | E1: Government Exemption Value | F1: Institutional Exemption Value | G1: Homestead Exemption Value | H1: Additional 25,000 Homestead Exemption Value | I1: Senior Homestead Exemptions | J1: Other Exemptions | K1: Total Exemption Value | L1: Total Taxable Value | M1: City Millage Rate | N1: Taxes Levied
A2: LAKE CITY | B2: 2024 | C2: 1638930130 | D2: 1475063248 | E2: 189492903 | F2: 73006616 | G2: 42657918 | H2: 31587942 | I2: 2552637 | J2: 22193682 | K2: 361491698 | L2: 1113571550 | M2: 4.9 | N2: 5456500.6
A3: LAKE CITY | B3: 2025 | C3: 1717050562 | D3: 1574280824 | E3: 200720973 | F3: 76274664 | G3: 42657177 | H3: 33154803 | I3: 2342168 | J3: 24671673 | K3: 379821458 | L3: 1194459366 | M3: 4.9 | N3: 5852850.9
A4: Pct Change | C4: =(C3-C2)/C2 -> 0.047665505 | D4: =(D3-D2)/D2 -> 0.067263269 | E4: =(E3-E2)/E2 -> 0.059253248 | F4: =(F3-F2)/F2 -> 0.044763724 | G4: =(G3-G2)/G2 -> -1.7370749e-05 | H4: =(H3-H2)/H2 -> 0.049603137 | I4: =(I3-I2)/I2 -> -0.082451598 | J4: =(J3-J2)/J2 -> 0.11165299 | ... N4: =(N3-N2)/N2 -> 0.072638185
A6: Total Municipal | B6: 2024 | C6: =C2 -> 1638930130 | D6: =D2 -> 1475063248 | E6: =E2 -> 189492903 | F6: =F2 -> 73006616 | G6: =G2 -> 42657918 | H6: =H2 -> 31587942 | I6: =I2 -> 2552637 | J6: =J2 -> 22193682 | ... L6: =L2 -> 1113571550 | N6: =N2 -> 5456500.6
B7: 2025 | C7: =C3 -> 1717050562 | D7: =D3 -> 1574280824 | E7: =E3 -> 200720973 | F7: =F3 -> 76274664 | G7: =G3 -> 42657177 | H7: =H3 -> 33154803 | I7: =I3 -> 2342168 | J7: =J3 -> 24671673 | ... L7: =L3 -> 1194459366 | N7: =N3 -> 5852850.9
A8: Pct Change | C8: =(C7-C6)/C6 -> 0.047665505 | D8: =(D7-D6)/D6 -> 0.067263269 | E8: =(E7-E6)/E6 -> 0.059253248 | F8: =(F7-F6)/F6 -> 0.044763724 | G8: =(G7-G6)/G6 -> -1.7370749e-05 | H8: =(H7-H6)/H6 -> 0.049603137 | I8: =(I7-I6)/I6 -> -0.082451598 | J8: =(J7-J6)/J6 -> 0.11165299 | ... L8: =(L7-L6)/L6 -> 0.072638185 | N8: =(N7-N6)/N6 -> 0.072638185
K10: Effective Millage Rate | L10: 2024 | M10: =M2 -> 4.9
L11: 2025 | M11: =M3 -> 4.9
K12: Percent change | M12: =(M11-M10)/M10 -> 0

Sheet Miami-Dade
A1: Municipality | B1: Year | C1: Just Value | D1: Assessed Value | E1: Government Exemption Value | F1: Institutional Exemption Value | G1: Homestead Exemption Value | H1: Additional 25,000 Homestead Exemption Value | I1: Senior Homestead Exemptions | J1: Other Exemptions | K1: Total Exemption Value | L1: Total Taxable Value | M1: City Millage Rate | N1: Taxes Levied
A2: AVENTURA | B2: 2024 | C2: 17609539906 | D2: 14142525984 | E2: 120168599 | F2: 81700737 | G2: 231039904 | H2: 224469348 | I2: 15010081 | J2: 34661384 | K2: 707050053 | L2: 13435475931 | M2: 1.7261 | N2: 23190975
A3: AVENTURA | B3: 2025 | C3: 17388532020 | D3: 14935429450 | E3: 119000097 | F3: 90505474 | G3: 232424288 | H3: 233017944 | I3: 15233152 | J3: 35242131 | K3: 725423086 | L3: 14210006364 | M3: 1.7261 | N3: 24527892
A4: Pct Change | C4: =(C3-C2)/C2 -> -0.012550463 | D4: =(D3-D2)/D2 -> 0.056065194 | E4: =(E3-E2)/E2 -> -0.0097238547 | F4: =(F3-F2)/F2 -> 0.10776815 | G4: =(G3-G2)/G2 -> 0.0059919692 | H4: =(H3-H2)/H2 -> 0.038083578 | I4: =(I3-I2)/I2 -> 0.014861412 | J4: =(J3-J2)/J2 -> 0.01675487 | ... N4: =(N3-N2)/N2 -> 0.057648158
A6: BAL HARBOUR | B6: 2024 | C6: 8844565795 | D6: 6882967015 | E6: 15059105 | F6: 0 | G6: 17475000 | H6: 17398853 | I6: 375000 | J6: 7661995 | K6: 57969953 | L6: 6824997062 | M6: 2.1439 | N6: 14632111
A7: BAL HARBOUR | B7: 2025 | C7: 9318031253 | D7: 7426413864 | E7: 23287865 | G7: 17050000 | H7: 17435281 | I7: 375000 | J7: 9014309 | K7: 67162455 | L7: 7359251409 | M7: 2.1439 | N7: 15777499
A8: Pct Change | C8: =(C7-C6)/C6 -> 0.053531792 | D8: =(D7-D6)/D6 -> 0.078955318 | E8: =(E7-E6)/E6 -> 0.54643088 | F8: =(F7-F6)/F6 -> #DIV/0! | G8: =(G7-G6)/G6 -> -0.024320458 | H8: =(H7-H6)/H6 -> 0.0020937012 | I8: =(I7-I6)/I6 -> 0 | J8: =(J7-J6)/J6 -> 0.17649633 | ... N8: =(N7-N6)/N6 -> 0.078279059
A10: BAY HARBOUR IS | B10: 2024 | C10: 3298103449 | D10: 2265547493 | E10: 100149698 | F10: 26228079 | G10: 27150000 | H10: 26875390 | I10: 1808236 | J10: 3071438 | K10: 185282841 | L10: 2080264652 | M10: 3.1728 | N10: 6600263.7
A11: BAY HARBOUR IS | B11: 2025 | C11: 3625810541 | D11: 2541601727 | E11: 107430695 | F11: 26215164 | G11: 27725000 | H11: 28288853 | I11: 1912341 | J11: 3110882 | K11: 194682935 | L11: 2346918792 | M11: 3.4583 | N11: 8116349.3
A12: Pct Change | C12: =(C11-C10)/C10 -> 0.099362284 | D12: =(D11-D10)/D10 -> 0.1218488 | E12: =(E11-E10)/E10 -> 0.072701138 | F12: =(F11-F10)/F10 -> -0.00049241121 | G12: =(G11-G10)/G10 -> 0.021178637 | H12: =(H11-H10)/H10 -> 0.052593209 | I12: =(I11-I10)/I10 -> 0.057572684 | J12: =(J11-J10)/J10 -> 0.012842193 | ... N12: =(N11-N10)/N10 -> 0.22970076
A14: BISCAYNE PARK | B14: 2024 | C14: 869462197 | D14: 465704225 | E14: 6006648 | F14: 4282456 | G14: 19275000 | H14: 19062819 | I14: 1417147 | J14: 1618357 | K14: 51662427 | L14: 414041798 | M14: 9.4 | N14: 3891992.9
A15: BISCAYNE PARK | B15: 2025 | C15: 915187583 | D15: 522891967 | E15: 6377903 | F15: 4708200 | G15: 18825000 | H15: 19139181 | I15: 1320549 | J15: 1675422 | K15: 52046255 | L15: 470845712 | M15: 9.3 | N15: 4378865.1
A16: Pct Change | C16: =(C15-C14)/C14 -> 0.052590424 | D16: =(D15-D14)/D14 -> 0.12279842 | E16: =(E15-E14)/E14 -> 0.061807351 | F16: =(F15-F14)/F14 -> 0.099415849 | G16: =(G15-G14)/G14 -> -0.023346304 | H16: =(H15-H14)/H14 -> 0.0040058084 | I16: =(I15-I14)/I14 -> -0.068163712 | J16: =(J15-J14)/J14 -> 0.03526107 | ... N16: =(N15-N14)/N14 -> 0.12509587
A18: CORAL GABLES | B18: 2024 | C18: 39672354105 | D18: 26708459892 | E18: 724025835 | F18: 1132036360 | G18: 275550000 | H18: 274126567 | I18: 12682429 | J18: 89804469 | K18: 2508225660 | L18: 24200234232 | M18: 5.559 | N18: 1.345291e+08
A19: CORAL GABLES | B19: 2025 | C19: 41406109068 | D19: 28658906839 | E19: 758071048 | F19: 1133370524 | G19: 274750000 | H19: 281212885 | I19: 11662223 | J19: 96863291 | K19: 2555929971 | L19: 26102976868 | M19: 5.559 | N19: 1.4510645e+08
A20: Pct Change | C20: =(C19-C18)/C18 -> 0.043701842 | D20: =(D19-D18)/D18 -> 0.073027309 | E20: =(E19-E18)/E18 -> 0.047022097 | F20: =(F19-F18)/F18 -> 0.0011785523 | G20: =(G19-G18)/G18 -> -0.0029032843 | H20: =(H19-H18)/H18 -> 0.025850533 | I20: =(I19-I18)/I18 -> -0.080442477 | J20: =(J19-J18)/J18 -> 0.078602124 | ... N20: =(N19-N18)/N18 -> 0.078624968
A22: CUTLER BAY | B22: 2024 | C22: 7739574985 | D22: 4902968980 | E22: 192853534 | F22: 102665255 | G22: 261850000 | H22: 254403436 | I22: 20658291 | J22: 46380910 | K22: 878811426 | L22: 4024157554 | M22: 2.8332 | N22: 11401243
A23: CUTLER BAY | B23: 2025 | C23: 7789659633 | D23: 5231321212 | E23: 204544736 | F23: 104026712 | G23: 262525000 | H23: 262155483 | I23: 22390144 | J23: 57253666 | K23: 912895741 | L23: 4318425471 | M23: 2.8332 | N23: 12234963
A24: Pct Change | C24: =(C23-C22)/C22 -> 0.0064712401 | D24: =(D23-D22)/D22 -> 0.066970081 | E24: =(E23-E22)/E22 -> 0.060622182 | F24: =(F23-F22)/F22 -> 0.013261127 | G24: =(G23-G22)/G22 -> 0.0025778117 | H24: =(H23-H22)/H22 -> 0.030471471 | I24: =(I23-I22)/I22 -> 0.083833314 | J24: =(J23-J22)/J22 -> 0.23442308 | ... N24: =(N23-N22)/N22 -> 0.073125347
A26: DORAL | B26: 2024 | C26: 26770310131 | D26: 22094273148 | E26: 963836212 | F26: 554971028 | G26: 250025000 | H26: 247303219 | I26: 13244139 | J26: 108210514 | K26: 2137590112 | L26: 19956683036 | M26: 1.7166 | N26: 34257642
A27: DORAL | B27: 2025 | C27: 28635732782 | D27: 24121654386 | E27: 987177646 | F27: 620836113 | G27: 254021341 | H27: 258257455 | I27: 13377176 | J27: 117142461 | K27: 2250812192 | L27: 21870842194 | M27: 1.7166 | N27: 37543488
A28: Pct Change | C28: =(C27-C26)/C26 -> 0.069682519 | D28: =(D27-D26)/D26 -> 0.091760486 | E28: =(E27-E26)/E26 -> 0.02421722 | F28: =(F27-F26)/F26 -> 0.11868202 | G28: =(G27-G26)/G26 -> 0.015983766 | H28: =(H27-H26)/H26 -> 0.044294757 | I28: =(I27-I26)/I26 -> 0.010044972 | J28: =(J27-J26)/J26 -> 0.082542321 | ... N28: =(N27-N26)/N26 -> 0.095915697
A30: EL PORTAL | B30: 2024 | C30: 665791436 | D30: 352507735 | E30: 9707931 | F30: 0 | G30: 14350000 | H30: 14300000 | I30: 1462920 | J30: 1024728 | K30: 40845579 | L30: 311662156 | M30: 8.3 | N30: 2586795.9
A31: EL PORTAL | B31: 2025 | C31: 718336817 | D31: 450247074 | E31: 9811209 | F31: 18784358 | G31: 14175000 | H31: 14507208 | I31: 1567798 | J31: 1223683 | K31: 60069256 | L31: 390177818 | M31: 8.2 | N31: 3199458.1
A32: Pct Change | C32: =(C31-C30)/C30 -> 0.078921684 | D32: =(D31-D30)/D30 -> 0.27726864 | E32: =(E31-E30)/E30 -> 0.010638518 | F32: =(F31-F30)/F30 -> #DIV/0! | G32: =(G31-G30)/G30 -> -0.012195122 | H32: =(H31-H30)/H30 -> 0.01449007 | I32: =(I31-I30)/I30 -> 0.071690865 | J32: =(J31-J30)/J30 -> 0.19415396 | ... N32: =(N31-N30)/N30 -> 0.23684212
A34: FLORIDA CITY | B34: 2024 | C34: 2106616671 | D34: 1596379724 | E34: 99432852 | F34: 101853384 | G34: 39975817 | H34: 31224599 | I34: 0 | J34: 12253329 | K34: 284739981 | L34: 1311639743 | M34: 6.308 | N34: 8273823.5
A35: FLORIDA CITY | B35: 2025 | C35: 2370578831 | D35: 1850060386 | E35: 105947068 | F35: 109961798 | G35: 45680917 | H35: 38780628 | I35: 0 | J35: 15506811 | K35: 315877222 | L35: 1534183164 | M35: 6.4304 | N35: 9865411.4
A36: Pct Change | C36: =(C35-C34)/C34 -> 0.12530147 | D36: =(D35-D34)/D34 -> 0.15890997 | E36: =(E35-E34)/E34 -> 0.06551372 | F36: =(F35-F34)/F34 -> 0.079608685 | G36: =(G35-G34)/G34 -> 0.14271378 | H36: =(H35-H34)/H34 -> 0.24198962 | I36: =(I35-I34)/I34 -> #DIV/0! | J36: =(J35-J34)/J34 -> 0.26551821 | ... N36: =(N35-N34)/N34 -> 0.19236426
A38: GOLDEN BEACH | B38: 2024 | C38: 3415491344 | D38: 1917490325 | E38: 26195937 | F38: 1845072 | G38: 6125000 | H38: 6125000 | I38: 0 | J38: 84840 | K38: 40375849 | L38: 1877114476 | M38: 7.663 | N38: 14384328
A39: GOLDEN BEACH | B39: 2025 | C39: 3660911361 | D39: 2134650520 | E39: 27862351 | F39: 1798324 | G39: 6050000 | H39: 6199002 | I39: 0 | J39: 913448 | K39: 42823125 | L39: 2091827395 | M39: 7.8 | N39: 16316254
A40: Pct Change | C40: =(C39-C38)/C38 -> 0.071854967 | D40: =(D39-D38)/D38 -> 0.1132523 | E40: =(E39-E38)/E38 -> 0.063613453 | F40: =(F39-F38)/F38 -> -0.025336681 | G40: =(G39-G38)/G38 -> -0.012244898 | H40: =(H39-H38)/H38 -> 0.012081959 | I40: =(I39-I38)/I38 -> #DIV/0! | J40: =(J39-J38)/J38 -> 9.7667138 | ... N40: =(N39-N38)/N38 -> 0.13430766
A42: HIALEAH | B42: 2024 | C42: 34270946076 | D42: 23488999944 | E42: 1147507368 | F42: 464487748 | G42: 805831122 | H42: 727385085 | I42: 300750688 | J42: 125810770 | K42: 3571772781 | L42: 19917227163 | M42: 6.3018 | N42: 1.2551438e+08
A43: HIALEAH | B43: 2025 | C43: 36320402199 | D43: 25919341538 | E43: 1184775804 | F43: 649837467 | G43: 800884850 | H43: 752709386 | I43: 300514473 | J43: 128319557 | K43: 3817041537 | L43: 22102300001 | M43: 6.3018 | N43: 1.3928427e+08
A44: Pct Change | C44: =(C43-C42)/C42 -> 0.059801562 | D44: =(D43-D42)/D42 -> 0.10346722 | E44: =(E43-E42)/E42 -> 0.032477731 | F44: =(F43-F42)/F42 -> 0.39904114 | G44: =(G43-G42)/G42 -> -0.0061381 | H44: =(H43-H42)/H42 -> 0.034815535 | I44: =(I43-I42)/I42 -> -0.00078541799 | J44: =(J43-J42)/J42 -> 0.019940956 | ... N44: =(N43-N42)/N42 -> 0.10970768
A46: HIALEAH GARDEN | B46: 2024 | C46: 4131201316 | D46: 2820415217 | E46: 210264601 | F46: 91464137 | G46: 94150000 | H46: 86179584 | I46: 21540679 | J46: 13737970 | K46: 517336971 | L46: 2303078246 | M46: 4.6782 | N46: 10774261
A47: HIALEAH GARDEN | B47: 2025 | C47: 4349285886 | D47: 3109018883 | E47: 212921841 | F47: 94532066 | G47: 93725000 | H47: 89140875 | I47: 22139124 | J47: 13609631 | K47: 526068537 | L47: 2582950346 | M47: 4.6782 | N47: 12083558
A48: Pct Change | C48: =(C47-C46)/C46 -> 0.052789625 | D48: =(D47-D46)/D46 -> 0.10232666 | E48: =(E47-E46)/E46 -> 0.0126376 | F48: =(F47-F46)/F46 -> 0.033542425 | G48: =(G47-G46)/G46 -> -0.0045140733 | H48: =(H47-H46)/H46 -> 0.034361862 | I48: =(I47-I46)/I46 -> 0.027782086 | J48: =(J47-J46)/J46 -> -0.0093419188 | ... N48: =(N47-N46)/N46 -> 0.12152088
A50: HOMESTEAD | B50: 2024 | C50: 9815469311 | D50: 7017281995 | E50: 359469450 | F50: 417517328 | G50: 278867548 | H50: 249817151 | I50: 15835254 | J50: 91146545 | K50: 1412653276 | L50: 5604628719 | M50: 5.9604 | N50: 33405829
A51: HOMESTEAD | B51: 2025 | C51: 10416032375 | D51: 7857727102 | E51: 367228151 | F51: 442700575 | G51: 285953642 | H51: 265244805 | I51: 17023389 | J51: 110894600 | K51: 1489045162 | L51: 6368681940 | M51: 5.9604 | N51: 37959892
A52: Pct Change | C52: =(C51-C50)/C50 -> 0.061185364 | D52: =(D51-D50)/D50 -> 0.1197679 | E52: =(E51-E50)/E50 -> 0.021583756 | F52: =(F51-F50)/F50 -> 0.060316651 | G52: =(G51-G50)/G50 -> 0.02541025 | H52: =(H51-H50)/H50 -> 0.061755784 | I52: =(I51-I50)/I50 -> 0.075031004 | J52: =(J51-J50)/J50 -> 0.21666268 | ... N52: =(N51-N50)/N50 -> 0.13632539
A54: INDIAN CREEK V | B54: 2024 | C54: 1632804180 | D54: 1007167717 | E54: 1637980 | F54: 0 | G54: 375000 | H54: 375000 | I54: 0 | J54: 284354 | K54: 2672334 | L54: 1004495383 | M54: 5.9 | N54: 5926522.8
A55: INDIAN CREEK V | B55: 2025 | C55: 2227531243 | D55: 1288681023 | E55: 1630882 | G55: 350000 | H55: 360108 | I55: 0 | J55: 305716 | K55: 2646706 | L55: 1286034317 | M55: 5.5 | N55: 7073188.7
A56: Pct Change | C56: =(C55-C54)/C54 -> 0.36423661 | D56: =(D55-D54)/D54 -> 0.27950986 | E56: =(E55-E54)/E54 -> -0.0043333862 | F56: =(F55-F54)/F54 -> #DIV/0! | G56: =(G55-G54)/G54 -> -0.066666667 | H56: =(H55-H54)/H54 -> -0.039712 | I56: =(I55-I54)/I54 -> #DIV/0! | J56: =(J55-J54)/J54 -> 0.075124669 | ... N56: =(N55-N54)/N54 -> 0.1934804
A58: KEY BISCAYNE | B58: 2024 | C58: 14403549366 | D58: 11240700959 | E58: 104557411 | F58: 119947983 | G58: 69450000 | H58: 69175000 | I58: 2150000 | J58: 15371587 | K58: 380651981 | L58: 10860048978 | M58: 2.9794 | N58: 32356430
A59: KEY BISCAYNE | B59: 2025 | C59: 15248068161 | D59: 12104328005 | E59: 107375943 | F59: 121046464 | G59: 69700000 | H59: 71429994 | I59: 1850000 | J59: 15633160 | K59: 387035561 | L59: 11717292444 | M59: 2.8846 | N59: 33799702
A60: Pct Change | C60: =(C59-C58)/C58 -> 0.058632687 | D60: =(D59-D58)/D58 -> 0.076830355 | E60: =(E59-E58)/E58 -> 0.026956788 | F60: =(F59-F58)/F58 -> 0.0091579781 | G60: =(G59-G58)/G58 -> 0.003599712 | H60: =(H59-H58)/H58 -> 0.032598395 | I60: =(I59-I58)/I58 -> -0.13953488 | J60: =(J59-J58)/J58 -> 0.017016655 | ... N60: =(N59-N58)/N58 -> 0.044605411
A62: MEDLEY | B62: 2024 | C62: 7841140108 | D62: 5827614757 | E62: 71114061 | F62: 145663 | G62: 1350000 | H62: 1083098 | I62: 367661 | J62: 31136713 | K62: 105197196 | L62: 5722417561 | M62: 3.2 | N62: 18311736
A63: MEDLEY | B63: 2025 | C63: 8815736045 | D63: 6608880338 | E63: 79449499 | F63: 135880 | G63: 1350000 | H63: 1151083 | I63: 378435 | J63: 31138614 | K63: 113603511 | L63: 6495276827 | M63: 3.85 | N63: 25006816
A64: Pct Change | C64: =(C63-C62)/C62 -> 0.12429263 | D64: =(D63-D62)/D62 -> 0.13406267 | E64: =(E63-E62)/E62 -> 0.11721223 | F64: =(F63-F62)/F62 -> -0.067161874 | G64: =(G63-G62)/G62 -> 0 | H64: =(H63-H62)/H62 -> 0.06276902 | I64: =(I63-I62)/I62 -> 0.029304169 | J64: =(J63-J62)/J62 -> 6.105333e-05 | ... N64: =(N63-N62)/N62 -> 0.36561687
A66: MIAMI | B66: 2024 | C66: 140912032304 | D66: 106930484096 | E66: 7668981632 | F66: 3786847228 | G66: 1131472397 | H66: 1033938554 | I66: 249964818 | J66: 301623077 | K66: 14172827706 | L66: 92757656390 | M66: 7.1364 | N66: 6.6195574e+08
A67: MIAMI | B67: 2025 | C67: 151648509590 | D67: 118303751688 | E67: 7852331980 | F67: 4229489606 | G67: 1130373064 | H67: 1072593046 | I67: 245790975 | J67: 312146117 | K67: 14842724788 | L67: 103461026900 | M67: 7.108 | N67: 7.3540098e+08
A68: Pct Change | C68: =(C67-C66)/C66 -> 0.076192764 | D68: =(D67-D66)/D66 -> 0.10636132 | E68: =(E67-E66)/E66 -> 0.023908044 | F68: =(F67-F66)/F66 -> 0.11688942 | G68: =(G67-G66)/G66 -> -0.00097159507 | H68: =(H67-H66)/H66 -> 0.037385676 | I68: =(I67-I66)/I66 -> -0.016697722 | J68: =(J67-J66)/J66 -> 0.034888047 | ... N68: =(N67-N66)/N66 -> 0.11095189
A70: MIAMI BEACH | B70: 2024 | C70: 77666167493 | D70: 59028547264 | E70: 1691040016 | F70: 843858801 | G70: 351464147 | H70: 344775659 | I70: 35878360 | J70: 111791747 | K70: 3378808730 | L70: 55649738534 | M70: 5.8522 | N70: 3.256734e+08
A71: MIAMI BEACH | B71: 2025 | C71: 80988417963 | D71: 63899700032 | E71: 1697542857 | F71: 889246205 | G71: 354314557 | H71: 358206556 | I71: 36009037 | J71: 118448395 | K71: 3453767607 | L71: 60445932425 | M71: 5.856 | N71: 3.5397138e+08
A72: Pct Change | C72: =(C71-C70)/C70 -> 0.042776032 | D72: =(D71-D70)/D70 -> 0.082521983 | E72: =(E71-E70)/E70 -> 0.0038454684 | F72: =(F71-F70)/F70 -> 0.053785543 | G72: =(G71-G70)/G70 -> 0.0081101018 | H72: =(H71-H70)/H70 -> 0.038955468 | I72: =(I71-I70)/I70 -> 0.0036422233 | J72: =(J71-J70)/J70 -> 0.059545075 | ... N72: =(N71-N70)/N70 -> 0.086890672
A74: MIAMI BEACH NORMANDY | B74: 2024 | C74: 831266387 | D74: 463050302 | E74: 0 | F74: 1264635 | G74: 6000000 | H74: 6000000 | I74: 200000 | J74: 167266 | K74: 13631901 | L74: 449418401 | M74: 0.7789 | N74: 350051.99
A75: MIAMI BEACH NORMANDY | B75: 2025 | C75: 868621528 | D75: 505908151 | F75: 1391098 | G75: 5975000 | H75: 6147558 | I75: 150000 | J75: 118265 | K75: 13781921 | L75: 492126230 | M75: 0.7305 | N75: 359498.21
A76: Pct Change | C76: =(C75-C74)/C74 -> 0.04493763 | D76: =(D75-D74)/D74 -> 0.092555493 | E76: =(E75-E74)/E74 -> #DIV/0! | F76: =(F75-F74)/F74 -> 0.099999605 | G76: =(G75-G74)/G74 -> -0.0041666667 | H76: =(H75-H74)/H74 -> 0.024593 | I76: =(I75-I74)/I74 -> -0.25 | J76: =(J75-J74)/J74 -> -0.29295254 | ... N76: =(N75-N74)/N74 -> 0.026985187
A78: MIAMI GARDENS | B78: 2024 | C78: 16535405389 | D78: 10864199113 | E78: 441075137 | F78: 588585019 | G78: 517805004 | H78: 467473827 | I78: 73695007 | J78: 71723737 | K78: 2160357731 | L78: 8703841382 | M78: 6.9363 | N78: 60372455
A79: MIAMI GARDENS | B79: 2025 | C79: 17263981631 | D79: 11934823098 | E79: 465691146 | F79: 704855066 | G79: 519021961 | H79: 484438269 | I79: 75312792 | J79: 81023765 | K79: 2330342999 | L79: 9604480099 | M79: 6.9363 | N79: 66619555
A80: Pct Change | C80: =(C79-C78)/C78 -> 0.044061589 | D80: =(D79-D78)/D78 -> 0.098546057 | E80: =(E79-E78)/E78 -> 0.055809106 | F80: =(F79-F78)/F78 -> 0.19754164 | G80: =(G79-G78)/G78 -> 0.0023502226 | H80: =(H79-H78)/H78 -> 0.036289608 | I80: =(I79-I78)/I78 -> 0.021952437 | J80: =(J79-J78)/J78 -> 0.12966458 | ... N80: =(N79-N78)/N78 -> 0.103476
A82: MIAMI LAKES | B82: 2024 | C82: 7736908289 | D82: 5615967680 | E82: 211072355 | F82: 128371244 | G82: 172000000 | H82: 170067733 | I82: 18351547 | J82: 35964729 | K82: 735827608 | L82: 4880140072 | M82: 2.0732 | N82: 10117506
A83: MIAMI LAKES | B83: 2025 | C83: 8075470839 | D83: 5996705869 | E83: 212201866 | F83: 131710346 | G83: 171550000 | H83: 174482733 | I83: 18402128 | J83: 39427650 | K83: 747774723 | L83: 5248931146 | M83: 2.1577 | N83: 11325619
A84: Pct Change | C84: =(C83-C82)/C82 -> 0.043759411 | D84: =(D83-D82)/D82 -> 0.067795652 | E84: =(E83-E82)/E82 -> 0.0053512977 | F84: =(F83-F82)/F82 -> 0.026011293 | G84: =(G83-G82)/G82 -> -0.0026162791 | H84: =(H83-H82)/H82 -> 0.025960245 | I84: =(I83-I82)/I82 -> 0.0027562254 | J84: =(J83-J82)/J82 -> 0.096286587 | ... N84: =(N83-N82)/N82 -> 0.11940811
A86: MIAMI SHORES | B86: 2024 | C86: 4174197016 | D86: 2358128739 | E86: 34309370 | F86: 194872944 | G86: 72925000 | H86: 71608196 | I86: 0 | J86: 9743763 | K86: 383459273 | L86: 1974669466 | M86: 7.8 | N86: 15402422
A87: MIAMI SHORES | B87: 2025 | C87: 4359573300 | D87: 2558420250 | E87: 35495894 | F87: 202243588 | G87: 72850000 | H87: 73662873 | I87: 0 | J87: 8680926 | K87: 392933281 | L87: 2165486969 | M87: 7.8 | N87: 16890798
A88: Pct Change | C88: =(C87-C86)/C86 -> 0.044410047 | D88: =(D87-D86)/D86 -> 0.084936631 | E88: =(E87-E86)/E86 -> 0.034583089 | F88: =(F87-F86)/F86 -> 0.037822819 | G88: =(G87-G86)/G86 -> -0.0010284539 | H88: =(H87-H86)/H86 -> 0.028693322 | I88: =(I87-I86)/I86 -> #DIV/0! | J88: =(J87-J86)/J86 -> -0.1090787 | ... N88: =(N87-N86)/N86 -> 0.09663263
A90: MIAMI SPRINGS | B90: 2024 | C90: 3123311269 | D90: 2040826011 | E90: 113579352 | F90: 20733313 | G90: 76200000 | H90: 74866144 | I90: 8357275 | J90: 12606812 | K90: 306342896 | L90: 1734483115 | M90: 6.86 | N90: 11898554
A91: MIAMI SPRINGS | B91: 2025 | C91: 3310726832 | D91: 2208087757 | E91: 119269781 | F91: 22600750 | G91: 76375000 | H91: 77190365 | I91: 8087335 | J91: 14876059 | K91: 318399290 | L91: 1889688467 | M91: 6.81 | N91: 12868778
A92: Pct Change | C92: =(C91-C90)/C90 -> 0.060005407 | D92: =(D91-D90)/D90 -> 0.081957867 | E92: =(E91-E90)/E90 -> 0.050100911 | F92: =(F91-F90)/F90 -> 0.090069397 | G92: =(G91-G90)/G90 -> 0.0022965879 | H92: =(H91-H90)/H90 -> 0.031045021 | I92: =(I91-I90)/I90 -> -0.032300002 | J92: =(J91-J90)/J90 -> 0.18000165 | ... N92: =(N91-N90)/N90 -> 0.08154136
A94: NORTH BAY | B94: 2024 | C94: 2286119998 | D94: 1701434010 | E94: 18801994 | F94: 3499412 | G94: 32000000 | H94: 30657463 | I94: 2815438 | J94: 4993599 | K94: 92767906 | L94: 1608666104 | M94: 5.7062 | N94: 9179370.5
A95: NORTH BAY | B95: 2025 | C95: 2695821258 | D95: 1922816790 | E95: 19564273 | F95: 3746137 | G95: 31625000 | H95: 31332692 | I95: 2726559 | J95: 4172899 | K95: 93167560 | L95: 1829649230 | M95: 5.7062 | N95: 10440344
A96: Pct Change | C96: =(C95-C94)/C94 -> 0.17921249 | D96: =(D95-D94)/D94 -> 0.13011541 | E96: =(E95-E94)/E94 -> 0.040542455 | F96: =(F95-F94)/F94 -> 0.070504702 | G96: =(G95-G94)/G94 -> -0.01171875 | H96: =(H95-H94)/H94 -> 0.022024947 | I96: =(I95-I94)/I94 -> -0.031568445 | J96: =(J95-J94)/J94 -> -0.1643504 | ... N96: =(N95-N94)/N94 -> 0.13737041
A98: NORTH MIAMI | B98: 2024 | C98: 10595503196 | D98: 6888997248 | E98: 363528313 | F98: 279996531 | G98: 205290083 | H98: 186250325 | I98: 24526633 | J98: 30260040 | K98: 1089851925 | L98: 5799145323 | M98: 7.4 | N98: 42913675
A99: NORTH MIAMI | B99: 2025 | C99: 11199731001 | D99: 7556854676 | E99: 383244781 | F99: 263728349 | G99: 203651676 | H99: 191997735 | I99: 27417756 | J99: 32319014 | K99: 1102359311 | L99: 6454495365 | M99: 7.4 | N99: 47763266
A100: Pct Change | C100: =(C99-C98)/C98 -> 0.057026815 | D100: =(D99-D98)/D98 -> 0.096945521 | E100: =(E99-E98)/E98 -> 0.054236403 | F100: =(F99-F98)/F98 -> -0.05810137 | G100: =(G99-G98)/G98 -> -0.0079809359 | H100: =(H99-H98)/H98 -> 0.030858523 | I100: =(I99-I98)/I98 -> 0.11787688 | J100: =(J99-J98)/J98 -> 0.068042673 | ... N100: =(N99-N98)/N98 -> 0.11300804
A102: NORTH MIAMI BE | B102: 2024 | C102: 8654930547 | D102: 5881173435 | E102: 117010036 | F102: 126951032 | G102: 162164831 | H102: 150095141 | I102: 21220087 | J102: 24481703 | K102: 601922830 | L102: 5279250605 | M102: 6.1 | N102: 32203429
A103: NORTH MIAMI BE | B103: 2025 | C103: 8877865660 | D103: 6365529866 | E103: 123358642 | F103: 136196260 | G103: 162569200 | H103: 155502042 | I103: 23285747 | J103: 27739768 | K103: 628651659 | L103: 5736878207 | M103: 6.1 | N103: 34994957
A104: Pct Change | C104: =(C103-C102)/C102 -> 0.025758163 | D104: =(D103-D102)/D102 -> 0.082357107 | E104: =(E103-E102)/E102 -> 0.054256936 | F104: =(F103-F102)/F102 -> 0.07282515 | G104: =(G103-G102)/G102 -> 0.0024935678 | H104: =(H103-H102)/H102 -> 0.036023158 | I104: =(I103-I102)/I102 -> 0.097344558 | J104: =(J103-J102)/J102 -> 0.13308163 | ... N104: =(N103-N102)/N102 -> 0.086684197
A106: OPA-LOCKA | B106: 2024 | C106: 3396682647 | D106: 2343829138 | E106: 283240383 | F106: 110805310 | G106: 38474260 | H106: 30577637 | I106: 4602769 | J106: 13646549 | K106: 481346908 | L106: 1862482230 | M106: 9.163 | N106: 17065925
A107: OPA-LOCKA | B107: 2025 | C107: 3859897675 | D107: 2675416431 | E107: 310564934 | F107: 121168897 | G107: 38982529 | H107: 32935462 | I107: 4621726 | J107: 16390582 | K107: 524664130 | L107: 2150752301 | M107: 8.9797 | N107: 19313110
A108: Pct Change | C108: =(C107-C106)/C106 -> 0.13637277 | D108: =(D107-D106)/D106 -> 0.14147247 | E108: =(E107-E106)/E106 -> 0.09647124 | F108: =(F107-F106)/F106 -> 0.093529696 | G108: =(G107-G106)/G106 -> 0.013210624 | H108: =(H107-H106)/H106 -> 0.077109457 | I108: =(I107-I106)/I106 -> 0.0041186077 | J108: =(J107-J106)/J106 -> 0.2010789 | ... N108: =(N107-N106)/N106 -> 0.13167677
A110: PALMETTO BAY | B110: 2024 | C110: 8462581988 | D110: 5317493814 | E110: 205955323 | F110: 200381953 | G110: 161025000 | H110: 159225768 | I110: 7090525 | J110: 32606935 | K110: 766285504 | L110: 4551208310 | M110: 2.35 | N110: 10695340
A111: PALMETTO BAY | B111: 2025 | C111: 8658441159 | D111: 5686585302 | E111: 212503484 | F111: 215752876 | G111: 160225000 | H111: 162707132 | I111: 6732511 | J111: 41278616 | K111: 799199619 | L111: 4887385683 | M111: 2.3018 | N111: 11249784
A112: Pct Change | C112: =(C111-C110)/C110 -> 0.023144139 | D112: =(D111-D110)/D110 -> 0.069410798 | E112: =(E111-E110)/E110 -> 0.031794085 | F112: =(F111-F110)/F110 -> 0.076708121 | G112: =(G111-G110)/G110 -> -0.0049681726 | H112: =(H111-H110)/H110 -> 0.021864325 | I112: =(I111-I110)/I110 -> -0.050491889 | J112: =(J111-J110)/J110 -> 0.26594591 | ... N112: =(N111-N110)/N110 -> 0.051839854
A114: PINECREST | B114: 2024 | C114: 13000924038 | D114: 8110941699 | E114: 111922701 | F114: 179638400 | G114: 114450000 | H114: 113869113 | I114: 1769877 | J114: 21533796 | K114: 543183887 | L114: 7567757812 | M114: 2.35 | N114: 17784231
A115: PINECREST | B115: 2025 | C115: 14191810764 | D115: 8942847811 | E115: 112089054 | F115: 245995436 | G115: 114400000 | H115: 117046220 | I115: 2007316 | J115: 24976845 | K115: 616514871 | L115: 8326332940 | M115: 2.503 | N115: 20840811
A116: Pct Change | C116: =(C115-C114)/C114 -> 0.09160016 | D116: =(D115-D114)/D114 -> 0.10256591 | E116: =(E115-E114)/E114 -> 0.0014863205 | F116: =(F115-F114)/F114 -> 0.36939227 | G116: =(G115-G114)/G114 -> -0.000436872 | H116: =(H115-H114)/H114 -> 0.027901394 | I116: =(I115-I114)/I114 -> 0.13415565 | J116: =(J115-J114)/J114 -> 0.15989048 | ... N116: =(N115-N114)/N114 -> 0.17187027
A118: SOUTH MIAMI | B118: 2024 | C118: 4694119017 | D118: 3356712081 | E118: 122101630 | F118: 264391142 | G118: 61290532 | H118: 59810604 | I118: 3519036 | J118: 17510178 | K118: 528623122 | L118: 2828088959 | M118: 3.95 | N118: 11170951
A119: SOUTH MIAMI | B119: 2025 | C119: 5262121597 | D119: 3664228022 | E119: 124136038 | F119: 272054806 | G119: 60840475 | H119: 61167869 | I119: 3620286 | J119: 17556590 | K119: 539376064 | L119: 3124851958 | M119: 3.95 | N119: 12343165
A120: Pct Change | C120: =(C119-C118)/C118 -> 0.12100302 | D120: =(D119-D118)/D118 -> 0.091612248 | E120: =(E119-E118)/E118 -> 0.016661596 | F120: =(F119-F118)/F118 -> 0.028986085 | G120: =(G119-G118)/G118 -> -0.0073430102 | H120: =(H119-H118)/H118 -> 0.022692715 | I120: =(I119-I118)/I118 -> 0.028772084 | J120: =(J119-J118)/J118 -> 0.0026505727 | ... N120: =(N119-N118)/N118 -> 0.10493411
A122: SUNNY ISLES | B122: 2024 | C122: 21513905972 | D122: 18089948577 | E122: 167428972 | F122: 31287653 | G122: 103625000 | H122: 102543403 | I122: 18938798 | J122: 20414865 | K122: 444238691 | L122: 17645709886 | M122: 1.8 | N122: 31762278
A123: SUNNY ISLES | B123: 2025 | C123: 22837458735 | D123: 19678966630 | E123: 172915134 | F123: 43666065 | G123: 105625000 | H123: 107696370 | I123: 19202861 | J123: 19833502 | K123: 468938932 | L123: 19210027698 | M123: 1.7 | N123: 32657047
A124: Pct Change | C124: =(C123-C122)/C122 -> 0.061520803 | D124: =(D123-D122)/D122 -> 0.087839833 | E124: =(E123-E122)/E122 -> 0.032767101 | F124: =(F123-F122)/F122 -> 0.39563249 | G124: =(G123-G122)/G122 -> 0.019300362 | H124: =(H123-H122)/H122 -> 0.05025157 | I124: =(I123-I122)/I122 -> 0.013942965 | J124: =(J123-J122)/J122 -> -0.028477435 | ... N124: =(N123-N122)/N122 -> 0.028170816
A126: SURFSIDE | B126: 2024 | C126: 7039598995 | D126: 4821680658 | E126: 52666600 | F126: 40250967 | G126: 30150000 | H126: 29986349 | I126: 2969943 | J126: 4851060 | K126: 160874919 | L126: 4660805739 | M126: 4 | N126: 18643223
A127: SURFSIDE | B127: 2025 | C127: 7669356759 | D127: 5582598502 | E127: 63682376 | F127: 44230226 | G127: 30025000 | H127: 30751063 | I127: 2921974 | J127: 4250522 | K127: 175861161 | L127: 5406737341 | M127: 3.883 | N127: 20994361
A128: Pct Change | C128: =(C127-C126)/C126 -> 0.089459324 | D128: =(D127-D126)/D126 -> 0.15781175 | E128: =(E127-E126)/E126 -> 0.20916057 | F128: =(F127-F126)/F126 -> 0.098861203 | G128: =(G127-G126)/G126 -> -0.004145937 | H128: =(H127-H126)/H126 -> 0.025502071 | I128: =(I127-I126)/I126 -> -0.016151488 | J128: =(J127-J126)/J126 -> -0.12379521 | ... N128: =(N127-N126)/N126 -> 0.12611221
A130: SWEETWATER | B130: 2024 | C130: 5509600858 | D130: 4471392294 | E130: 261527150 | F130: 39816603 | G130: 44875000 | H130: 42860399 | I130: 13110123 | J130: 22356534 | K130: 424545809 | L130: 4046846485 | M130: 3.5634 | N130: 14420533
A131: SWEETWATER | B131: 2025 | C131: 6086721066 | D131: 4920037222 | E131: 268318906 | F131: 46455973 | G131: 44225000 | H131: 43785298 | I131: 12869695 | J131: 21530900 | K131: 437185772 | L131: 4482851450 | M131: 3.5634 | N131: 15974193
A132: Pct Change | C132: =(C131-C130)/C130 -> 0.1047481 | D132: =(D131-D130)/D130 -> 0.10033674 | E132: =(E131-E130)/E130 -> 0.025969602 | F132: =(F131-F130)/F130 -> 0.16674878 | G132: =(G131-G130)/G130 -> -0.01448468 | H132: =(H131-H130)/H130 -> 0.021579337 | I132: =(I131-I130)/I130 -> -0.018339111 | J132: =(J131-J130)/J130 -> -0.036930322 | ... N132: =(N131-N130)/N130 -> 0.10773944
...

Sheet DeSoto
A1: Municipality | B1: Year | C1: Just Value | D1: Assessed Value | E1: Government Exemption Value | F1: Institutional Exemption Value | G1: Homestead Exemption Value | H1: Additional 25,000 Homestead Exemption Value | I1: Senior Homestead Exemptions | J1: Other Exemptions | K1: Total Exemption Value | L1: Total Taxable Value | M1: City Millage Rate | N1: Taxes Levied
A2: ARCADIA | B2: 2024 | C2: 602555792 | D2: 494204433 | E2: 63658684 | F2: 53935244 | G2: 28614409 | H2: 19918057 | I2: 0 | J2: 7356457 | K2: 173482851 | L2: 320721582 | M2: 7.9 | N2: 2533700.5
A3: ARCADIA | B3: 2025 | C3: 666060441 | D3: 559640045 | E3: 69689700 | F3: 58633094 | G3: 28743640 | H3: 21473702 | I3: 0 | J3: 7957212 | K3: 186497348 | L3: 373142697 | M3: 7.9 | N3: 2947827.3
A4: Pct Change | C4: =(C3-C2)/C2 -> 0.10539215 | D4: =(D3-D2)/D2 -> 0.13240596 | E4: =(E3-E2)/E2 -> 0.094739879 | F4: =(F3-F2)/F2 -> 0.087101673 | G4: =(G3-G2)/G2 -> 0.0045162911 | H4: =(H3-H2)/H2 -> 0.078102247 | I4: =(I3-I2)/I2 -> #DIV/0! | J4: =(J3-J2)/J2 -> 0.081663632 | ... N4: =(N3-N2)/N2 -> 0.16344742
A6: Total Municipal | B6: 2024 | C6: =C2 -> 602555792 | D6: =D2 -> 494204433 | E6: =E2 -> 63658684 | F6: =F2 -> 53935244 | G6: =G2 -> 28614409 | H6: =H2 -> 19918057 | I6: =I2 -> 0 | J6: =J2 -> 7356457 | ... L6: =L2 -> 320721582 | N6: =N2 -> 2533700.5
B7: 2025 | C7: =C3 -> 666060441 | D7: =D3 -> 559640045 | E7: =E3 -> 69689700 | F7: =F3 -> 58633094 | G7: =G3 -> 28743640 | H7: =H3 -> 21473702 | I7: =I3 -> 0 | J7: =J3 -> 7957212 | ... L7: =L3 -> 373142697 | N7: =N3 -> 2947827.3
A8: Pct Change | C8: =(C7-C6)/C6 -> 0.10539215 | D8: =(D7-D6)/D6 -> 0.13240596 | E8: =(E7-E6)/E6 -> 0.094739879 | F8: =(F7-F6)/F6 -> 0.087101673 | G8: =(G7-G6)/G6 -> 0.0045162911 | H8: =(H7-H6)/H6 -> 0.078102247 | I8: =(I7-I6)/I6 -> #DIV/0! | J8: =(J7-J6)/J6 -> 0.081663632 | ... L8: =(L7-L6)/L6 -> 0.16344742 | N8: =(N7-N6)/N6 -> 0.16344742
K10: Effective Millage Rate | L10: 2024 | M10: =M2 -> 7.9
L11: 2025 | M11: =M3 -> 7.9
K12: Percent change | M12: =(M11-M10)/M10 -> 0

Sheet Dixie
A1: Municipality | B1: Year | C1: Just Value | D1: Assessed Value | E1: Government Exemption Value | F1: Institutional Exemption Value | G1: Homestead Exemption Value | H1: Additional 25,000 Homestead Exemption Value | I1: Senior Homestead Exemptions | J1: Other Exemptions | K1: Total Exemption Value | L1: Total Taxable Value | M1: City Millage Rate | N1: Taxes Levied
A2: CROSS CITY | B2: 2024 | C2: 99052809 | D2: 86320276 | E2: 19262711 | F2: 4718878 | G2: 9878547 | H2: 3485738 | I2: 0 | J2: 2076958 | K2: 39422832 | L2: 46897444 | M2: 5.3498 | N2: 250891.95
A3: CROSS CITY | B3: 2025 | C3: 101333329 | D3: 88718141 | E3: 19292101 | F3: 4798989 | G3: 9908613 | H3: 3932808 | I3: 0 | J3: 1988384 | K3: 39920895 | L3: 48797246 | M3: 5.1272 | N3: 250193.24
A4: Pct Change | C4: =(C3-C2)/C2 -> 0.023023274 | D4: =(D3-D2)/D2 -> 0.027778699 | E4: =(E3-E2)/E2 -> 0.0015257458 | F4: =(F3-F2)/F2 -> 0.016976705 | G4: =(G3-G2)/G2 -> 0.003043565 | H4: =(H3-H2)/H2 -> 0.12825691 | I4: =(I3-I2)/I2 -> #DIV/0! | J4: =(J3-J2)/J2 -> -0.042646024 | ... N4: =(N3-N2)/N2 -> -0.002784889
A6: HORSESHOE BEAC | B6: 2024 | C6: 81432388 | D6: 73817498 | E6: 868274 | F6: 907795 | G6: 1875000 | H6: 1509485 | I6: 0 | J6: 371897 | K6: 5532451 | L6: 68285047 | M6: 2 | N6: 136570.09
A7: HORSESHOE BEAC | B7: 2025 | C7: 74049445 | D7: 69901681 | E7: 917311 | F7: 602615 | G7: 1550000 | H7: 1302907 | I7: 0 | J7: 370811 | K7: 4743644 | L7: 65158037 | M7: 2.5 | N7: 162895.09
A8: Pct Change | C8: =(C7-C6)/C6 -> -0.090663472 | D8: =(D7-D6)/D6 -> -0.053047273 | E8: =(E7-E6)/E6 -> 0.056476412 | F8: =(F7-F6)/F6 -> -0.33617722 | G8: =(G7-G6)/G6 -> -0.17333333 | H8: =(H7-H6)/H6 -> -0.1368533 | I8: =(I7-I6)/I6 -> #DIV/0! | J8: =(J7-J6)/J6 -> -0.0029201634 | ... N8: =(N7-N6)/N6 -> 0.19275815
A10: Total Municipal | B10: 2024 | C10: =C2+C6 -> 180485197 | D10: =D2+D6 -> 160137774 | E10: =E2+E6 -> 20130985 | F10: =F2+F6 -> 5626673 | G10: =G2+G6 -> 11753547 | H10: =H2+H6 -> 4995223 | I10: =I2+I6 -> 0 | J10: =J2+J6 -> 2448855 | ... L10: =L2+L6 -> 115182491 | N10: =N2+N6 -> 387462.04
B11: 2025 | C11: =C3+C7 -> 175382774 | D11: =D3+D7 -> 158619822 | E11: =E3+E7 -> 20209412 | F11: =F3+F7 -> 5401604 | G11: =G3+G7 -> 11458613 | H11: =H3+H7 -> 5235715 | I11: =I3+I7 -> 0 | J11: =J3+J7 -> 2359195 | ... L11: =L3+L7 -> 113955283 | N11: =N3+N7 -> 413088.33
A12: Pct Change | C12: =(C11-C10)/C10 -> -0.02827059 | D12: =(D11-D10)/D10 -> -0.0094790377 | E12: =(E11-E10)/E10 -> 0.0038958352 | F12: =(F11-F10)/F10 -> -0.04000037 | G12: =(G11-G10)/G10 -> -0.025093191 | H12: =(H11-H10)/H10 -> 0.048144397 | I12: =(I11-I10)/I10 -> #DIV/0! | J12: =(J11-J10)/J10 -> -0.036613029 | ... L12: =(L11-L10)/L10 -> -0.010654467 | N12: =(N11-N10)/N10 -> 0.066138846
K14: Effective Millage Rate | L14: 2024 | M14: =(M2+M6)/2 -> 3.6749
L15: 2025 | M15: =(M3+M7)/2 -> 3.8136
K16: Percent change | M16: =(M15-M14)/M14 -> 0.037742524

Sheet Duval
A1: Municipality | B1: Year | C1: Just Value | D1: Assessed Value | E1: Government Exemption Value | F1: Institutional Exemption Value | G1: Homestead Exemption Value | H1: Additional 25,000 Homestead Exemption Value | I1: Senior Homestead Exemptions | J1: Other Exemptions | K1: Total Exemption Value | L1: Total Taxable Value | M1: City Millage Rate | N1: Taxes Levied
A2: ATLANTIC BEACH | B2: 2024 | C2: 5100665487 | D2: 3224794136 | E2: 35144413 | F2: 43619021 | G2: 98719723 | H2: 97778920 | I2: 4825645 | J2: 35962816 | K2: 316050538 | L2: 2908743598 | M2: 2.841 | N2: 8263740.6
A3: ATLANTIC BEACH | B3: 2025 | C3: 5389711260 | D3: 3508730122 | E3: 38009968 | F3: 43914903 | G3: 98396019 | H3: 100500735 | I3: 4612420 | J3: 44621471 | K3: 330055516 | L3: 3178674606 | M3: 2.841 | N3: 9030614.6
A4: Pct Change | C4: =(C3-C2)/C2 -> 0.056668247 | D4: =(D3-D2)/D2 -> 0.088047787 | E4: =(E3-E2)/E2 -> 0.081536573 | F4: =(F3-F2)/F2 -> 0.0067833251 | G4: =(G3-G2)/G2 -> -0.0032790205 | H4: =(H3-H2)/H2 -> 0.027836419 | I4: =(I3-I2)/I2 -> -0.044185803 | J4: =(J3-J2)/J2 -> 0.24076688 | ... N4: =(N3-N2)/N2 -> 0.092799863
A6: BALDWIN | B6: 2024 | C6: 140485744 | D6: 108400454 | E6: 10242263 | F6: 4830298 | G6: 7773285 | H6: 6300809 | I6: 730686 | J6: 1842783 | K6: 31720124 | L6: 76680330 | M6: 1.962 | N6: 150446.81
A7: BALDWIN | B7: 2025 | C7: 156151453 | D7: 117011936 | E7: 10091465 | F7: 4889626 | G7: 7825164 | H7: 6714897 | I7: 890087 | J7: 1937308 | K7: 32348547 | L7: 84663389 | M7: 1.962 | N7: 166109.57
A8: Pct Change | C8: =(C7-C6)/C6 -> 0.11151102 | D8: =(D7-D6)/D6 -> 0.079441383 | E8: =(E7-E6)/E6 -> -0.014723113 | F8: =(F7-F6)/F6 -> 0.012282472 | G8: =(G7-G6)/G6 -> 0.0066740123 | H8: =(H7-H6)/H6 -> 0.065719815 | I8: =(I7-I6)/I6 -> 0.21815253 | J8: =(J7-J6)/J6 -> 0.051294699 | ... N8: =(N7-N6)/N6 -> 0.1041083
A10: JACKSONVILLE-B | B10: 2024 | C10: 9341237270 | D10: 6800882143 | E10: 215897955 | F10: 420939280 | G10: 169642513 | H10: 168552583 | I10: 7200107 | J10: 54212864 | K10: 1036445302 | L10: 5764436841 | M10: 3.9947 | N10: 23027196
A11: JACKSONVILLE-B | B11: 2025 | C11: 9525854292 | D11: 7248047492 | E11: 227338510 | F11: 406686697 | G11: 169868020 | H11: 173798105 | I11: 7324549 | J11: 60692597 | K11: 1045708478 | L11: 6202339014 | M11: 3.9947 | N11: 24776484
A12: Pct Change | C12: =(C11-C10)/C10 -> 0.019763658 | D12: =(D11-D10)/D10 -> 0.06575108 | E12: =(E11-E10)/E10 -> 0.052990567 | F12: =(F11-F10)/F10 -> -0.033859 | G12: =(G11-G10)/G10 -> 0.0013293071 | H12: =(H11-H10)/H10 -> 0.031120983 | I12: =(I11-I10)/I10 -> 0.017283354 | J12: =(J11-J10)/J10 -> 0.1195239 | ... N12: =(N11-N10)/N10 -> 0.075966167
A14: NEPTUNE BEACH- | B14: 2024 | C14: 2406167085 | D14: 1566916739 | E14: 48920036 | F14: 24742129 | G14: 50800000 | H14: 50707659 | I14: 1945052 | J14: 14857986 | K14: 191972862 | L14: 1374943877 | M14: 3.3656 | N14: 4627511.1
A15: NEPTUNE BEACH- | B15: 2025 | C15: 2450588254 | D15: 1671800715 | E15: 49782508 | F15: 26033967 | G15: 51025000 | H15: 52386580 | I15: 1867369 | J15: 17017028 | K15: 198112452 | L15: 1473688263 | M15: 3.3656 | N15: 4959845.2
A16: Pct Change | C16: =(C15-C14)/C14 -> 0.018461382 | D16: =(D15-D14)/D14 -> 0.066936534 | E16: =(E15-E14)/E14 -> 0.017630241 | F16: =(F15-F14)/F14 -> 0.052212079 | G16: =(G15-G14)/G14 -> 0.0044291339 | H16: =(H15-H14)/H14 -> 0.033109811 | I16: =(I15-I14)/I14 -> -0.039938778 | J16: =(J15-J14)/J14 -> 0.14531189 | ... N16: =(N15-N14)/N14 -> 0.07181703
A18: Total Municipal | B18: 2024 | C18: =C2+C6+C10+C14 -> 16988555586 | D18: =D2+D6+D10+D14 -> 11700993472 | E18: =E2+E6+E10+E14 -> 310204667 | F18: =F2+F6+F10+F14 -> 494130728 | G18: =G2+G6+G10+G14 -> 326935521 | H18: =H2+H6+H10+H14 -> 323339971 | I18: =I2+I6+I10+I14 -> 14701490 | J18: =J2+J6+J10+J14 -> 106876449 | ... L18: =L2+L6+L10+L14 -> 10124804646 | N18: =N2+N6+N10+N14 -> 36068894
B19: 2025 | C19: =C3+C7+C11+C15 -> 17522305259 | D19: =D3+D7+D11+D15 -> 12545590265 | E19: =E3+E7+E11+E15 -> 325222451 | F19: =F3+F7+F11+F15 -> 481525193 | G19: =G3+G7+G11+G15 -> 327114203 | H19: =H3+H7+H11+H15 -> 333400317 | I19: =I3+I7+I11+I15 -> 14694425 | J19: =J3+J7+J11+J15 -> 124268404 | ... L19: =L3+L7+L11+L15 -> 10939365272 | N19: =N3+N7+N11+N15 -> 38933053
A20: Pct Change | C20: =(C19-C18)/C18 -> 0.03141819 | D20: =(D19-D18)/D18 -> 0.072181631 | E20: =(E19-E18)/E18 -> 0.048412502 | F20: =(F19-F18)/F18 -> -0.025510526 | G20: =(G19-G18)/G18 -> 0.0005465359 | H20: =(H19-H18)/H18 -> 0.031113833 | I20: =(I19-I18)/I18 -> -0.00048056353 | J20: =(J19-J18)/J18 -> 0.16272954 | ... L20: =(L19-L18)/L18 -> 0.080451984 | N20: =(N19-N18)/N18 -> 0.079407998
K22: Effective Millage Rate | L22: 2024 | M22: =(M2+M6+M10+M14)/4 -> 3.040825
L23: 2025 | M23: =(M3+M7+M11+M15)/4 -> 3.040825
K24: Percent change | M24: =(M23-M22)/M22 -> 0

Sheet Escambia
A1: Municipality | B1: Year | C1: Just Value | D1: Assessed Value | E1: Government Exemption Value | F1: Institutional Exemption Value | G1: Homestead Exemption Value | H1: Additional 25,000 Homestead Exemption Value | I1: Senior Homestead Exemptions | J1: Other Exemptions | K1: Total Exemption Value | L1: Total Taxable Value | M1: City Millage Rate | N1: Taxes Levied
A2: CENTURY | B2: 2024 | C2: 99561096 | D2: 82115158 | E2: 4749867 | F2: 6577947 | G2: 5999009 | H2: 3293772 | I2: 0 | J2: 2103478 | K2: 22724073 | L2: 59391085 | M2: 0.9204 | N2: 54663.555
A3: CENTURY | B3: 2025 | C3: 102833695 | D3: 88115503 | E3: 4958568 | F3: 6583151 | G3: 5915320 | H3: 3441155 | I3: 0 | J3: 2214600 | K3: 23112794 | L3: 65002709 | M3: 0.9204 | N3: 59828.493
A4: Pct Change | C4: =(C3-C2)/C2 -> 0.032870259 | D4: =(D3-D2)/D2 -> 0.073072319 | E4: =(E3-E2)/E2 -> 0.043938283 | F4: =(F3-F2)/F2 -> 0.0007911283 | G4: =(G3-G2)/G2 -> -0.013950471 | H4: =(H3-H2)/H2 -> 0.044745963 | I4: =(I3-I2)/I2 -> #DIV/0! | J4: =(J3-J2)/J2 -> 0.052827745 | ... N4: =(N3-N2)/N2 -> 0.094485965
A6: PENSACOLA | B6: 2024 | C6: 10696509844 | D6: 8610820763 | E6: 453537623 | F6: 885140357 | G6: 352320926 | H6: 316960197 | I6: 34350358 | J6: 179988032 | K6: 2222297493 | L6: 6388523270 | M6: 4.2895 | N6: 27403571
A7: PENSACOLA | B7: 2025 | C7: 11068139622 | D7: 9075620914 | E7: 466417195 | F7: 885921975 | G7: 351195407 | H7: 328651384 | I7: 34642158 | J7: 199831829 | K7: 2266659948 | L7: 6808960966 | M7: 4.2895 | N7: 29207038
A8: Pct Change | C8: =(C7-C6)/C6 -> 0.034743088 | D8: =(D7-D6)/D6 -> 0.053978612 | E8: =(E7-E6)/E6 -> 0.028398023 | F8: =(F7-F6)/F6 -> 0.00088304413 | G8: =(G7-G6)/G6 -> -0.0031945846 | H8: =(H7-H6)/H6 -> 0.036885347 | I8: =(I7-I6)/I6 -> 0.0084948169 | J8: =(J7-J6)/J6 -> 0.11025065 | ... N8: =(N7-N6)/N6 -> 0.065811406
A10: Total Municipal | B10: 2024 | C10: =C2+C6 -> 10796070940 | D10: =D2+D6 -> 8692935921 | E10: =E2+E6 -> 458287490 | F10: =F2+F6 -> 891718304 | G10: =G2+G6 -> 358319935 | H10: =H2+H6 -> 320253969 | I10: =I2+I6 -> 34350358 | J10: =J2+J6 -> 182091510 | ... L10: =L2+L6 -> 6447914355 | N10: =N2+N6 -> 27458234
B11: 2025 | C11: =C3+C7 -> 11170973317 | D11: =D3+D7 -> 9163736417 | E11: =E3+E7 -> 471375763 | F11: =F3+F7 -> 892505126 | G11: =G3+G7 -> 357110727 | H11: =H3+H7 -> 332092539 | I11: =I3+I7 -> 34642158 | J11: =J3+J7 -> 202046429 | ... L11: =L3+L7 -> 6873963675 | N11: =N3+N7 -> 29266867
A12: Pct Change | C12: =(C11-C10)/C10 -> 0.034725816 | D12: =(D11-D10)/D10 -> 0.054158975 | E12: =(E11-E10)/E10 -> 0.028559089 | F12: =(F11-F10)/F10 -> 0.0008823661 | G12: =(G11-G10)/G10 -> -0.0033746601 | H12: =(H11-H10)/H10 -> 0.036966193 | I12: =(I11-I10)/I10 -> 0.0084948169 | J12: =(J11-J10)/J10 -> 0.10958731 | ... L12: =(L11-L10)/L10 -> 0.066075524 | N12: =(N11-N10)/N10 -> 0.065868491
K14: Effective Millage Rate | L14: 2024 | M14: =(M2+M6)/2 -> 2.60495
L15: 2025 | M15: =(M3+M7)/2 -> 2.60495
K16: Percent change | M16: =(M15-M14)/M14 -> 0

Sheet Flagler
A1: Municipality | B1: Year | C1: Just Value | D1: Assessed Value | E1: Government Exemption Value | F1: Institutional Exemption Value | G1: Homestead Exemption Value | H1: Additional 25,000 Homestead Exemption Value | I1: Senior Homestead Exemptions | J1: Other Exemptions | K1: Total Exemption Value | L1: Total Taxable Value | M1: City Millage Rate | N1: Taxes Levied
A2: BEVERLY BEACH | B2: 2024 | C2: 176919041 | D2: 140288491 | E2: 763633 | F2: 0 | G2: 5917947 | H2: 5614523 | I2: 1567858 | J2: 4143103 | K2: 18007064 | L2: 122281427 | M2: 1.08 | N2: 132063.94
A3: BEVERLY BEACH | B3: 2025 | C3: 178094212 | D3: 149697844 | E3: 757147 | G3: 6041938 | H3: 5937235 | I3: 1454994 | J3: 4433782 | K3: 18625096 | L3: 131072748 | M3: 1.04 | N3: 136315.66
A4: Pct Change | C4: =(C3-C2)/C2 -> 0.0066424224 | D4: =(D3-D2)/D2 -> 0.067071453 | E4: =(E3-E2)/E2 -> -0.0084936088 | F4: =(F3-F2)/F2 -> #DIV/0! | G4: =(G3-G2)/G2 -> 0.020951692 | H4: =(H3-H2)/H2 -> 0.05747808 | I4: =(I3-I2)/I2 -> -0.071986111 | J4: =(J3-J2)/J2 -> 0.070159733 | ... N4: =(N3-N2)/N2 -> 0.03219438
A6: BUNNELL | B6: 2024 | C6: 787388899 | D6: 601698304 | E6: 130785161 | F6: 15210283 | G6: 21607111 | H6: 19113786 | I6: 4510709 | J6: 12334974 | K6: 203562024 | L6: 398136280 | M6: 7.93 | N6: 3157220.7
A7: BUNNELL | B7: 2025 | C7: 830518412 | D7: 638636224 | E7: 130201062 | F7: 15671780 | G7: 22661385 | H7: 21023439 | I7: 4759122 | J7: 13477720 | K7: 207794508 | L7: 430841716 | M7: 7.93 | N7: 3416574.8
A8: Pct Change | C8: =(C7-C6)/C6 -> 0.054775363 | D8: =(D7-D6)/D6 -> 0.061389437 | E8: =(E7-E6)/E6 -> -0.0044660954 | F8: =(F7-F6)/F6 -> 0.030341119 | G8: =(G7-G6)/G6 -> 0.048792918 | H8: =(H7-H6)/H6 -> 0.09990972 | I8: =(I7-I6)/I6 -> 0.05507183 | J8: =(J7-J6)/J6 -> 0.092642757 | ... N8: =(N7-N6)/N6 -> 0.082146334
A10: FLAGLER BEACH | B10: 2024 | C10: 1849640780 | D10: 1373448088 | E10: 17653417 | F10: 14964300 | G10: 49400000 | H10: 49021654 | I10: 8232644 | J10: 25517624 | K10: 164789639 | L10: 1208658449 | M10: 5.45 | N10: 6587188.5
A11: FLAGLER BEACH | B11: 2025 | C11: 1922333502 | D11: 1501369097 | E11: 18295384 | F11: 15952379 | G11: 50375000 | H11: 51505772 | I11: 8107192 | J11: 28283721 | K11: 172519448 | L11: 1328849649 | M11: 5.45 | N11: 7242230.6
A12: Pct Change | C12: =(C11-C10)/C10 -> 0.039300994 | D12: =(D11-D10)/D10 -> 0.093138583 | E12: =(E11-E10)/E10 -> 0.036365028 | F12: =(F11-F10)/F10 -> 0.066029083 | G12: =(G11-G10)/G10 -> 0.019736842 | H12: =(H11-H10)/H10 -> 0.050673892 | I12: =(I11-I10)/I10 -> -0.015238361 | J12: =(J11-J10)/J10 -> 0.10839947 | ... N12: =(N11-N10)/N10 -> 0.099441823
A14: MARINELAND | B14: 2024 | C14: 19650020 | D14: 19232755 | E14: 878327 | F14: 4451856 | G14: 0 | H14: 0 | I14: 0 | J14: 28194 | K14: 5358377 | L14: 13874378 | M14: 10 | N14: 138743.78
A15: MARINELAND | B15: 2025 | C15: 19457702 | D15: 19250940 | E15: 850172 | F15: 4398892 | I15: 0 | J15: 28003 | K15: 5277067 | L15: 13973873 | M15: 10 | N15: 139738.73
A16: Pct Change | C16: =(C15-C14)/C14 -> -0.0097871656 | D16: =(D15-D14)/D14 -> 0.00094552237 | E16: =(E15-E14)/E14 -> -0.03205526 | F16: =(F15-F14)/F14 -> -0.01189706 | G16: =(G15-G14)/G14 -> #DIV/0! | H16: =(H15-H14)/H14 -> #DIV/0! | I16: =(I15-I14)/I14 -> #DIV/0! | J16: =(J15-J14)/J14 -> -0.006774491 | ... N16: =(N15-N14)/N14 -> 0.0071711323
A18: PALM COAST | B18: 2024 | C18: 16619064355 | D18: 12776949728 | E18: 435900230 | F18: 312791325 | G18: 777484257 | H18: 773346704 | I18: 186277713 | J18: 317432003 | K18: 2803232232 | L18: 9973717496 | M18: 4.1893 | N18: 41782895
A19: PALM COAST | B19: 2025 | C19: 17718227965 | D19: 14155300327 | E19: 453359830 | F19: 496892375 | G19: 809261701 | H19: 828883044 | I19: 188517242 | J19: 396759660 | K19: 3173673852 | L19: 10981626475 | M19: 4.0893 | N19: 44907165
A20: Pct Change | C20: =(C19-C18)/C18 -> 0.066138718 | D20: =(D19-D18)/D18 -> 0.10787791 | E20: =(E19-E18)/E18 -> 0.04005412 | F20: =(F19-F18)/F18 -> 0.58857467 | G20: =(G19-G18)/G18 -> 0.040872138 | H20: =(H19-H18)/H18 -> 0.071812991 | I20: =(I19-I18)/I18 -> 0.012022528 | J20: =(J19-J18)/J18 -> 0.24990441 | ... N20: =(N19-N18)/N18 -> 0.074773911
A22: Total Municipal | B22: 2024 | C22: =C2+C6+C10+C14+C18 -> 19452663095 | D22: =D2+D6+D10+D14+D18 -> 14911617366 | E22: =E2+E6+E10+E14+E18 -> 585980768 | F22: =F2+F6+F10+F14+F18 -> 347417764 | G22: =G2+G6+G10+G14+G18 -> 854409315 | H22: =H2+H6+H10+H14+H18 -> 847096667 | I22: =I2+I6+I10+I14+I18 -> 200588924 | J22: =J2+J6+J10+J14+J18 -> 359455898 | ... L22: =L2+L6+L10+L14+L18 -> 11716668030 | N22: =N2+N6+N10+N14+N18 -> 51798112
B23: 2025 | C23: =C3+C7+C11+C15+C19 -> 20668631793 | D23: =D3+D7+D11+D15+D19 -> 16464254432 | E23: =E3+E7+E11+E15+E19 -> 603463595 | F23: =F3+F7+F11+F15+F19 -> 532915426 | G23: =G3+G7+G11+G15+G19 -> 888340024 | H23: =H3+H7+H11+H15+H19 -> 907349490 | I23: =I3+I7+I11+I15+I19 -> 202838550 | J23: =J3+J7+J11+J15+J19 -> 442982886 | ... L23: =L3+L7+L11+L15+L19 -> 12886364461 | N23: =N3+N7+N11+N15+N19 -> 55842025
A24: Pct Change | C24: =(C23-C22)/C22 -> 0.062509112 | D24: =(D23-D22)/D22 -> 0.10412265 | E24: =(E23-E22)/E22 -> 0.029835155 | F24: =(F23-F22)/F22 -> 0.53393258 | G24: =(G23-G22)/G22 -> 0.039712476 | H24: =(H23-H22)/H22 -> 0.071128627 | I24: =(I23-I22)/I22 -> 0.011215106 | J24: =(J23-J22)/J22 -> 0.23237061 | ... L24: =(L23-L22)/L22 -> 0.099831832 | N24: =(N23-N22)/N22 -> 0.078070669
K26: Effective Millage Rate | L26: 2024 | M26: =(M2+M6+M10+M14+M18)/5 -> 5.72986
L27: 2025 | M27: =(M3+M7+M11+M15+M19)/5 -> 5.70186
K28: Percent change | M28: =(M27-M26)/M26 -> -0.0048866813

Sheet Franklin
A1: Municipality | B1: Year | C1: Just Value | D1: Assessed Value | E1: Government Exemption Value | F1: Institutional Exemption Value | G1: Homestead Exemption Value | H1: Additional 25,000 Homestead Exemption Value | I1: Senior Homestead Exemptions | J1: Other Exemptions | K1: Total Exemption Value | L1: Total Taxable Value | M1: City Millage Rate | N1: Taxes Levied
A2: APALACHICOLA | B2: 2024 | C2: 544884630 | D2: 352082108 | E2: 27728928 | F2: 8806901 | G2: 16668247 | H2: 12300776 | I2: 2357926 | J2: 6173963 | K2: 74036741 | L2: 278045367 | M2: 8.3457 | N2: 2320483.2
A3: APALACHICOLA | B3: 2025 | C3: 557527142 | D3: 382860910 | E3: 29575846 | F3: 9535770 | G3: 17042876 | H3: 13209655 | I3: 2366906 | J3: 7608253 | K3: 79339306 | L3: 303521604 | M3: 8.3457 | N3: 2533100.3
A4: Pct Change | C4: =(C3-C2)/C2 -> 0.023202181 | D4: =(D3-D2)/D2 -> 0.087419387 | E4: =(E3-E2)/E2 -> 0.066606181 | F4: =(F3-F2)/F2 -> 0.082761121 | G4: =(G3-G2)/G2 -> 0.022475609 | H4: =(H3-H2)/H2 -> 0.07388794 | I4: =(I3-I2)/I2 -> 0.0038084316 | J4: =(J3-J2)/J2 -> 0.2323127 | ... N4: =(N3-N2)/N2 -> 0.091626188
A6: CARRABELLE | B6: 2024 | C6: 297231133 | D6: 233039810 | E6: 15640504 | F6: 5973236 | G6: 9952348 | H6: 6181742 | I6: 1462732 | J6: 2588571 | K6: 41799133 | L6: 191240677 | M6: 7.25 | N6: 1386494.9
A7: CARRABELLE | B7: 2025 | C7: 307008488 | D7: 250219388 | E7: 15334443 | F7: 6104858 | G7: 10011475 | H7: 6650098 | I7: 1607627 | J7: 2835153 | K7: 42543654 | L7: 207675734 | M7: 7.5 | N7: 1557568
A8: Pct Change | C8: =(C7-C6)/C6 -> 0.032894788 | D8: =(D7-D6)/D6 -> 0.073719499 | E8: =(E7-E6)/E6 -> -0.019568487 | F8: =(F7-F6)/F6 -> 0.022035292 | G8: =(G7-G6)/G6 -> 0.0059410101 | H8: =(H7-H6)/H6 -> 0.075764404 | I8: =(I7-I6)/I6 -> 0.09905779 | J8: =(J7-J6)/J6 -> 0.095257963 | ... N8: =(N7-N6)/N6 -> 0.1233853
A10: DOG ISLAND | B10: 2024 | C10: 46676128 | D10: 42082161 | E10: 7004103 | F10: 582460 | G10: 500000 | H10: 475000 | I10: 0 | J10: 693330 | K10: 9254893 | L10: 32827268 | M10: 4 | N10: 0
A11: DOG ISLAND | B11: 2025 | C11: 51272466 | D11: 45213796 | E11: 7134052 | F11: 582826 | G11: 487500 | H11: 450135 | I11: 0 | J11: 698872 | K11: 9353385 | L11: 35860411 | M11: 4 | N11: 0
A12: Pct Change | C12: =(C11-C10)/C10 -> 0.098472992 | D12: =(D11-D10)/D10 -> 0.074417162 | E12: =(E11-E10)/E10 -> 0.018553268 | F12: =(F11-F10)/F10 -> 0.00062836933 | G12: =(G11-G10)/G10 -> -0.025 | H12: =(H11-H10)/H10 -> -0.052347368 | I12: =(I11-I10)/I10 -> #DIV/0! | J12: =(J11-J10)/J10 -> 0.0079933077 | ... N12: =(N11-N10)/N10 -> #DIV/0!
A14: EASTPOINT | B14: 2024 | C14: 242978881 | D14: 165197231 | E14: 5379366 | F14: 4835281 | G14: 12211942 | H14: 7539545 | I14: 0 | J14: 2402799 | K14: 32368933 | L14: 132828298 | M14: 3.75 | N14: 0
A15: EASTPOINT | B15: 2025 | C15: 248728145 | D15: 183938944 | E15: 5375137 | F15: 5033549 | G15: 12503793 | H15: 8210221 | I15: 0 | J15: 2672519 | K15: 33795219 | L15: 150143725 | M15: 3.75 | N15: 0
A16: Pct Change | C16: =(C15-C14)/C14 -> 0.023661579 | D16: =(D15-D14)/D14 -> 0.11345053 | E16: =(E15-E14)/E14 -> -0.00078615212 | F16: =(F15-F14)/F14 -> 0.041004442 | G16: =(G15-G14)/G14 -> 0.02389882 | H16: =(H15-H14)/H14 -> 0.08895444 | I16: =(I15-I14)/I14 -> #DIV/0! | J16: =(J15-J14)/J14 -> 0.11225242 | ... N16: =(N15-N14)/N14 -> #DIV/0!
A18: Total Municipal | B18: 2024 | C18: =C2+C6+C10+C14 -> 1131770772 | D18: =D2+D6+D10+D14 -> 792401310 | E18: =E2+E6+E10+E14 -> 55752901 | F18: =F2+F6+F10+F14 -> 20197878 | G18: =G2+G6+G10+G14 -> 39332537 | H18: =H2+H6+H10+H14 -> 26497063 | I18: =I2+I6+I10+I14 -> 3820658 | J18: =J2+J6+J10+J14 -> 11858663 | ... L18: =L2+L6+L10+L14 -> 634941610 | N18: =N2+N6+N10+N14 -> 3706978.1
B19: 2025 | C19: =C3+C7+C11+C15 -> 1164536241 | D19: =D3+D7+D11+D15 -> 862233038 | E19: =E3+E7+E11+E15 -> 57419478 | F19: =F3+F7+F11+F15 -> 21257003 | G19: =G3+G7+G11+G15 -> 40045644 | H19: =H3+H7+H11+H15 -> 28520109 | I19: =I3+I7+I11+I15 -> 3974533 | J19: =J3+J7+J11+J15 -> 13814797 | ... L19: =L3+L7+L11+L15 -> 697201474 | N19: =N3+N7+N11+N15 -> 4090668.3
A20: Pct Change | C20: =(C19-C18)/C18 -> 0.028950623 | D20: =(D19-D18)/D18 -> 0.08812672 | E20: =(E19-E18)/E18 -> 0.029892202 | F20: =(F19-F18)/F18 -> 0.052437439 | G20: =(G19-G18)/G18 -> 0.018130206 | H20: =(H19-H18)/H18 -> 0.07634982 | I20: =(I19-I18)/I18 -> 0.040274476 | J20: =(J19-J18)/J18 -> 0.16495401 | ... L20: =(L19-L18)/L18 -> 0.098056046 | N20: =(N19-N18)/N18 -> 0.10350483
K22: Effective Millage Rate | L22: 2024 | M22: =(M2+M6+M10+M14)/4 -> 5.836425
L23: 2025 | M23: =(M3+M7+M11+M15)/4 -> 5.898925
K24: Percent change | M24: =(M23-M22)/M22 -> 0.01070861

Sheet Gadsden
A1: Municipality | B1: Year | C1: Just Value | D1: Assessed Value | E1: Government Exemption Value | F1: Institutional Exemption Value | G1: Homestead Exemption Value | H1: Additional 25,000 Homestead Exemption Value | I1: Senior Homestead Exemptions | J1: Other Exemptions | K1: Total Exemption Value | L1: Total Taxable Value | M1: City Millage Rate | N1: Taxes Levied
A2: CHATTAHOOCHEE | B2: 2024 | C2: 252137232 | D2: 217683389 | E2: 151771587 | F2: 7364285 | G2: 9592479 | H2: 3629449 | I2: 0 | J2: 2046683 | K2: 174404483 | L2: 43278906 | M2: 3 | N2: 129836.72
A3: CHATTAHOOCHEE | B3: 2025 | C3: 254158796 | D3: 223014996 | E3: 151206234 | F3: 7888961 | G3: 9722929 | H3: 4234076 | I3: 0 | J3: 2156178 | K3: 175208378 | L3: 47806618 | M3: 3 | N3: 143419.85
A4: Pct Change | C4: =(C3-C2)/C2 -> 0.0080177131 | D4: =(D3-D2)/D2 -> 0.024492484 | E4: =(E3-E2)/E2 -> -0.0037250253 | F4: =(F3-F2)/F2 -> 0.07124602 | G4: =(G3-G2)/G2 -> 0.013599196 | H4: =(H3-H2)/H2 -> 0.1665892 | I4: =(I3-I2)/I2 -> #DIV/0! | J4: =(J3-J2)/J2 -> 0.053498759 | ... N4: =(N3-N2)/N2 -> 0.10461706
A6: GREENSBORO | B6: 2024 | C6: 33516057 | D6: 23165944 | E6: 7294203 | F6: 1100797 | G6: 2089832 | H6: 972539 | I6: 0 | J6: 174544 | K6: 11631915 | L6: 11534029 | M6: 5 | N6: 57670.145
A7: GREENSBORO | B7: 2025 | C7: 34597097 | D7: 24537169 | E7: 7174122 | F7: 1119416 | G7: 2037023 | H7: 1035239 | I7: 0 | J7: 175521 | K7: 11541321 | L7: 12995848 | M7: 5 | N7: 64979.24
A8: Pct Change | C8: =(C7-C6)/C6 -> 0.032254391 | D8: =(D7-D6)/D6 -> 0.059191415 | E8: =(E7-E6)/E6 -> -0.016462525 | F8: =(F7-F6)/F6 -> 0.016914109 | G8: =(G7-G6)/G6 -> -0.025269495 | H8: =(H7-H6)/H6 -> 0.064470422 | I8: =(I7-I6)/I6 -> #DIV/0! | J8: =(J7-J6)/J6 -> 0.0055974425 | ... N8: =(N7-N6)/N6 -> 0.12673967
A10: GRETNA | B10: 2024 | C10: 85803406 | D10: 57329245 | E10: 2584680 | F10: 5597909 | G10: 5700081 | H10: 2049757 | I10: 0 | J10: 1329012 | K10: 17261439 | L10: 40067806 | M10: 5.1653 | N10: 206962.24
A11: GRETNA | B11: 2025 | C11: 91200451 | D11: 61727101 | E11: 2627471 | F11: 6129019 | G11: 6091403 | H11: 2513765 | I11: 0 | J11: 1479486 | K11: 18841144 | L11: 42885957 | M11: 5.2847 | N11: 226639.42
A12: Pct Change | C12: =(C11-C10)/C10 -> 0.062900125 | D12: =(D11-D10)/D10 -> 0.076712261 | E12: =(E11-E10)/E10 -> 0.016555628 | F12: =(F11-F10)/F10 -> 0.094876498 | G12: =(G11-G10)/G10 -> 0.068652007 | H12: =(H11-H10)/H10 -> 0.2263722 | I12: =(I11-I10)/I10 -> #DIV/0! | J12: =(J11-J10)/J10 -> 0.11322245 | ... N12: =(N11-N10)/N10 -> 0.095076178
A14: HAVANA | B14: 2024 | C14: 184429701 | D14: 141395049 | E14: 3686537 | F14: 3922960 | G14: 12762288 | H14: 10019809 | I14: 0 | J14: 4717897 | K14: 35109491 | L14: 106285558 | M14: 3 | N14: 318856.67
A15: HAVANA | B15: 2025 | C15: 196073452 | D15: 152933312 | E15: 3816873 | F15: 4474621 | G15: 12717289 | H15: 10474038 | I15: 0 | J15: 5337416 | K15: 36820237 | L15: 116113075 | M15: 3 | N15: 348339.22
A16: Pct Change | C16: =(C15-C14)/C14 -> 0.063133817 | D16: =(D15-D14)/D14 -> 0.08160302 | E16: =(E15-E14)/E14 -> 0.035354589 | F16: =(F15-F14)/F14 -> 0.14062366 | G16: =(G15-G14)/G14 -> -0.0035259352 | H16: =(H15-H14)/H14 -> 0.0453331 | I16: =(I15-I14)/I14 -> #DIV/0! | J16: =(J15-J14)/J14 -> 0.13131253 | ... N16: =(N15-N14)/N14 -> 0.092463334
A18: MIDWAY | B18: 2024 | C18: 440226690 | D18: 350975944 | E18: 5724992 | F18: 1570337 | G18: 24715352 | H18: 21797987 | I18: 0 | J18: 8977008 | K18: 62785676 | L18: 288190268 | M18: 4.4947 | N18: 1295328.8
A19: MIDWAY | B19: 2025 | C19: 462920144 | D19: 373480678 | E19: 5953940 | F19: 1600540 | G19: 24875199 | H19: 22677470 | I19: 0 | J19: 10258553 | K19: 65365702 | L19: 308114976 | M19: 4.6839 | N19: 1443179.7
A20: Pct Change | C20: =(C19-C18)/C18 -> 0.051549473 | D20: =(D19-D18)/D18 -> 0.064120446 | E20: =(E19-E18)/E18 -> 0.039990973 | F20: =(F19-F18)/F18 -> 0.019233451 | G20: =(G19-G18)/G18 -> 0.0064675186 | H20: =(H19-H18)/H18 -> 0.040346982 | I20: =(I19-I18)/I18 -> #DIV/0! | J20: =(J19-J18)/J18 -> 0.14275859 | ... N20: =(N19-N18)/N18 -> 0.11414163
A22: QUINCY | B22: 2024 | C22: 731639145 | D22: 606455924 | E22: 191182668 | F22: 22235538 | G22: 34645052 | H22: 22247443 | I22: 0 | J22: 8494681 | K22: 278805382 | L22: 327650542 | M22: 6.8 | N22: 2228023.7
A23: QUINCY | B23: 2025 | C23: 756410023 | D23: 634670572 | E23: 191920687 | F23: 27286639 | G23: 34315494 | H23: 23683041 | I23: 0 | J23: 9248913 | K23: 286454774 | L23: 348215798 | M23: 6.8718 | N23: 2392869.3
A24: Pct Change | C24: =(C23-C22)/C22 -> 0.033856688 | D24: =(D23-D22)/D22 -> 0.046523823 | E24: =(E23-E22)/E22 -> 0.0038602819 | F24: =(F23-F22)/F22 -> 0.22716343 | G24: =(G23-G22)/G22 -> -0.0095124118 | H24: =(H23-H22)/H22 -> 0.064528674 | I24: =(I23-I22)/I22 -> #DIV/0! | J24: =(J23-J22)/J22 -> 0.088788737 | ... N24: =(N23-N22)/N22 -> 0.07398738
A26: Total Municipal | B26: 2024 | C26: =C2+C6+C10+C14+C18+C22 -> 1727752231 | D26: =D2+D6+D10+D14+D18+D22 -> 1397005495 | E26: =E2+E6+E10+E14+E18+E22 -> 362244667 | F26: =F2+F6+F10+F14+F18+F22 -> 41791826 | G26: =G2+G6+G10+G14+G18+G22 -> 89505084 | H26: =H2+H6+H10+H14+H18+H22 -> 60716984 | I26: =I2+I6+I10+I14+I18+I22 -> 0 | J26: =J2+J6+J10+J14+J18+J22 -> 25739825 | ... L26: =L2+L6+L10+L14+L18+L22 -> 817007109 | N26: =N2+N6+N10+N14+N18+N22 -> 4236678.3
B27: 2025 | C27: =C3+C7+C11+C15+C19+C23 -> 1795359963 | D27: =D3+D7+D11+D15+D19+D23 -> 1470363828 | E27: =E3+E7+E11+E15+E19+E23 -> 362699327 | F27: =F3+F7+F11+F15+F19+F23 -> 48499196 | G27: =G3+G7+G11+G15+G19+G23 -> 89759337 | H27: =H3+H7+H11+H15+H19+H23 -> 64617629 | I27: =I3+I7+I11+I15+I19+I23 -> 0 | J27: =J3+J7+J11+J15+J19+J23 -> 28656067 | ... L27: =L3+L7+L11+L15+L19+L23 -> 876132272 | N27: =N3+N7+N11+N15+N19+N23 -> 4619426.8
A28: Pct Change | C28: =(C27-C26)/C26 -> 0.039130456 | D28: =(D27-D26)/D26 -> 0.052511127 | E28: =(E27-E26)/E26 -> 0.0012551185 | F28: =(F27-F26)/F26 -> 0.16049478 | G28: =(G27-G26)/G26 -> 0.0028406543 | H28: =(H27-H26)/H26 -> 0.064243063 | I28: =(I27-I26)/I26 -> #DIV/0! | J28: =(J27-J26)/J26 -> 0.11329689 | ... L28: =(L27-L26)/L26 -> 0.072367991 | N28: =(N27-N26)/N26 -> 0.090341657
K30: Effective Millage Rate | L30: 2024 | M30: =(M2+M6+M10+M14+M18+M22)/6 -> 4.5766667
L31: 2025 | M31: =(M3+M7+M11+M15+M19+M23)/6 -> 4.6400667
K32: Percent change | M32: =(M31-M30)/M30 -> 0.013852877

Sheet Gilchrist
A1: Municipality | B1: Year | C1: Just Value | D1: Assessed Value | E1: Government Exemption Value | F1: Institutional Exemption Value | G1: Homestead Exemption Value | H1: Additional 25,000 Homestead Exemption Value | I1: Senior Homestead Exemptions | J1: Other Exemptions | K1: Total Exemption Value | L1: Total Taxable Value | M1: City Millage Rate | N1: Taxes Levied
A2: BELL | B2: 2024 | C2: 63952628 | D2: 54911007 | E2: 17530283 | F2: 1811490 | G2: 3103260 | H2: 1611041 | I2: 0 | J2: 1069593 | K2: 25125667 | L2: 29785340 | M2: 3 | N2: 89356.02
A3: BELL | B3: 2025 | C3: 70178253 | D3: 60472871 | E3: 17457266 | F3: 1783193 | G3: 3228608 | H3: 1939106 | I3: 0 | J3: 1342853 | K3: 25751026 | L3: 34721845 | M3: 3 | N3: 104165.54
A4: Pct Change | C4: =(C3-C2)/C2 -> 0.097347446 | D4: =(D3-D2)/D2 -> 0.10128869 | E4: =(E3-E2)/E2 -> -0.0041651923 | F4: =(F3-F2)/F2 -> -0.015620843 | G4: =(G3-G2)/G2 -> 0.040392362 | H4: =(H3-H2)/H2 -> 0.20363541 | I4: =(I3-I2)/I2 -> #DIV/0! | J4: =(J3-J2)/J2 -> 0.25548036 | ... N4: =(N3-N2)/N2 -> 0.16573606
A6: FANNING SPRING | B6: 2024 | C6: 70738505 | D6: 54971876 | E6: 1112177 | F6: 6624461 | G6: 4045549 | H6: 3409745 | I6: 0 | J6: 946964 | K6: 16138896 | L6: 38832980 | M6: 3 | N6: 116498.94
A7: FANNING SPRING | B7: 2025 | C7: 74322108 | D7: 59204259 | E7: 1210203 | F7: 6601550 | G7: 4398770 | H7: 3913349 | I7: 0 | J7: 1213433 | K7: 17337305 | L7: 41866954 | M7: 3 | N7: 125600.86
A8: Pct Change | C8: =(C7-C6)/C6 -> 0.050659863 | D8: =(D7-D6)/D6 -> 0.076991788 | E8: =(E7-E6)/E6 -> 0.088138848 | F8: =(F7-F6)/F6 -> -0.0034585455 | G8: =(G7-G6)/G6 -> 0.087311018 | H8: =(H7-H6)/H6 -> 0.1476955 | I8: =(I7-I6)/I6 -> #DIV/0! | J8: =(J7-J6)/J6 -> 0.28139296 | ... N8: =(N7-N6)/N6 -> 0.078128797
A10: TRENTON | B10: 2024 | C10: 203153692 | D10: 169380491 | E10: 31392095 | F10: 7526867 | G10: 10525086 | H10: 6526769 | I10: 446545 | J10: 3248469 | K10: 59665831 | L10: 109714660 | M10: 3.5 | N10: 384001.31
A11: TRENTON | B11: 2025 | C11: 212670983 | D11: 181457700 | E11: 34520873 | F11: 7960920 | G11: 10757173 | H11: 7326229 | I11: 420078 | J11: 3290057 | K11: 64275330 | L11: 117182370 | M11: 3.75 | N11: 439433.89
A12: Pct Change | C12: =(C11-C10)/C10 -> 0.046847738 | D12: =(D11-D10)/D10 -> 0.071302243 | E12: =(E11-E10)/E10 -> 0.099667703 | F12: =(F11-F10)/F10 -> 0.057667154 | G12: =(G11-G10)/G10 -> 0.022050841 | H12: =(H11-H10)/H10 -> 0.1224894 | I12: =(I11-I10)/I10 -> -0.059270622 | J12: =(J11-J10)/J10 -> 0.012802339 | ... N12: =(N11-N10)/N10 -> 0.14435518
A14: Total Municipal | B14: 2024 | C14: =C2+C6+C10 -> 337844825 | D14: =D2+D6+D10 -> 279263374 | E14: =E2+E6+E10 -> 50034555 | F14: =F2+F6+F10 -> 15962818 | G14: =G2+G6+G10 -> 17673895 | H14: =H2+H6+H10 -> 11547555 | I14: =I2+I6+I10 -> 446545 | J14: =J2+J6+J10 -> 5265026 | ... L14: =L2+L6+L10 -> 178332980 | N14: =N2+N6+N10 -> 589856.27
B15: 2025 | C15: =C3+C7+C11 -> 357171344 | D15: =D3+D7+D11 -> 301134830 | E15: =E3+E7+E11 -> 53188342 | F15: =F3+F7+F11 -> 16345663 | G15: =G3+G7+G11 -> 18384551 | H15: =H3+H7+H11 -> 13178684 | I15: =I3+I7+I11 -> 420078 | J15: =J3+J7+J11 -> 5846343 | ... L15: =L3+L7+L11 -> 193771169 | N15: =N3+N7+N11 -> 669200.28
A16: Pct Change | C16: =(C15-C14)/C14 -> 0.057205313 | D16: =(D15-D14)/D14 -> 0.078318383 | E16: =(E15-E14)/E14 -> 0.063032178 | F16: =(F15-F14)/F14 -> 0.023983547 | G16: =(G15-G14)/G14 -> 0.04020936 | H16: =(H15-H14)/H14 -> 0.14125319 | I16: =(I15-I14)/I14 -> -0.059270622 | J16: =(J15-J14)/J14 -> 0.11041104 | ... L16: =(L15-L14)/L14 -> 0.086569456 | N16: =(N15-N14)/N14 -> 0.13451415
K18: Effective Millage Rate | L18: 2024 | M18: =(M2+M6+M10)/3 -> 3.1666667
L19: 2025 | M19: =(M3+M7+M11)/3 -> 3.25
K20: Percent change | M20: =(M19-M18)/M18 -> 0.026315789

Sheet Glades
A1: Municipality | B1: Year | C1: Just Value | D1: Assessed Value | E1: Government Exemption Value | F1: Institutional Exemption Value | G1: Homestead Exemption Value | H1: Additional 25,000 Homestead Exemption Value | I1: Senior Homestead Exemptions | J1: Other Exemptions | K1: Total Exemption Value | L1: Total Taxable Value | M1: City Millage Rate | N1: Taxes Levied
A2: MOORE HAVEN | B2: 2024 | C2: 165174039 | D2: 140354066 | E2: 55609692 | F2: 6585147 | G2: 8429911 | H2: 4722793 | I2: 0 | J2: 2017645 | K2: 77365188 | L2: 62988878 | M2: 4.45 | N2: 280300.51
A3: MOORE HAVEN | B3: 2025 | C3: 169667014 | D3: 145855976 | E3: 55451412 | F3: 6797741 | G3: 8600633 | H3: 5279957 | I3: 0 | J3: 2200695 | K3: 78330438 | L3: 67525538 | M3: 4.6725 | N3: 315513.08
A4: Pct Change | C4: =(C3-C2)/C2 -> 0.02720146 | D4: =(D3-D2)/D2 -> 0.039200218 | E4: =(E3-E2)/E2 -> -0.0028462664 | F4: =(F3-F2)/F2 -> 0.032283865 | G4: =(G3-G2)/G2 -> 0.020251934 | H4: =(H3-H2)/H2 -> 0.11797341 | I4: =(I3-I2)/I2 -> #DIV/0! | J4: =(J3-J2)/J2 -> 0.090724582 | ... N4: =(N3-N2)/N2 -> 0.12562435
A6: Total Municipal | B6: 2024 | C6: =C2 -> 165174039 | D6: =D2 -> 140354066 | E6: =E2 -> 55609692 | F6: =F2 -> 6585147 | G6: =G2 -> 8429911 | H6: =H2 -> 4722793 | I6: =I2 -> 0 | J6: =J2 -> 2017645 | ... L6: =L2 -> 62988878 | N6: =N2 -> 280300.51
B7: 2025 | C7: =C3 -> 169667014 | D7: =D3 -> 145855976 | E7: =E3 -> 55451412 | F7: =F3 -> 6797741 | G7: =G3 -> 8600633 | H7: =H3 -> 5279957 | I7: =I3 -> 0 | J7: =J3 -> 2200695 | ... L7: =L3 -> 67525538 | N7: =N3 -> 315513.08
A8: Pct Change | C8: =(C7-C6)/C6 -> 0.02720146 | D8: =(D7-D6)/D6 -> 0.039200218 | E8: =(E7-E6)/E6 -> -0.0028462664 | F8: =(F7-F6)/F6 -> 0.032283865 | G8: =(G7-G6)/G6 -> 0.020251934 | H8: =(H7-H6)/H6 -> 0.11797341 | I8: =(I7-I6)/I6 -> #DIV/0! | J8: =(J7-J6)/J6 -> 0.090724582 | ... L8: =(L7-L6)/L6 -> 0.072023191 | N8: =(N7-N6)/N6 -> 0.12562435
K10: Effective Millage Rate | L10: 2024 | M10: =M2 -> 4.45
L11: 2025 | M11: =M3 -> 4.6725
K12: Percent change | M12: =(M11-M10)/M10 -> 0.05

Sheet Gulf
A1: Municipality | B1: Year | C1: Just Value | D1: Assessed Value | E1: Government Exemption Value | F1: Institutional Exemption Value | G1: Homestead Exemption Value | H1: Additional 25,000 Homestead Exemption Value | I1: Senior Homestead Exemptions | J1: Other Exemptions | K1: Total Exemption Value | L1: Total Taxable Value | M1: City Millage Rate | N1: Taxes Levied
A2: PORT ST. JOE | B2: 2024 | C2: 1166401775 | D2: 877244185 | E2: 46993102 | F2: 40603416 | G2: 27062627 | H2: 21379846 | I2: 1376170 | J2: 16717114 | K2: 154132275 | L2: 723111910 | M2: 3.5914 | N2: 2596984.1
A3: PORT ST. JOE | B3: 2025 | C3: 1268544721 | D3: 972893711 | E3: 55570849 | F3: 37702466 | G3: 28274317 | H3: 23387139 | I3: 1537484 | J3: 20099978 | K3: 166572233 | L3: 806321478 | M3: 3.5914 | N3: 2895823
A4: Pct Change | C4: =(C3-C2)/C2 -> 0.08757098 | D4: =(D3-D2)/D2 -> 0.1090341 | E4: =(E3-E2)/E2 -> 0.18253204 | F4: =(F3-F2)/F2 -> -0.071445959 | G4: =(G3-G2)/G2 -> 0.044773554 | H4: =(H3-H2)/H2 -> 0.093887159 | I4: =(I3-I2)/I2 -> 0.11721953 | J4: =(J3-J2)/J2 -> 0.20235933 | ... N4: =(N3-N2)/N2 -> 0.11507149
A6: WEWAHITCHKA | B6: 2024 | C6: 212899165 | D6: 139829481 | E6: 12003693 | F6: 7886216 | G6: 12564510 | H6: 7097910 | I6: 625399 | J6: 2666682 | K6: 42844410 | L6: 96985071 | M6: 6.1133 | N6: 592898.83
A7: WEWAHITCHKA | B7: 2025 | C7: 229986808 | D7: 151103763 | E7: 12375345 | F7: 8371424 | G7: 12776661 | H7: 7733255 | I7: 713948 | J7: 3587770 | K7: 45558403 | L7: 105545360 | M7: 6.1133 | N7: 645230.45
A8: Pct Change | C8: =(C7-C6)/C6 -> 0.080261672 | D8: =(D7-D6)/D6 -> 0.080628791 | E8: =(E7-E6)/E6 -> 0.030961472 | F8: =(F7-F6)/F6 -> 0.061526086 | G8: =(G7-G6)/G6 -> 0.01688494 | H8: =(H7-H6)/H6 -> 0.08951156 | I8: =(I7-I6)/I6 -> 0.14158801 | J8: =(J7-J6)/J6 -> 0.34540601 | ... N8: =(N7-N6)/N6 -> 0.088263987
A10: Total Municipal | B10: 2024 | C10: =C2+C6 -> 1379300940 | D10: =D2+D6 -> 1017073666 | E10: =E2+E6 -> 58996795 | F10: =F2+F6 -> 48489632 | G10: =G2+G6 -> 39627137 | H10: =H2+H6 -> 28477756 | I10: =I2+I6 -> 2001569 | J10: =J2+J6 -> 19383796 | ... L10: =L2+L6 -> 820096981 | N10: =N2+N6 -> 3189882.9
B11: 2025 | C11: =C3+C7 -> 1498531529 | D11: =D3+D7 -> 1123997474 | E11: =E3+E7 -> 67946194 | F11: =F3+F7 -> 46073890 | G11: =G3+G7 -> 41050978 | H11: =H3+H7 -> 31120394 | I11: =I3+I7 -> 2251432 | J11: =J3+J7 -> 23687748 | ... L11: =L3+L7 -> 911866838 | N11: =N3+N7 -> 3541053.4
A12: Pct Change | C12: =(C11-C10)/C10 -> 0.086442766 | D12: =(D11-D10)/D10 -> 0.10512887 | E12: =(E11-E10)/E10 -> 0.15169297 | F12: =(F11-F10)/F10 -> -0.049819764 | G12: =(G11-G10)/G10 -> 0.035930958 | H12: =(H11-H10)/H10 -> 0.092796567 | I12: =(I11-I10)/I10 -> 0.12483357 | J12: =(J11-J10)/J10 -> 0.22203866 | ... L12: =(L11-L10)/L10 -> 0.11190123 | N12: =(N11-N10)/N10 -> 0.11008882
K14: Effective Millage Rate | L14: 2024 | M14: =(M2+M6)/2 -> 4.85235
L15: 2025 | M15: =(M3+M7)/2 -> 4.85235
K16: Percent change | M16: =(M15-M14)/M14 -> 0

Sheet Hamilton
A1: Municipality | B1: Year | C1: Just Value | D1: Assessed Value | E1: Government Exemption Value | F1: Institutional Exemption Value | G1: Homestead Exemption Value | H1: Additional 25,000 Homestead Exemption Value | I1: Senior Homestead Exemptions | J1: Other Exemptions | K1: Total Exemption Value | L1: Total Taxable Value | M1: City Millage Rate | N1: Taxes Levied
A2: JASPER | B2: 2024 | C2: 166611371 | D2: 145846404 | E2: 41762385 | F2: 4232829 | G2: 7371347 | H2: 4229129 | I2: 0 | J2: 2162371 | K2: 59758061 | L2: 86088343 | M2: 7.949 | N2: 684316.24
A3: JASPER | B3: 2025 | C3: 176134151 | D3: 153336772 | E3: 44575350 | F3: 4723442 | G3: 7373545 | H3: 4445513 | I3: 0 | J3: 2421346 | K3: 63539196 | L3: 89797576 | M3: 7.949 | N3: 713800.93
A4: Pct Change | C4: =(C3-C2)/C2 -> 0.057155643 | D4: =(D3-D2)/D2 -> 0.05135792 | E4: =(E3-E2)/E2 -> 0.067356426 | F4: =(F3-F2)/F2 -> 0.11590664 | G4: =(G3-G2)/G2 -> 0.00029818159 | H4: =(H3-H2)/H2 -> 0.051165145 | I4: =(I3-I2)/I2 -> #DIV/0! | J4: =(J3-J2)/J2 -> 0.11976437 | ... N4: =(N3-N2)/N2 -> 0.043086356
A6: JENNINGS | B6: 2024 | C6: 41215211 | D6: 31635550 | E6: 1758445 | F6: 3118406 | G6: 2329677 | H6: 642921 | I6: 0 | J6: 406639 | K6: 8256088 | L6: 23379462 | M6: 6 | N6: 140276.77
A7: JENNINGS | B7: 2025 | C7: 44464096 | D7: 33991734 | E7: 1813645 | F7: 3491272 | G7: 2216128 | H7: 781501 | I7: 0 | J7: 372459 | K7: 8675005 | L7: 25316729 | M7: 6.5 | N7: 164558.74
A8: Pct Change | C8: =(C7-C6)/C6 -> 0.078827329 | D8: =(D7-D6)/D6 -> 0.074478996 | E8: =(E7-E6)/E6 -> 0.031391371 | F8: =(F7-F6)/F6 -> 0.11956942 | G8: =(G7-G6)/G6 -> -0.048740233 | H8: =(H7-H6)/H6 -> 0.21554748 | I8: =(I7-I6)/I6 -> #DIV/0! | J8: =(J7-J6)/J6 -> -0.084054899 | ... N8: =(N7-N6)/N6 -> 0.17310041
A10: WHITE SPRINGS | B10: 2024 | C10: 54131086 | D10: 45628626 | E10: 11005722 | F10: 1559421 | G10: 3649156 | H10: 1644258 | I10: 0 | J10: 727574 | K10: 18586131 | L10: 27042495 | M10: 6 | N10: 162254.97
A11: WHITE SPRINGS | B11: 2025 | C11: 57448926 | D11: 47236189 | E11: 11286278 | F11: 1688146 | G11: 3592002 | H11: 1795079 | I11: 0 | J11: 768050 | K11: 19129555 | L11: 28106634 | M11: 6 | N11: 168639.8
A12: Pct Change | C12: =(C11-C10)/C10 -> 0.061292692 | D12: =(D11-D10)/D10 -> 0.035231458 | E12: =(E11-E10)/E10 -> 0.025491831 | F12: =(F11-F10)/F10 -> 0.082546663 | G12: =(G11-G10)/G10 -> -0.015662252 | H12: =(H11-H10)/H10 -> 0.091725873 | I12: =(I11-I10)/I10 -> #DIV/0! | J12: =(J11-J10)/J10 -> 0.055631455 | ... N12: =(N11-N10)/N10 -> 0.039350622
A14: Total Municipal | B14: 2024 | C14: =C2+C6+C10 -> 261957668 | D14: =D2+D6+D10 -> 223110580 | E14: =E2+E6+E10 -> 54526552 | F14: =F2+F6+F10 -> 8910656 | G14: =G2+G6+G10 -> 13350180 | H14: =H2+H6+H10 -> 6516308 | I14: =I2+I6+I10 -> 0 | J14: =J2+J6+J10 -> 3296584 | ... L14: =L2+L6+L10 -> 136510300 | N14: =N2+N6+N10 -> 986847.98
B15: 2025 | C15: =C3+C7+C11 -> 278047173 | D15: =D3+D7+D11 -> 234564695 | E15: =E3+E7+E11 -> 57675273 | F15: =F3+F7+F11 -> 9902860 | G15: =G3+G7+G11 -> 13181675 | H15: =H3+H7+H11 -> 7022093 | I15: =I3+I7+I11 -> 0 | J15: =J3+J7+J11 -> 3561855 | ... L15: =L3+L7+L11 -> 143220939 | N15: =N3+N7+N11 -> 1046999.5
A16: Pct Change | C16: =(C15-C14)/C14 -> 0.061420248 | D16: =(D15-D14)/D14 -> 0.051338287 | E16: =(E15-E14)/E14 -> 0.057746564 | F16: =(F15-F14)/F14 -> 0.11135028 | G16: =(G15-G14)/G14 -> -0.012621927 | H16: =(H15-H14)/H14 -> 0.077618338 | I16: =(I15-I14)/I14 -> #DIV/0! | J16: =(J15-J14)/J14 -> 0.080468449 | ... L16: =(L15-L14)/L14 -> 0.049158481 | N16: =(N15-N14)/N14 -> 0.060953151
K18: Effective Millage Rate | L18: 2024 | M18: =(M2+M6+M10)/3 -> 6.6496667
L19: 2025 | M19: =(M3+M7+M11)/3 -> 6.8163333
K20: Percent change | M20: =(M19-M18)/M18 -> 0.025063913

Sheet Hardee
A1: Municipality | B1: Year | C1: Just Value | D1: Assessed Value | E1: Government Exemption Value | F1: Institutional Exemption Value | G1: Homestead Exemption Value | H1: Additional 25,000 Homestead Exemption Value | I1: Senior Homestead Exemptions | J1: Other Exemptions | K1: Total Exemption Value | L1: Total Taxable Value | M1: City Millage Rate | N1: Taxes Levied
A2: BOWLING GREEN | B2: 2024 | C2: 148627746 | D2: 106608962 | E2: 10593218 | F2: 7640327 | G2: 10792147 | H2: 5837780 | I2: 922032 | J2: 959943 | K2: 36745447 | L2: 69863515 | M2: 7.25 | N2: 506510.48
A3: BOWLING GREEN | B3: 2025 | C3: 164021102 | D3: 119379412 | E3: 11046199 | F3: 8563915 | G3: 11024222 | H3: 6709509 | I3: 925626 | J3: 836357 | K3: 39105828 | L3: 80273584 | M3: 6.9197 | N3: 555469.12
A4: Pct Change | C4: =(C3-C2)/C2 -> 0.10356987 | D4: =(D3-D2)/D2 -> 0.11978777 | E4: =(E3-E2)/E2 -> 0.042761416 | F4: =(F3-F2)/F2 -> 0.12088331 | G4: =(G3-G2)/G2 -> 0.021504062 | H4: =(H3-H2)/H2 -> 0.14932543 | I4: =(I3-I2)/I2 -> 0.0038979124 | J4: =(J3-J2)/J2 -> -0.12874306 | ... N4: =(N3-N2)/N2 -> 0.096658681
A6: WAUCHULA | B6: 2024 | C6: 423558424 | D6: 327395744 | E6: 62267509 | F6: 31967554 | G6: 17497788 | H6: 10948462 | I6: 989615 | J6: 4951544 | K6: 128622472 | L6: 198773272 | M6: 5.186 | N6: 1030838.2
A7: WAUCHULA | B7: 2025 | C7: 454532900 | D7: 354493482 | E7: 67375389 | F7: 33928622 | G7: 17860450 | H7: 12395085 | I7: 1075075 | J7: 4988471 | K7: 137623092 | L7: 216870390 | M7: 5.771 | N7: 1251559
A8: Pct Change | C8: =(C7-C6)/C6 -> 0.07312917 | D8: =(D7-D6)/D6 -> 0.082767533 | E8: =(E7-E6)/E6 -> 0.082031224 | F8: =(F7-F6)/F6 -> 0.061345576 | G8: =(G7-G6)/G6 -> 0.020726163 | H8: =(H7-H6)/H6 -> 0.13213025 | I8: =(I7-I6)/I6 -> 0.086356816 | J8: =(J7-J6)/J6 -> 0.0074576738 | ... N8: =(N7-N6)/N6 -> 0.21411783
A10: ZOLFO SPRINGS | B10: 2024 | C10: 108374120 | D10: 81441987 | E10: 13806083 | F10: 8088063 | G10: 6383686 | H10: 2974419 | I10: 487809 | J10: 810782 | K10: 32550842 | L10: 48891145 | M10: 8.554 | N10: 418214.85
A11: ZOLFO SPRINGS | B11: 2025 | C11: 123036143 | D11: 88481917 | E11: 14373099 | F11: 8607415 | G11: 6581886 | H11: 3543302 | I11: 493140 | J11: 955877 | K11: 34554719 | L11: 53927198 | M11: 8.554 | N11: 461293.25
A12: Pct Change | C12: =(C11-C10)/C10 -> 0.13529081 | D12: =(D11-D10)/D10 -> 0.086441039 | E12: =(E11-E10)/E10 -> 0.041070012 | F12: =(F11-F10)/F10 -> 0.064212161 | G12: =(G11-G10)/G10 -> 0.031047893 | H12: =(H11-H10)/H10 -> 0.19125853 | I12: =(I11-I10)/I10 -> 0.010928458 | J12: =(J11-J10)/J10 -> 0.17895686 | ... N12: =(N11-N10)/N10 -> 0.10300542
A14: Total Municipal | B14: 2024 | C14: =C2+C6+C10 -> 680560290 | D14: =D2+D6+D10 -> 515446693 | E14: =E2+E6+E10 -> 86666810 | F14: =F2+F6+F10 -> 47695944 | G14: =G2+G6+G10 -> 34673621 | H14: =H2+H6+H10 -> 19760661 | I14: =I2+I6+I10 -> 2399456 | J14: =J2+J6+J10 -> 6722269 | ... L14: =L2+L6+L10 -> 317527932 | N14: =N2+N6+N10 -> 1955563.5
B15: 2025 | C15: =C3+C7+C11 -> 741590145 | D15: =D3+D7+D11 -> 562354811 | E15: =E3+E7+E11 -> 92794687 | F15: =F3+F7+F11 -> 51099952 | G15: =G3+G7+G11 -> 35466558 | H15: =H3+H7+H11 -> 22647896 | I15: =I3+I7+I11 -> 2493841 | J15: =J3+J7+J11 -> 6780705 | ... L15: =L3+L7+L11 -> 351071172 | N15: =N3+N7+N11 -> 2268321.4
A16: Pct Change | C16: =(C15-C14)/C14 -> 0.089675898 | D16: =(D15-D14)/D14 -> 0.09100479 | E16: =(E15-E14)/E14 -> 0.070706156 | F16: =(F15-F14)/F14 -> 0.07136892 | G16: =(G15-G14)/G14 -> 0.022868595 | H16: =(H15-H14)/H14 -> 0.14611024 | I16: =(I15-I14)/I14 -> 0.039335999 | J16: =(J15-J14)/J14 -> 0.0086928982 | ... L16: =(L15-L14)/L14 -> 0.10563871 | N16: =(N15-N14)/N14 -> 0.15993235
K18: Effective Millage Rate | L18: 2024 | M18: =(M2+M6+M10)/3 -> 6.9966667
L19: 2025 | M19: =(M3+M7+M11)/3 -> 7.0815667
K20: Percent change | M20: =(M19-M18)/M18 -> 0.01213435

Sheet Hendry
A1: Municipality | B1: Year | C1: Just Value | D1: Assessed Value | E1: Government Exemption Value | F1: Institutional Exemption Value | G1: Homestead Exemption Value | H1: Additional 25,000 Homestead Exemption Value | I1: Senior Homestead Exemptions | J1: Other Exemptions | K1: Total Exemption Value | L1: Total Taxable Value | M1: City Millage Rate | N1: Taxes Levied
A2: CLEWISTON | B2: 2024 | C2: 875512191 | D2: 624106843 | E2: 146587163 | F2: 30907985 | G2: 32931623 | H2: 28293823 | I2: 0 | J2: 7586991 | K2: 246307585 | L2: 377799258 | M2: 6.3743 | N2: 2408205.8
A3: CLEWISTON | B3: 2025 | C3: 902479147 | D3: 660492521 | E3: 154602620 | F3: 33459580 | G3: 33333990 | H3: 30042823 | I3: 0 | J3: 7474979 | K3: 258913992 | L3: 401578529 | M3: 6.3962 | N3: 2568576.6
A4: Pct Change | C4: =(C3-C2)/C2 -> 0.030801348 | D4: =(D3-D2)/D2 -> 0.058300399 | E4: =(E3-E2)/E2 -> 0.054680484 | F4: =(F3-F2)/F2 -> 0.082554557 | G4: =(G3-G2)/G2 -> 0.012218256 | H4: =(H3-H2)/H2 -> 0.061815613 | I4: =(I3-I2)/I2 -> #DIV/0! | J4: =(J3-J2)/J2 -> -0.014763692 | ... N4: =(N3-N2)/N2 -> 0.066593468
A6: LA BELLE | B6: 2024 | C6: 790019664 | D6: 599765074 | E6: 132905627 | F6: 49268782 | G6: 17889664 | H6: 12936969 | I6: 0 | J6: 7237923 | K6: 220238965 | L6: 379526109 | M6: 5.1414 | N6: 1951295.5
A7: LA BELLE | B7: 2025 | C7: 837713500 | D7: 659685505 | E7: 139692249 | F7: 55816973 | G7: 17869989 | H7: 13662193 | I7: 0 | J7: 7588178 | K7: 234629582 | L7: 425055923 | M7: 5 | N7: 2125279.6
A8: Pct Change | C8: =(C7-C6)/C6 -> 0.060370442 | D8: =(D7-D6)/D6 -> 0.099906503 | E8: =(E7-E6)/E6 -> 0.051063466 | F8: =(F7-F6)/F6 -> 0.13290751 | G8: =(G7-G6)/G6 -> -0.0010997971 | H8: =(H7-H6)/H6 -> 0.056058262 | I8: =(I7-I6)/I6 -> #DIV/0! | J8: =(J7-J6)/J6 -> 0.048391645 | ... N8: =(N7-N6)/N6 -> 0.089163366
A10: Total Municipal | B10: 2024 | C10: =C2+C6 -> 1665531855 | D10: =D2+D6 -> 1223871917 | E10: =E2+E6 -> 279492790 | F10: =F2+F6 -> 80176767 | G10: =G2+G6 -> 50821287 | H10: =H2+H6 -> 41230792 | I10: =I2+I6 -> 0 | J10: =J2+J6 -> 14824914 | ... L10: =L2+L6 -> 757325367 | N10: =N2+N6 -> 4359501.3
B11: 2025 | C11: =C3+C7 -> 1740192647 | D11: =D3+D7 -> 1320178026 | E11: =E3+E7 -> 294294869 | F11: =F3+F7 -> 89276553 | G11: =G3+G7 -> 51203979 | H11: =H3+H7 -> 43705016 | I11: =I3+I7 -> 0 | J11: =J3+J7 -> 15063157 | ... L11: =L3+L7 -> 826634452 | N11: =N3+N7 -> 4693856.2
A12: Pct Change | C12: =(C11-C10)/C10 -> 0.044826997 | D12: =(D11-D10)/D10 -> 0.078689696 | E12: =(E11-E10)/E10 -> 0.052960504 | F12: =(F11-F10)/F10 -> 0.11349654 | G12: =(G11-G10)/G10 -> 0.0075301517 | H12: =(H11-H10)/H10 -> 0.060009131 | I12: =(I11-I10)/I10 -> #DIV/0! | J12: =(J11-J10)/J10 -> 0.016070447 | ... L12: =(L11-L10)/L10 -> 0.09151824 | N12: =(N11-N10)/N10 -> 0.076695665
K14: Effective Millage Rate | L14: 2024 | M14: =(M2+M6)/2 -> 5.75785
L15: 2025 | M15: =(M3+M7)/2 -> 5.6981
K16: Percent change | M16: =(M15-M14)/M14 -> -0.010377137

Sheet Hernando
A1: Municipality | B1: Year | C1: Just Value | D1: Assessed Value | E1: Government Exemption Value | F1: Institutional Exemption Value | G1: Homestead Exemption Value | H1: Additional 25,000 Homestead Exemption Value | I1: Senior Homestead Exemptions | J1: Other Exemptions | K1: Total Exemption Value | L1: Total Taxable Value | M1: City Millage Rate | N1: Taxes Levied
A2: BROOKSVILLE | B2: 2024 | C2: 1657064666 | D2: 1376050465 | E2: 513275827 | F2: 31896202 | G2: 36683388 | H2: 28797045 | I2: 0 | J2: 20612863 | K2: 631265325 | L2: 744785140 | M2: 5.9 | N2: 4394232.3
A3: BROOKSVILLE | B3: 2025 | C3: 1757445394 | D3: 1483705460 | E3: 523493352 | F3: 39757214 | G3: 38243098 | H3: 31876540 | I3: 0 | J3: 22562747 | K3: 655932951 | L3: 827772509 | M3: 6.5 | N3: 5380521.3
A4: Pct Change | C4: =(C3-C2)/C2 -> 0.060577436 | D4: =(D3-D2)/D2 -> 0.078234772 | E4: =(E3-E2)/E2 -> 0.0199065 | F4: =(F3-F2)/F2 -> 0.24645605 | G4: =(G3-G2)/G2 -> 0.042518156 | H4: =(H3-H2)/H2 -> 0.10693788 | I4: =(I3-I2)/I2 -> #DIV/0! | J4: =(J3-J2)/J2 -> 0.094595496 | ... N4: =(N3-N2)/N2 -> 0.2244508
A6: Total Municipal | B6: 2024 | C6: =C2 -> 1657064666 | D6: =D2 -> 1376050465 | E6: =E2 -> 513275827 | F6: =F2 -> 31896202 | G6: =G2 -> 36683388 | H6: =H2 -> 28797045 | I6: =I2 -> 0 | J6: =J2 -> 20612863 | ... L6: =L2 -> 744785140 | N6: =N2 -> 4394232.3
B7: 2025 | C7: =C3 -> 1757445394 | D7: =D3 -> 1483705460 | E7: =E3 -> 523493352 | F7: =F3 -> 39757214 | G7: =G3 -> 38243098 | H7: =H3 -> 31876540 | I7: =I3 -> 0 | J7: =J3 -> 22562747 | ... L7: =L3 -> 827772509 | N7: =N3 -> 5380521.3
A8: Pct Change | C8: =(C7-C6)/C6 -> 0.060577436 | D8: =(D7-D6)/D6 -> 0.078234772 | E8: =(E7-E6)/E6 -> 0.0199065 | F8: =(F7-F6)/F6 -> 0.24645605 | G8: =(G7-G6)/G6 -> 0.042518156 | H8: =(H7-H6)/H6 -> 0.10693788 | I8: =(I7-I6)/I6 -> #DIV/0! | J8: =(J7-J6)/J6 -> 0.094595496 | ... L8: =(L7-L6)/L6 -> 0.11142458 | N8: =(N7-N6)/N6 -> 0.2244508
K10: Effective Millage Rate | L10: 2024 | M10: =M2 -> 5.9
L11: 2025 | M11: =M3 -> 6.5
K12: Percent change | M12: =(M11-M10)/M10 -> 0.10169492

Sheet Highlands
A1: Municipality | B1: Year | C1: Just Value | D1: Assessed Value | E1: Government Exemption Value | F1: Institutional Exemption Value | G1: Homestead Exemption Value | H1: Additional 25,000 Homestead Exemption Value | I1: Senior Homestead Exemptions | J1: Other Exemptions | K1: Total Exemption Value | L1: Total Taxable Value | M1: City Millage Rate | N1: Taxes Levied
A2: AVON PARK | B2: 2024 | C2: 973878039 | D2: 794058685 | E2: 171089472 | F2: 78327637 | G2: 37347265 | H2: 20803776 | I2: 0 | J2: 16576662 | K2: 324144812 | L2: 469913873 | M2: 5 | N2: 2349569.4
A3: AVON PARK | B3: 2025 | C3: 1035368386 | D3: 866109859 | E3: 175969544 | F3: 80028875 | G3: 37388050 | H3: 22590973 | I3: 0 | J3: 18604802 | K3: 334582244 | L3: 531527615 | M3: 6 | N3: 3189165.7
A4: Pct Change | C4: =(C3-C2)/C2 -> 0.063139679 | D4: =(D3-D2)/D2 -> 0.090737845 | E4: =(E3-E2)/E2 -> 0.028523508 | F4: =(F3-F2)/F2 -> 0.021719511 | G4: =(G3-G2)/G2 -> 0.0010920478 | H4: =(H3-H2)/H2 -> 0.085907337 | I4: =(I3-I2)/I2 -> #DIV/0! | J4: =(J3-J2)/J2 -> 0.12234912 | ... N4: =(N3-N2)/N2 -> 0.35734051
A6: LAKE PLACID | B6: 2024 | C6: 550377916 | D6: 463296538 | E6: 55663373 | F6: 39277459 | G6: 10121862 | H6: 7413672 | I6: 0 | J6: 7307635 | K6: 119784001 | L6: 343512537 | M6: 3.1 | N6: 1064888.9
A7: LAKE PLACID | B7: 2025 | C7: 573033363 | D7: 483855015 | E7: 57463508 | F7: 40965358 | G7: 9902975 | H7: 7646455 | I7: 0 | J7: 7181875 | K7: 123160171 | L7: 360694844 | M7: 3.65 | N7: 1316536.2
A8: Pct Change | C8: =(C7-C6)/C6 -> 0.041163438 | D8: =(D7-D6)/D6 -> 0.044374338 | E8: =(E7-E6)/E6 -> 0.032339668 | F8: =(F7-F6)/F6 -> 0.042973732 | G8: =(G7-G6)/G6 -> -0.021625171 | H8: =(H7-H6)/H6 -> 0.03139915 | I8: =(I7-I6)/I6 -> #DIV/0! | J8: =(J7-J6)/J6 -> -0.017209398 | ... N8: =(N7-N6)/N6 -> 0.23631322
A10: SEBRING | B10: 2024 | C10: 1665420962 | D10: 1363984462 | E10: 91201684 | F10: 109275947 | G10: 48983811 | H10: 35348093 | I10: 0 | J10: 22350543 | K10: 307160078 | L10: 1056824384 | M10: 6.3184 | N10: 6677439.2
A11: SEBRING | B11: 2025 | C11: 1774344223 | D11: 1502992244 | E11: 94546817 | F11: 103509595 | G11: 49593761 | H11: 38472265 | I11: 0 | J11: 25642201 | K11: 311764639 | L11: 1191227605 | M11: 6.35 | N11: 7564295.3
A12: Pct Change | C12: =(C11-C10)/C10 -> 0.06540284 | D12: =(D11-D10)/D10 -> 0.10191302 | E12: =(E11-E10)/E10 -> 0.036678413 | F12: =(F11-F10)/F10 -> -0.052768721 | G12: =(G11-G10)/G10 -> 0.012452073 | H12: =(H11-H10)/H10 -> 0.088383042 | I12: =(I11-I10)/I10 -> #DIV/0! | J12: =(J11-J10)/J10 -> 0.14727418 | ... N12: =(N11-N10)/N10 -> 0.1328138
A14: Total Municipal | B14: 2024 | C14: =C2+C6+C10 -> 3189676917 | D14: =D2+D6+D10 -> 2621339685 | E14: =E2+E6+E10 -> 317954529 | F14: =F2+F6+F10 -> 226881043 | G14: =G2+G6+G10 -> 96452938 | H14: =H2+H6+H10 -> 63565541 | I14: =I2+I6+I10 -> 0 | J14: =J2+J6+J10 -> 46234840 | ... L14: =L2+L6+L10 -> 1870250794 | N14: =N2+N6+N10 -> 10091897
B15: 2025 | C15: =C3+C7+C11 -> 3382745972 | D15: =D3+D7+D11 -> 2852957118 | E15: =E3+E7+E11 -> 327979869 | F15: =F3+F7+F11 -> 224503828 | G15: =G3+G7+G11 -> 96884786 | H15: =H3+H7+H11 -> 68709693 | I15: =I3+I7+I11 -> 0 | J15: =J3+J7+J11 -> 51428878 | ... L15: =L3+L7+L11 -> 2083450064 | N15: =N3+N7+N11 -> 12069997
A16: Pct Change | C16: =(C15-C14)/C14 -> 0.060529345 | D16: =(D15-D14)/D14 -> 0.08835842 | E16: =(E15-E14)/E14 -> 0.031530735 | F16: =(F15-F14)/F14 -> -0.010477804 | G16: =(G15-G14)/G14 -> 0.0044772923 | H16: =(H15-H14)/H14 -> 0.08092674 | I16: =(I15-I14)/I14 -> #DIV/0! | J16: =(J15-J14)/J14 -> 0.11234035 | ... L16: =(L15-L14)/L14 -> 0.11399502 | N16: =(N15-N14)/N14 -> 0.19600871
K18: Effective Millage Rate | L18: 2024 | M18: =(M2+M6+M10)/3 -> 4.8061333
L19: 2025 | M19: =(M3+M7+M11)/3 -> 5.3333333
K20: Percent change | M20: =(M19-M18)/M18 -> 0.10969317

Sheet Hillsborough
A1: Municipality | B1: Year | C1: Just Value | D1: Assessed Value | E1: Government Exemption Value | F1: Institutional Exemption Value | G1: Homestead Exemption Value | H1: Additional 25,000 Homestead Exemption Value | I1: Senior Homestead Exemptions | J1: Other Exemptions | K1: Total Exemption Value | L1: Total Taxable Value | M1: City Millage Rate | N1: Taxes Levied
A2: PLANT CITY | B2: 2024 | C2: 6875280207 | D2: 5821980619 | E2: 284909725 | F2: 294063636 | G2: 190940001 | H2: 169152632 | I2: 0 | J2: 169403653 | K2: 1108469647 | L2: 4713510972 | M2: 6 | N2: 28281066
A3: PLANT CITY | B3: 2025 | C3: 7547590016 | D3: 6566506035 | E3: 296343055 | F3: 469180337 | G3: 207054376 | H3: 192191256 | I3: 0 | J3: 191372468 | K3: 1356141492 | L3: 5210364543 | M3: 5.7157 | N3: 29780881
A4: Pct Change | C4: =(C3-C2)/C2 -> 0.097786532 | D4: =(D3-D2)/D2 -> 0.12788181 | E4: =(E3-E2)/E2 -> 0.040129659 | F4: =(F3-F2)/F2 -> 0.59550614 | G4: =(G3-G2)/G2 -> 0.084394967 | H4: =(H3-H2)/H2 -> 0.13620021 | I4: =(I3-I2)/I2 -> #DIV/0! | J4: =(J3-J2)/J2 -> 0.12968324 | ... N4: =(N3-N2)/N2 -> 0.05303247
A6: TAMPA | B6: 2024 | C6: 96996216365 | D6: 76656522730 | E6: 8424056176 | F6: 3996808911 | G6: 1786728117 | H6: 1550098844 | I6: 75677817 | J6: 776286411 | K6: 16609656276 | L6: 60046866454 | M6: 6.2076 | N6: 3.7274693e+08
A7: TAMPA | B7: 2025 | C7: 99330993787 | D7: 81844987004 | E7: 8817064247 | F7: 4294796216 | G7: 1780871277 | H7: 1607419685 | I7: 76158895 | J7: 903965155 | K7: 17480275475 | L7: 64364711529 | M7: 6.2076 | N7: 3.9955038e+08
A8: Pct Change | C8: =(C7-C6)/C6 -> 0.024070809 | D8: =(D7-D6)/D6 -> 0.067684576 | E8: =(E7-E6)/E6 -> 0.046653069 | F8: =(F7-F6)/F6 -> 0.074556305 | G8: =(G7-G6)/G6 -> -0.0032779693 | H8: =(H7-H6)/H6 -> 0.03697883 | I8: =(I7-I6)/I6 -> 0.0063569223 | J8: =(J7-J6)/J6 -> 0.16447376 | ... N8: =(N7-N6)/N6 -> 0.071907917
A10: TEMPLE TERRACE | B10: 2024 | C10: 4473734030 | D10: 3636532871 | E10: 75633031 | F10: 180612671 | G10: 127012845 | H10: 116651339 | I10: 3269174 | J10: 34688236 | K10: 537867296 | L10: 3098665575 | M10: 6 | N10: 18591993
A11: TEMPLE TERRACE | B11: 2025 | C11: 4482766786 | D11: 3774020324 | E11: 77630870 | F11: 192933702 | G11: 126661030 | H11: 120514708 | I11: 3214632 | J11: 39993704 | K11: 560948646 | L11: 3213071678 | M11: 6.455 | N11: 20740378
A12: Pct Change | C12: =(C11-C10)/C10 -> 0.0020190642 | D12: =(D11-D10)/D10 -> 0.03780729 | E12: =(E11-E10)/E10 -> 0.026414901 | F12: =(F11-F10)/F10 -> 0.068217977 | G12: =(G11-G10)/G10 -> -0.0027699167 | H12: =(H11-H10)/H10 -> 0.033118943 | I12: =(I11-I10)/I10 -> -0.016683725 | J12: =(J11-J10)/J10 -> 0.15294718 | ... N12: =(N11-N10)/N10 -> 0.11555427
A14: Total Municipal | B14: 2024 | C14: =C2+C6+C10 -> 108345230602 | D14: =D2+D6+D10 -> 86115036220 | E14: =E2+E6+E10 -> 8784598932 | F14: =F2+F6+F10 -> 4471485218 | G14: =G2+G6+G10 -> 2104680963 | H14: =H2+H6+H10 -> 1835902815 | I14: =I2+I6+I10 -> 78946991 | J14: =J2+J6+J10 -> 980378300 | ... L14: =L2+L6+L10 -> 67859043001 | N14: =N2+N6+N10 -> 4.1961999e+08
B15: 2025 | C15: =C3+C7+C11 -> 111361350589 | D15: =D3+D7+D11 -> 92185513363 | E15: =E3+E7+E11 -> 9191038172 | F15: =F3+F7+F11 -> 4956910255 | G15: =G3+G7+G11 -> 2114586683 | H15: =H3+H7+H11 -> 1920125649 | I15: =I3+I7+I11 -> 79373527 | J15: =J3+J7+J11 -> 1135331327 | ... L15: =L3+L7+L11 -> 72788147750 | N15: =N3+N7+N11 -> 4.5007164e+08
A16: Pct Change | C16: =(C15-C14)/C14 -> 0.02783805 | D16: =(D15-D14)/D14 -> 0.07049265 | E16: =(E15-E14)/E14 -> 0.046267251 | F16: =(F15-F14)/F14 -> 0.10856013 | G16: =(G15-G14)/G14 -> 0.0047065186 | H16: =(H15-H14)/H14 -> 0.045875432 | I16: =(I15-I14)/I14 -> 0.0054028152 | J16: =(J15-J14)/J14 -> 0.15805432 | ... L16: =(L15-L14)/L14 -> 0.072637404 | N16: =(N15-N14)/N14 -> 0.072569599
K18: Effective Millage Rate | L18: 2024 | M18: =(M2+M6+M10)/3 -> 6.0692
L19: 2025 | M19: =(M3+M7+M11)/3 -> 6.1261
K20: Percent change | M20: =(M19-M18)/M18 -> 0.009375206

Sheet Holmes
A1: Municipality | B1: Year | C1: Just Value | D1: Assessed Value | E1: Government Exemption Value | F1: Institutional Exemption Value | G1: Homestead Exemption Value | H1: Additional 25,000 Homestead Exemption Value | I1: Senior Homestead Exemptions | J1: Other Exemptions | K1: Total Exemption Value | L1: Total Taxable Value | M1: City Millage Rate | N1: Taxes Levied
A2: ESTO | B2: 2024 | C2: 17070162 | D2: 13888755 | E2: 396794 | F2: 599980 | G2: 1980502 | H2: 681057 | I2: 0 | J2: 432566 | K2: 4090899 | L2: 9797856 | M2: 2.5 | N2: 24494.64
A3: ESTO | B3: 2025 | C3: 19854597 | D3: 14976816 | E3: 412953 | F3: 638970 | G3: 2062518 | H3: 861564 | I3: 0 | J3: 450090 | K3: 4426095 | L3: 10550721 | M3: 2.773 | N3: 29257.149
A4: Pct Change | C4: =(C3-C2)/C2 -> 0.16311708 | D4: =(D3-D2)/D2 -> 0.078341147 | E4: =(E3-E2)/E2 -> 0.040723902 | F4: =(F3-F2)/F2 -> 0.0649855 | G4: =(G3-G2)/G2 -> 0.041411723 | H4: =(H3-H2)/H2 -> 0.26503949 | I4: =(I3-I2)/I2 -> #DIV/0! | J4: =(J3-J2)/J2 -> 0.040511737 | ... N4: =(N3-N2)/N2 -> 0.19443067
A6: NOMA | B6: 2024 | C6: 5758894 | D6: 5295159 | E6: 456445 | F6: 709426 | G6: 887708 | H6: 215168 | I6: 0 | J6: 42653 | K6: 2311400 | L6: 2983759 | M6: 0.9513 | N6: 2838.4499
A7: NOMA | B7: 2025 | C7: 9584375 | D7: 6835081 | E7: 475268 | F7: 708087 | G7: 1115976 | H7: 458350 | I7: 0 | J7: 54058 | K7: 2811739 | L7: 4023342 | M7: 0.879 | N7: 3536.5176
A8: Pct Change | C8: =(C7-C6)/C6 -> 0.66427356 | D8: =(D7-D6)/D6 -> 0.29081695 | E8: =(E7-E6)/E6 -> 0.041238265 | F8: =(F7-F6)/F6 -> -0.0018874414 | G8: =(G7-G6)/G6 -> 0.25714311 | H8: =(H7-H6)/H6 -> 1.1301959 | I8: =(I7-I6)/I6 -> #DIV/0! | J8: =(J7-J6)/J6 -> 0.26739034 | ... N8: =(N7-N6)/N6 -> 0.24593271
A10: PONCE DE LEON | B10: 2024 | C10: 39072770 | D10: 34049970 | E10: 4336323 | F10: 835870 | G10: 3151592 | H10: 1649491 | I10: 0 | J10: 1225366 | K10: 11198642 | L10: 22851328 | M10: 2 | N10: 45702.656
A11: PONCE DE LEON | B11: 2025 | C11: 46963850 | D11: 38176792 | E11: 4515605 | F11: 1198354 | G11: 3239606 | H11: 1787056 | I11: 0 | J11: 1330952 | K11: 12071573 | L11: 26105219 | M11: 2 | N11: 52210.438
A12: Pct Change | C12: =(C11-C10)/C10 -> 0.20195855 | D12: =(D11-D10)/D10 -> 0.12119899 | E12: =(E11-E10)/E10 -> 0.041344245 | F12: =(F11-F10)/F10 -> 0.43366074 | G12: =(G11-G10)/G10 -> 0.027926838 | H12: =(H11-H10)/H10 -> 0.083398454 | I12: =(I11-I10)/I10 -> #DIV/0! | J12: =(J11-J10)/J10 -> 0.086166908 | ... N12: =(N11-N10)/N10 -> 0.14239396
A14: Total Municipal | B14: 2024 | C14: =C2+C6+C10 -> 61901826 | D14: =D2+D6+D10 -> 53233884 | E14: =E2+E6+E10 -> 5189562 | F14: =F2+F6+F10 -> 2145276 | G14: =G2+G6+G10 -> 6019802 | H14: =H2+H6+H10 -> 2545716 | I14: =I2+I6+I10 -> 0 | J14: =J2+J6+J10 -> 1700585 | ... L14: =L2+L6+L10 -> 35632943 | N14: =N2+N6+N10 -> 73035.746
B15: 2025 | C15: =C3+C7+C11 -> 76402822 | D15: =D3+D7+D11 -> 59988689 | E15: =E3+E7+E11 -> 5403826 | F15: =F3+F7+F11 -> 2545411 | G15: =G3+G7+G11 -> 6418100 | H15: =H3+H7+H11 -> 3106970 | I15: =I3+I7+I11 -> 0 | J15: =J3+J7+J11 -> 1835100 | ... L15: =L3+L7+L11 -> 40679282 | N15: =N3+N7+N11 -> 85004.105
A16: Pct Change | C16: =(C15-C14)/C14 -> 0.23425797 | D16: =(D15-D14)/D14 -> 0.1268892 | E16: =(E15-E14)/E14 -> 0.041287492 | F16: =(F15-F14)/F14 -> 0.18651912 | G16: =(G15-G14)/G14 -> 0.066164635 | H16: =(H15-H14)/H14 -> 0.22047 | I16: =(I15-I14)/I14 -> #DIV/0! | J16: =(J15-J14)/J14 -> 0.079099251 | ... L16: =(L15-L14)/L14 -> 0.14162005 | N16: =(N15-N14)/N14 -> 0.16386988
K18: Effective Millage Rate | L18: 2024 | M18: =(M2+M6+M10)/3 -> 1.8171
L19: 2025 | M19: =(M3+M7+M11)/3 -> 1.884
K20: Percent change | M20: =(M19-M18)/M18 -> 0.036816906

Sheet Indian River
A1: Municipality | B1: Year | C1: Just Value | D1: Assessed Value | E1: Government Exemption Value | F1: Institutional Exemption Value | G1: Homestead Exemption Value | H1: Additional 25,000 Homestead Exemption Value | I1: Senior Homestead Exemptions | J1: Other Exemptions | K1: Total Exemption Value | L1: Total Taxable Value | M1: City Millage Rate | N1: Taxes Levied
A2: FELLSMERE | B2: 2024 | C2: 593297290 | D2: 231103161 | E2: 9004729 | F2: 28604218 | G2: 15784305 | H2: 9117346 | I2: 0 | J2: 1225904 | K2: 63736502 | L2: 167366659 | M2: 5 | N2: 836833.3
A3: FELLSMERE | B3: 2025 | C3: 611446370 | D3: 251973276 | E3: 9909198 | F3: 28624367 | G3: 16061507 | H3: 10100468 | I3: 0 | J3: 1308666 | K3: 66004206 | L3: 185969070 | M3: 5.35 | N3: 994934.52
A4: Pct Change | C4: =(C3-C2)/C2 -> 0.030590195 | D4: =(D3-D2)/D2 -> 0.090306489 | E4: =(E3-E2)/E2 -> 0.10044378 | F4: =(F3-F2)/F2 -> 0.0007044066 | G4: =(G3-G2)/G2 -> 0.017561876 | H4: =(H3-H2)/H2 -> 0.10782984 | I4: =(I3-I2)/I2 -> #DIV/0! | J4: =(J3-J2)/J2 -> 0.067510996 | ... N4: =(N3-N2)/N2 -> 0.18892799
A6: INDIAN RIVER S | B6: 2024 | C6: 8260183326 | D6: 5394401822 | E6: 13280233 | F6: 730202 | G6: 50150000 | H6: 50106898 | I6: 275000 | J6: 15184783 | K6: 129727116 | L6: 5264674706 | M6: 1.3349 | N6: 7027814.3
A7: INDIAN RIVER S | B7: 2025 | C7: 8580201013 | D7: 5896157539 | E7: 14144759 | F7: 737006 | G7: 49750000 | H7: 51145728 | I7: 175000 | J7: 19754100 | K7: 135706593 | L7: 5760450946 | M7: 1.281 | N7: 7379137.7
A8: Pct Change | C8: =(C7-C6)/C6 -> 0.038742202 | D8: =(D7-D6)/D6 -> 0.093014153 | E8: =(E7-E6)/E6 -> 0.065098707 | F8: =(F7-F6)/F6 -> 0.0093179695 | G8: =(G7-G6)/G6 -> -0.0079760718 | H8: =(H7-H6)/H6 -> 0.020732275 | I8: =(I7-I6)/I6 -> -0.36363636 | J8: =(J7-J6)/J6 -> 0.30091421 | ... N8: =(N7-N6)/N6 -> 0.049990421
A10: ORCHID | B10: 2024 | C10: 1032199192 | D10: 637163994 | E10: 0 | F10: 0 | G10: 5925000 | H10: 5925000 | I10: 0 | J10: 2941068 | K10: 14791068 | L10: 622372926 | M10: 0.7 | N10: 435661.05
A11: ORCHID | B11: 2025 | C11: 1071678851 | D11: 708193820 | G11: 6300000 | H11: 6481944 | I11: 0 | J11: 3035438 | K11: 15817382 | L11: 692376438 | M11: 0.7 | N11: 484663.51
A12: Pct Change | C12: =(C11-C10)/C10 -> 0.038248101 | D12: =(D11-D10)/D10 -> 0.11147809 | E12: =(E11-E10)/E10 -> #DIV/0! | F12: =(F11-F10)/F10 -> #DIV/0! | G12: =(G11-G10)/G10 -> 0.063291139 | H12: =(H11-H10)/H10 -> 0.093998987 | I12: =(I11-I10)/I10 -> #DIV/0! | J12: =(J11-J10)/J10 -> 0.032086983 | ... N12: =(N11-N10)/N10 -> 0.1124784
A14: SEBASTIAN | B14: 2024 | C14: 4319446211 | D14: 2961833464 | E14: 68982023 | F14: 45554874 | G14: 229448482 | H14: 221297721 | I14: 22471018 | J14: 76109761 | K14: 663863879 | L14: 2297969585 | M14: 3.1955 | N14: 7343161.8
A15: SEBASTIAN | B15: 2025 | C15: 4426308825 | D15: 3181383932 | E15: 68760427 | F15: 45825578 | G15: 231883167 | H15: 231332640 | I15: 21923454 | J15: 91430016 | K15: 691155282 | L15: 2490228650 | M15: 3.4455 | N15: 8580082.8
A16: Pct Change | C16: =(C15-C14)/C14 -> 0.024739888 | D16: =(D15-D14)/D14 -> 0.07412654 | E16: =(E15-E14)/E14 -> -0.0032123732 | F16: =(F15-F14)/F14 -> 0.0059423718 | G16: =(G15-G14)/G14 -> 0.010611031 | H16: =(H15-H14)/H14 -> 0.045345786 | I16: =(I15-I14)/I14 -> -0.024367565 | J16: =(J15-J14)/J14 -> 0.20129159 | ... N16: =(N15-N14)/N14 -> 0.16844529
A18: VERO BEACH | B18: 2024 | C18: 7063288594 | D18: 5281323736 | E18: 311901742 | F18: 168711729 | G18: 106664644 | H18: 99040856 | I18: 3519140 | J18: 34571547 | K18: 724409658 | L18: 4556914078 | M18: 2.768 | N18: 12613538
A19: VERO BEACH | B19: 2025 | C19: 7382588484 | D19: 5643040025 | E19: 315735407 | F19: 171791462 | G19: 106647366 | H19: 102764376 | I19: 3723723 | J19: 41104538 | K19: 741766872 | L19: 4901273153 | M19: 2.9816 | N19: 14613636
A20: Pct Change | C20: =(C19-C18)/C18 -> 0.045205556 | D20: =(D19-D18)/D18 -> 0.068489702 | E20: =(E19-E18)/E18 -> 0.012291259 | F20: =(F19-F18)/F18 -> 0.01825441 | G20: =(G19-G18)/G18 -> -0.00016198432 | H20: =(H19-H18)/H18 -> 0.037595798 | I20: =(I19-I18)/I18 -> 0.058134374 | J20: =(J19-J18)/J18 -> 0.18897017 | ... N20: =(N19-N18)/N18 -> 0.15856755
A22: Total Municipal | B22: 2024 | C22: =C2+C6+C10+C14+C18 -> 21268414613 | D22: =D2+D6+D10+D14+D18 -> 14505826177 | E22: =E2+E6+E10+E14+E18 -> 403168727 | F22: =F2+F6+F10+F14+F18 -> 243601023 | G22: =G2+G6+G10+G14+G18 -> 407972431 | H22: =H2+H6+H10+H14+H18 -> 385487821 | I22: =I2+I6+I10+I14+I18 -> 26265158 | J22: =J2+J6+J10+J14+J18 -> 130033063 | ... L22: =L2+L6+L10+L14+L18 -> 12909297954 | N22: =N2+N6+N10+N14+N18 -> 28257009
B23: 2025 | C23: =C3+C7+C11+C15+C19 -> 22072223543 | D23: =D3+D7+D11+D15+D19 -> 15680748592 | E23: =E3+E7+E11+E15+E19 -> 408549791 | F23: =F3+F7+F11+F15+F19 -> 246978413 | G23: =G3+G7+G11+G15+G19 -> 410642040 | H23: =H3+H7+H11+H15+H19 -> 401825156 | I23: =I3+I7+I11+I15+I19 -> 25822177 | J23: =J3+J7+J11+J15+J19 -> 156632758 | ... L23: =L3+L7+L11+L15+L19 -> 14030298257 | N23: =N3+N7+N11+N15+N19 -> 32052455
A24: Pct Change | C24: =(C23-C22)/C22 -> 0.037793552 | D24: =(D23-D22)/D22 -> 0.080996587 | E24: =(E23-E22)/E22 -> 0.013346928 | F24: =(F23-F22)/F22 -> 0.013864433 | G24: =(G23-G22)/G22 -> 0.0065436015 | H24: =(H23-H22)/H22 -> 0.042380937 | I24: =(I23-I22)/I22 -> -0.016865728 | J24: =(J23-J22)/J22 -> 0.20456101 | ... L24: =(L23-L22)/L22 -> 0.086836659 | N24: =(N23-N22)/N22 -> 0.13431875
K26: Effective Millage Rate | L26: 2024 | M26: =(M2+M6+M10+M14+M18)/5 -> 2.59968
L27: 2025 | M27: =(M3+M7+M11+M15+M19)/5 -> 2.75162
K28: Percent change | M28: =(M27-M26)/M26 -> 0.058445655

Sheet Jackson
A1: Municipality | B1: Year | C1: Just Value | D1: Assessed Value | E1: Government Exemption Value | F1: Institutional Exemption Value | G1: Homestead Exemption Value | H1: Additional 25,000 Homestead Exemption Value | I1: Senior Homestead Exemptions | J1: Other Exemptions | K1: Total Exemption Value | L1: Total Taxable Value | M1: City Millage Rate | N1: Taxes Levied
A2: ALFORD | B2: 2024 | C2: 28882814 | D2: 22228195 | E2: 622917 | F2: 1433104 | G2: 2790026 | H2: 1135495 | I2: 0 | J2: 886443 | K2: 6867985 | L2: 15360210 | M2: 1.539 | N2: 23639.363
A3: ALFORD | B3: 2025 | C3: 28725215 | D3: 23072643 | E3: 632975 | F3: 1412384 | G3: 2784944 | H3: 1240161 | I3: 60111 | J3: 869849 | K3: 7000424 | L3: 16072219 | M3: 1.5575 | N3: 25032.481
A4: Pct Change | C4: =(C3-C2)/C2 -> -0.0054564974 | D4: =(D3-D2)/D2 -> 0.037989949 | E4: =(E3-E2)/E2 -> 0.016146613 | F4: =(F3-F2)/F2 -> -0.014458127 | G4: =(G3-G2)/G2 -> -0.0018214884 | H4: =(H3-H2)/H2 -> 0.09217654 | I4: =(I3-I2)/I2 -> #DIV/0! | J4: =(J3-J2)/J2 -> -0.01871976 | ... N4: =(N3-N2)/N2 -> 0.058932125
A6: CAMPBELLTON | B6: 2024 | C6: 21108179 | D6: 16433300 | E6: 682679 | F6: 1234125 | G6: 1164980 | H6: 390788 | I6: 0 | J6: 419191 | K6: 3891763 | L6: 12541537 | M6: 2.9399 | N6: 36870.865
A7: CAMPBELLTON | B7: 2025 | C7: 20635962 | D7: 16415065 | E7: 715160 | F7: 1257451 | G7: 1191865 | H7: 468578 | I7: 0 | J7: 817728 | K7: 4450782 | L7: 11964283 | M7: 2.9399 | N7: 35173.796
A8: Pct Change | C8: =(C7-C6)/C6 -> -0.022371281 | D8: =(D7-D6)/D6 -> -0.0011096371 | E8: =(E7-E6)/E6 -> 0.04757873 | F8: =(F7-F6)/F6 -> 0.018900841 | G8: =(G7-G6)/G6 -> 0.023077649 | H8: =(H7-H6)/H6 -> 0.19905934 | I8: =(I7-I6)/I6 -> #DIV/0! | J8: =(J7-J6)/J6 -> 0.9507289 | ... N8: =(N7-N6)/N6 -> -0.046027373
A10: COTTONDALE | B10: 2024 | C10: 47734680 | D10: 38594254 | E10: 5189657 | F10: 4358830 | G10: 4099702 | H10: 1778805 | I10: 0 | J10: 861955 | K10: 16288949 | L10: 22305305 | M10: 4.53 | N10: 101043.03
A11: COTTONDALE | B11: 2025 | C11: 49165087 | D11: 41104092 | E11: 5369673 | F11: 4580628 | G11: 4057720 | H11: 1973718 | I11: 0 | J11: 856462 | K11: 16838201 | L11: 24265891 | M11: 4.53 | N11: 109924.49
A12: Pct Change | C12: =(C11-C10)/C10 -> 0.029965782 | D12: =(D11-D10)/D10 -> 0.06503139 | E12: =(E11-E10)/E10 -> 0.034687456 | F12: =(F11-F10)/F10 -> 0.050884756 | G12: =(G11-G10)/G10 -> -0.010240256 | H12: =(H11-H10)/H10 -> 0.10957525 | I12: =(I11-I10)/I10 -> #DIV/0! | J12: =(J11-J10)/J10 -> -0.0063727225 | ... N12: =(N11-N10)/N10 -> 0.087897745
A14: GRACEVILLE | B14: 2024 | C14: 179384825 | D14: 157090376 | E14: 8211543 | F14: 20179943 | G14: 9455031 | H14: 5350507 | I14: 0 | J14: 2974993 | K14: 46172017 | L14: 110918359 | M14: 4 | N14: 443673.44
A15: GRACEVILLE | B15: 2025 | C15: 179539536 | D15: 161204089 | E15: 8556637 | F15: 21328611 | G15: 9621849 | H15: 5789445 | I15: 0 | J15: 3329618 | K15: 48626160 | L15: 112577929 | M15: 4 | N15: 450311.72
A16: Pct Change | C16: =(C15-C14)/C14 -> 0.00086245311 | D16: =(D15-D14)/D14 -> 0.026186919 | E16: =(E15-E14)/E14 -> 0.042025476 | F16: =(F15-F14)/F14 -> 0.056921271 | G16: =(G15-G14)/G14 -> 0.017643305 | H16: =(H15-H14)/H14 -> 0.082036712 | I16: =(I15-I14)/I14 -> #DIV/0! | J16: =(J15-J14)/J14 -> 0.11920196 | ... N16: =(N15-N14)/N14 -> 0.014962086
A18: GREENWOOD | B18: 2024 | C18: 39823334 | D18: 28946079 | E18: 2841599 | F18: 774627 | G18: 3500180 | H18: 1852669 | I18: 70000 | J18: 899013 | K18: 9938088 | L18: 19007991 | M18: 1 | N18: 19007.991
A19: GREENWOOD | B19: 2025 | C19: 41364668 | D19: 31113033 | E19: 3082446 | F19: 770041 | G19: 3447126 | H19: 2022380 | I19: 109905 | J19: 1139037 | K19: 10570935 | L19: 20542098 | M19: 1 | N19: 20542.098
A20: Pct Change | C20: =(C19-C18)/C18 -> 0.038704293 | D20: =(D19-D18)/D18 -> 0.074861746 | E20: =(E19-E18)/E18 -> 0.084757561 | F20: =(F19-F18)/F18 -> -0.0059202687 | G20: =(G19-G18)/G18 -> -0.015157506 | H20: =(H19-H18)/H18 -> 0.091603519 | I20: =(I19-I18)/I18 -> 0.57007143 | J20: =(J19-J18)/J18 -> 0.26698613 | ... N20: =(N19-N18)/N18 -> 0.080708529
A22: JACOB | B22: 2024 | C22: 13678983 | D22: 8846597 | E22: 144245 | F22: 620935 | G22: 1431349 | H22: 382578 | I22: 0 | J22: 403291 | K22: 2982398 | L22: 5864199 | M22: 4.086 | N22: 23961.117
A23: JACOB | B23: 2025 | C23: 13471816 | D23: 9072242 | E23: 143084 | F23: 641087 | G23: 1356457 | H23: 454515 | I23: 0 | J23: 397447 | K23: 2992590 | L23: 6079652 | M23: 4.4795 | N23: 27233.801
A24: Pct Change | C24: =(C23-C22)/C22 -> -0.015144912 | D24: =(D23-D22)/D22 -> 0.025506418 | E24: =(E23-E22)/E22 -> -0.0080488059 | F24: =(F23-F22)/F22 -> 0.032454283 | G24: =(G23-G22)/G22 -> -0.052322669 | H24: =(H23-H22)/H22 -> 0.18803224 | I24: =(I23-I22)/I22 -> #DIV/0! | J24: =(J23-J22)/J22 -> -0.014490777 | ... N24: =(N23-N22)/N22 -> 0.13658312
A26: MALONE | B26: 2024 | C26: 62027847 | D26: 53773101 | E26: 25639038 | F26: 2447336 | G26: 3694984 | H26: 1890235 | I26: 0 | J26: 587112 | K26: 34258705 | L26: 19514396 | M26: 1 | N26: 19514.396
A27: MALONE | B27: 2025 | C27: 65891003 | D27: 58467321 | E27: 28930521 | F27: 2537247 | G27: 3701148 | H27: 2056067 | I27: 0 | J27: 625317 | K27: 37850300 | L27: 20617021 | M27: 1.5 | N27: 30925.532
A28: Pct Change | C28: =(C27-C26)/C26 -> 0.062280995 | D28: =(D27-D26)/D26 -> 0.087296807 | E28: =(E27-E26)/E26 -> 0.12837779 | F28: =(F27-F26)/F26 -> 0.036738315 | G28: =(G27-G26)/G26 -> 0.0016682075 | H28: =(H27-H26)/H26 -> 0.087730891 | I28: =(I27-I26)/I26 -> #DIV/0! | J28: =(J27-J26)/J26 -> 0.065072763 | ... N28: =(N27-N26)/N26 -> 0.58475474
A30: MARIANNA | B30: 2024 | C30: 613560820 | D30: 552579656 | E30: 137022716 | F30: 51156461 | G30: 23925306 | H30: 13721475 | I30: 0 | J30: 8475465 | K30: 234301423 | L30: 318278233 | M30: 3.4985 | N30: 1113496.4
A31: MARIANNA | B31: 2025 | C31: 678437227 | D31: 616480828 | E31: 175776692 | F31: 61916166 | G31: 24135169 | H31: 14823436 | I31: 0 | J31: 9248762 | K31: 285900225 | L31: 330580603 | M31: 3.9985 | N31: 1321826.5
A32: Pct Change | C32: =(C31-C30)/C30 -> 0.10573753 | D32: =(D31-D30)/D30 -> 0.11564156 | E32: =(E31-E30)/E30 -> 0.28282884 | F32: =(F31-F30)/F30 -> 0.21032935 | G32: =(G31-G30)/G30 -> 0.0087715911 | H32: =(H31-H30)/H30 -> 0.080309223 | I32: =(I31-I30)/I30 -> #DIV/0! | J32: =(J31-J30)/J30 -> 0.091239478 | ... N32: =(N31-N30)/N30 -> 0.18709548
A34: SNEADS | B34: 2024 | C34: 97231954 | D34: 76309100 | E34: 8749308 | F34: 5353402 | G34: 8891300 | H34: 4202149 | I34: 0 | J34: 1244014 | K34: 28440173 | L34: 47868927 | M34: 4.0883 | N34: 195702.53
A35: SNEADS | B35: 2025 | C35: 97598525 | D35: 79513214 | E35: 9288126 | F35: 5209809 | G35: 8897577 | H35: 4646613 | I35: 0 | J35: 1439191 | K35: 29481316 | L35: 50031898 | M35: 4.36 | N35: 218139.08
A36: Pct Change | C36: =(C35-C34)/C34 -> 0.0037700672 | D36: =(D35-D34)/D34 -> 0.041988623 | E36: =(E35-E34)/E34 -> 0.06158407 | F36: =(F35-F34)/F34 -> -0.026822757 | G36: =(G35-G34)/G34 -> 0.00070597101 | H36: =(H35-H34)/H34 -> 0.10577064 | I36: =(I35-I34)/I34 -> #DIV/0! | J36: =(J35-J34)/J34 -> 0.15689293 | ... N36: =(N35-N34)/N34 -> 0.11464614
A38: Total Municipal | B38: 2024 | C38: =C2+C6+C10+C14+C18+C22+C26+C30+C34 -> 1103433436 | D38: =D2+D6+D10+D14+D18+D22+D26+D30+D34 -> 954800658 | E38: =E2+E6+E10+E14+E18+E22+E26+E30+E34 -> 189103702 | F38: =F2+F6+F10+F14+F18+F22+F26+F30+F34 -> 87558763 | G38: =G2+G6+G10+G14+G18+G22+G26+G30+G34 -> 58952858 | H38: =H2+H6+H10+H14+H18+H22+H26+H30+H34 -> 30704701 | I38: =I2+I6+I10+I14+I18+I22+I26+I30+I34 -> 70000 | J38: =J2+J6+J10+J14+J18+J22+J26+J30+J34 -> 16751477 | ... L38: =L2+L6+L10+L14+L18+L22+L26+L30+L34 -> 571659157 | N38: =N2+N6+N10+N14+N18+N22+N26+N30+N34 -> 1976909.1
B39: 2025 | C39: =C3+C7+C11+C15+C19+C23+C27+C31+C35 -> 1174829039 | D39: =D3+D7+D11+D15+D19+D23+D27+D31+D35 -> 1036442527 | E39: =E3+E7+E11+E15+E19+E23+E27+E31+E35 -> 232495314 | F39: =F3+F7+F11+F15+F19+F23+F27+F31+F35 -> 99653424 | G39: =G3+G7+G11+G15+G19+G23+G27+G31+G35 -> 59193855 | H39: =H3+H7+H11+H15+H19+H23+H27+H31+H35 -> 33474913 | I39: =I3+I7+I11+I15+I19+I23+I27+I31+I35 -> 170016 | J39: =J3+J7+J11+J15+J19+J23+J27+J31+J35 -> 18723411 | ... L39: =L3+L7+L11+L15+L19+L23+L27+L31+L35 -> 592731594 | N39: =N3+N7+N11+N15+N19+N23+N27+N31+N35 -> 2239109.5
A40: Pct Change | C40: =(C39-C38)/C38 -> 0.064703135 | D40: =(D39-D38)/D38 -> 0.085506716 | E40: =(E39-E38)/E38 -> 0.22945935 | F40: =(F39-F38)/F38 -> 0.13813193 | G40: =(G39-G38)/G38 -> 0.0040879613 | H40: =(H39-H38)/H38 -> 0.090221103 | I40: =(I39-I38)/I38 -> 1.4288 | J40: =(J39-J38)/J38 -> 0.11771702 | ... L40: =(L39-L38)/L38 -> 0.03686189 | N40: =(N39-N38)/N38 -> 0.13263149
K42: Effective Millage Rate | L42: 2024 | M42: =(M2+M6+M10+M14+M18+M22+M26+M30+M34)/9 -> 2.9646333
L43: 2025 | M43: =(M3+M7+M11+M15+M19+M23+M27+M31+M35)/9 -> 3.1517111
K44: Percent change | M44: =(M43-M42)/M42 -> 0.063103176

Sheet Jefferson
A1: Municipality | B1: Year | C1: Just Value | D1: Assessed Value | E1: Government Exemption Value | F1: Institutional Exemption Value | G1: Homestead Exemption Value | H1: Additional 25,000 Homestead Exemption Value | I1: Senior Homestead Exemptions | J1: Other Exemptions | K1: Total Exemption Value | L1: Total Taxable Value | M1: City Millage Rate | N1: Taxes Levied
A2: MONTICELLO | B2: 2024 | C2: 257501509 | D2: 211852525 | E2: 15888927 | F2: 12030379 | G2: 15788702 | H2: 12027992 | I2: 851831 | J2: 5832001 | K2: 62419832 | L2: 149432693 | M2: 6.8501 | N2: 1023628.9
A3: MONTICELLO | B3: 2025 | C3: 268366955 | D3: 224035538 | E3: 16198312 | F3: 12600614 | G3: 15654956 | H3: 12555707 | I3: 948093 | J3: 5978698 | K3: 63936380 | L3: 160099158 | M3: 6.8501 | N3: 1096695.2
A4: Pct Change | C4: =(C3-C2)/C2 -> 0.04219566 | D4: =(D3-D2)/D2 -> 0.057507046 | E4: =(E3-E2)/E2 -> 0.019471737 | F4: =(F3-F2)/F2 -> 0.047399587 | G4: =(G3-G2)/G2 -> -0.008470994 | H4: =(H3-H2)/H2 -> 0.043873907 | I4: =(I3-I2)/I2 -> 0.11300598 | J4: =(J3-J2)/J2 -> 0.025153802 | ... N4: =(N3-N2)/N2 -> 0.071379728
A6: Total Municipal | B6: 2024 | C6: =C2 -> 257501509 | D6: =D2 -> 211852525 | E6: =E2 -> 15888927 | F6: =F2 -> 12030379 | G6: =G2 -> 15788702 | H6: =H2 -> 12027992 | I6: =I2 -> 851831 | J6: =J2 -> 5832001 | ... L6: =L2 -> 149432693 | N6: =N2 -> 1023628.9
B7: 2025 | C7: =C3 -> 268366955 | D7: =D3 -> 224035538 | E7: =E3 -> 16198312 | F7: =F3 -> 12600614 | G7: =G3 -> 15654956 | H7: =H3 -> 12555707 | I7: =I3 -> 948093 | J7: =J3 -> 5978698 | ... L7: =L3 -> 160099158 | N7: =N3 -> 1096695.2
A8: Pct Change | C8: =(C7-C6)/C6 -> 0.04219566 | D8: =(D7-D6)/D6 -> 0.057507046 | E8: =(E7-E6)/E6 -> 0.019471737 | F8: =(F7-F6)/F6 -> 0.047399587 | G8: =(G7-G6)/G6 -> -0.008470994 | H8: =(H7-H6)/H6 -> 0.043873907 | I8: =(I7-I6)/I6 -> 0.11300598 | J8: =(J7-J6)/J6 -> 0.025153802 | ... L8: =(L7-L6)/L6 -> 0.071379728 | N8: =(N7-N6)/N6 -> 0.071379728
K10: Effective Millage Rate | L10: 2024 | M10: =M2 -> 6.8501
L11: 2025 | M11: =M3 -> 6.8501
K12: Percent change | M12: =(M11-M10)/M10 -> 0

Sheet Lafayette
A1: Municipality | B1: Year | C1: Just Value | D1: Assessed Value | E1: Government Exemption Value | F1: Institutional Exemption Value | G1: Homestead Exemption Value | H1: Additional 25,000 Homestead Exemption Value | I1: Senior Homestead Exemptions | J1: Other Exemptions | K1: Total Exemption Value | L1: Total Taxable Value | M1: City Millage Rate | N1: Taxes Levied
A2: MAYO | B2: 2024 | C2: 57672706 | D2: 50914576 | E2: 9783811 | F2: 3074759 | G2: 4396853 | H2: 2052735 | I2: 0 | J2: 1678161 | K2: 20986319 | L2: 29928257 | M2: 7 | N2: 209497.8
A3: MAYO | B3: 2025 | C3: 59412531 | D3: 52207136 | E3: 9629433 | F3: 3204263 | G3: 4352069 | H3: 2216441 | I3: 0 | J3: 1689694 | K3: 21091900 | L3: 31115236 | M3: 7 | N3: 217806.65
A4: Pct Change | C4: =(C3-C2)/C2 -> 0.030167216 | D4: =(D3-D2)/D2 -> 0.025386836 | E4: =(E3-E2)/E2 -> -0.015778923 | F4: =(F3-F2)/F2 -> 0.042118423 | G4: =(G3-G2)/G2 -> -0.010185467 | H4: =(H3-H2)/H2 -> 0.079750187 | I4: =(I3-I2)/I2 -> #DIV/0! | J4: =(J3-J2)/J2 -> 0.0068724038 | ... N4: =(N3-N2)/N2 -> 0.039660813
A6: Total Municipal | B6: 2024 | C6: =C2 -> 57672706 | D6: =D2 -> 50914576 | E6: =E2 -> 9783811 | F6: =F2 -> 3074759 | G6: =G2 -> 4396853 | H6: =H2 -> 2052735 | I6: =I2 -> 0 | J6: =J2 -> 1678161 | ... L6: =L2 -> 29928257 | N6: =N2 -> 209497.8
B7: 2025 | C7: =C3 -> 59412531 | D7: =D3 -> 52207136 | E7: =E3 -> 9629433 | F7: =F3 -> 3204263 | G7: =G3 -> 4352069 | H7: =H3 -> 2216441 | I7: =I3 -> 0 | J7: =J3 -> 1689694 | ... L7: =L3 -> 31115236 | N7: =N3 -> 217806.65
A8: Pct Change | C8: =(C7-C6)/C6 -> 0.030167216 | D8: =(D7-D6)/D6 -> 0.025386836 | E8: =(E7-E6)/E6 -> -0.015778923 | F8: =(F7-F6)/F6 -> 0.042118423 | G8: =(G7-G6)/G6 -> -0.010185467 | H8: =(H7-H6)/H6 -> 0.079750187 | I8: =(I7-I6)/I6 -> #DIV/0! | J8: =(J7-J6)/J6 -> 0.0068724038 | ... L8: =(L7-L6)/L6 -> 0.039660813 | N8: =(N7-N6)/N6 -> 0.039660813
K10: Effective Millage Rate | L10: 2024 | M10: =M2 -> 7
L11: 2025 | M11: =M3 -> 7
K12: Percent change | M12: =(M11-M10)/M10 -> 0

Sheet Lake
A1: Municipality | B1: Year | C1: Just Value | D1: Assessed Value | E1: Government Exemption Value | F1: Institutional Exemption Value | G1: Homestead Exemption Value | H1: Additional 25,000 Homestead Exemption Value | I1: Senior Homestead Exemptions | J1: Other Exemptions | K1: Total Exemption Value | L1: Total Taxable Value | M1: City Millage Rate | N1: Taxes Levied
A2: ASTATULA | B2: 2024 | C2: 228846049 | D2: 178233774 | E2: 1851581 | F2: 7022197 | G2: 14363265 | H2: 11253458 | I2: 0 | J2: 2731418 | K2: 37221919 | L2: 141011855 | M2: 7 | N2: 987082.98
A3: ASTATULA | B3: 2025 | C3: 259984605 | D3: 215347100 | E3: 1894074 | F3: 6876761 | G3: 14966725 | H3: 12545572 | I3: 0 | J3: 2858509 | K3: 39141641 | L3: 176205459 | M3: 6.9 | N3: 1215817.7
A4: Pct Change | C4: =(C3-C2)/C2 -> 0.1360677 | D4: =(D3-D2)/D2 -> 0.20822836 | E4: =(E3-E2)/E2 -> 0.022949577 | F4: =(F3-F2)/F2 -> -0.020710897 | G4: =(G3-G2)/G2 -> 0.042014124 | H4: =(H3-H2)/H2 -> 0.11481928 | I4: =(I3-I2)/I2 -> #DIV/0! | J4: =(J3-J2)/J2 -> 0.046529312 | ... N4: =(N3-N2)/N2 -> 0.23172792
A6: CLERMONT | B6: 2024 | C6: 8571407740 | D6: 6817215248 | E6: 51446256 | F6: 362748148 | G6: 295236054 | H6: 291526921 | I6: 16863156 | J6: 128557893 | K6: 1146378428 | L6: 5670836820 | M6: 4.88 | N6: 27673684
A7: CLERMONT | B7: 2025 | C7: 9242711105 | D7: 7535620142 | E7: 57181150 | F7: 393034022 | G7: 300569514 | H7: 305667320 | I7: 16566327 | J7: 145938219 | K7: 1218956552 | L7: 6316663590 | M7: 4.59 | N7: 28993486
A8: Pct Change | C8: =(C7-C6)/C6 -> 0.078318916 | D8: =(D7-D6)/D6 -> 0.10538099 | E8: =(E7-E6)/E6 -> 0.1114735 | F8: =(F7-F6)/F6 -> 0.083490086 | G8: =(G7-G6)/G6 -> 0.01806507 | H8: =(H7-H6)/H6 -> 0.048504608 | I8: =(I7-I6)/I6 -> -0.017602221 | J8: =(J7-J6)/J6 -> 0.13519455 | ... N8: =(N7-N6)/N6 -> 0.047691598
A10: EUSTIS | B10: 2024 | C10: 2722174375 | D10: 2114524679 | E10: 44692988 | F10: 123209877 | G10: 123210393 | H10: 112228568 | I10: 0 | J10: 32215844 | K10: 435557670 | L10: 1678967009 | M10: 7.581 | N10: 12728249
A11: EUSTIS | B11: 2025 | C11: 2842912940 | D11: 2281685081 | E11: 46090918 | F11: 124641051 | G11: 124297054 | H11: 117340440 | I11: 0 | J11: 37333695 | K11: 449703158 | L11: 1831981923 | M11: 7.3898 | N11: 13537980
A12: Pct Change | C12: =(C11-C10)/C10 -> 0.044353722 | D12: =(D11-D10)/D10 -> 0.079053417 | E12: =(E11-E10)/E10 -> 0.031278508 | F12: =(F11-F10)/F10 -> 0.011615741 | G12: =(G11-G10)/G10 -> 0.0088195563 | H12: =(H11-H10)/H10 -> 0.045548759 | I12: =(I11-I10)/I10 -> #DIV/0! | J12: =(J11-J10)/J10 -> 0.1588613 | ... N12: =(N11-N10)/N10 -> 0.063616851
A14: FRUITLAND PARK | B14: 2024 | C14: 1730501082 | D14: 1318970545 | E14: 9522502 | F14: 31585162 | G14: 73337927 | H14: 70319789 | I14: 0 | J14: 30326558 | K14: 215091938 | L14: 1103878607 | M14: 3.9134 | N14: 4319918.5
A15: FRUITLAND PARK | B15: 2025 | C15: 1755703212 | D15: 1391128538 | E15: 10862449 | F15: 31883639 | G15: 73060768 | H15: 72460658 | I15: 0 | J15: 31689597 | K15: 219957111 | L15: 1171171427 | M15: 3.9134 | N15: 4583262.3
A16: Pct Change | C16: =(C15-C14)/C14 -> 0.014563487 | D16: =(D15-D14)/D14 -> 0.054707812 | E16: =(E15-E14)/E14 -> 0.14071375 | F16: =(F15-F14)/F14 -> 0.009449912 | G16: =(G15-G14)/G14 -> -0.0037792042 | H16: =(H15-H14)/H14 -> 0.030444759 | I16: =(I15-I14)/I14 -> #DIV/0! | J16: =(J15-J14)/J14 -> 0.044945391 | ... N16: =(N15-N14)/N14 -> 0.060960344
A18: GROVELAND | B18: 2024 | C18: 3473888548 | D18: 2752486728 | E18: 16218669 | F18: 32351150 | G18: 159128692 | H18: 155957122 | I18: 0 | J18: 62450225 | K18: 426105858 | L18: 2326380870 | M18: 5.5 | N18: 12795095
A19: GROVELAND | B19: 2025 | C19: 3795130377 | D19: 3096595539 | E19: 20427603 | F19: 34039982 | G19: 164167355 | H19: 165903592 | I19: 0 | J19: 73715479 | K19: 458254011 | L19: 2638341528 | M19: 5.7 | N19: 15038547
A20: Pct Change | C20: =(C19-C18)/C18 -> 0.092473269 | D20: =(D19-D18)/D18 -> 0.12501743 | E20: =(E19-E18)/E18 -> 0.25951168 | F20: =(F19-F18)/F18 -> 0.052203152 | G20: =(G19-G18)/G18 -> 0.031664076 | H20: =(H19-H18)/H18 -> 0.063776953 | I20: =(I19-I18)/I18 -> #DIV/0! | J20: =(J19-J18)/J18 -> 0.18038772 | ... N20: =(N19-N18)/N18 -> 0.17533687
A22: HOWEY-IN-THE-H | B22: 2024 | C22: 355990365 | D22: 276705731 | E22: 2135997 | F22: 6395747 | G22: 17032092 | H22: 16767208 | I22: 0 | J22: 9791873 | K22: 52122917 | L22: 224582814 | M22: 7.5 | N22: 1684371.1
A23: HOWEY-IN-THE-H | B23: 2025 | C23: 407857178 | D23: 313635863 | E23: 2242914 | F23: 6949920 | G23: 18382092 | H23: 18651940 | I23: 0 | J23: 11450766 | K23: 57677632 | L23: 255958231 | M23: 6.99 | N23: 1789148
A24: Pct Change | C24: =(C23-C22)/C22 -> 0.14569724 | D24: =(D23-D22)/D22 -> 0.13346356 | E24: =(E23-E22)/E22 -> 0.050054846 | F24: =(F23-F22)/F22 -> 0.086647111 | G24: =(G23-G22)/G22 -> 0.079262136 | H24: =(H23-H22)/H22 -> 0.11240583 | I24: =(I23-I22)/I22 -> #DIV/0! | J24: =(J23-J22)/J22 -> 0.16941529 | ... N24: =(N23-N22)/N22 -> 0.062205371
A26: LADY LAKE | B26: 2024 | C26: 2591841459 | D26: 2209063650 | E26: 73043312 | F26: 50373484 | G26: 110738256 | H26: 104497190 | I26: 19188730 | J26: 36422667 | K26: 394263639 | L26: 1814800011 | M26: 3.651 | N26: 6625834.8
A27: LADY LAKE | B27: 2025 | C27: 2698361982 | D27: 2375027175 | E27: 74630099 | F27: 61502380 | G27: 109768797 | H27: 107131879 | I27: 18512888 | J27: 39826581 | K27: 411372624 | L27: 1963654551 | M27: 3.651 | N27: 7169302.8
A28: Pct Change | C28: =(C27-C26)/C26 -> 0.041098395 | D28: =(D27-D26)/D26 -> 0.075128449 | E28: =(E27-E26)/E26 -> 0.021723919 | F28: =(F27-F26)/F26 -> 0.22092766 | G28: =(G27-G26)/G26 -> -0.0087545085 | H28: =(H27-H26)/H26 -> 0.025213013 | I28: =(I27-I26)/I26 -> -0.035220778 | J28: =(J27-J26)/J26 -> 0.093455924 | ... N28: =(N27-N26)/N26 -> 0.082022558
A30: LEESBURG | B30: 2024 | C30: 5172498732 | D30: 4334040728 | E30: 123023715 | F30: 317830011 | G30: 174973609 | H30: 154602714 | I30: 0 | J30: 66015841 | K30: 836445890 | L30: 3497594838 | M30: 3.4752 | N30: 12154842
A31: LEESBURG | B31: 2025 | C31: 5594276169 | D31: 4793182526 | E31: 131802490 | F31: 325978183 | G31: 197351830 | H31: 183228645 | I31: 0 | J31: 81699700 | K31: 920060848 | L31: 3873121678 | M31: 3.4752 | N31: 13459872
A32: Pct Change | C32: =(C31-C30)/C30 -> 0.081542299 | D32: =(D31-D30)/D30 -> 0.10593851 | E32: =(E31-E30)/E30 -> 0.071358396 | F32: =(F31-F30)/F30 -> 0.025636887 | G32: =(G31-G30)/G30 -> 0.12789484 | H32: =(H31-H30)/H30 -> 0.18515801 | I32: =(I31-I30)/I30 -> #DIV/0! | J32: =(J31-J30)/J30 -> 0.23757721 | ... N32: =(N31-N30)/N30 -> 0.10736716
A34: MASCOTTE | B34: 2024 | C34: 822156506 | D34: 607412428 | E34: 4823851 | F34: 17931398 | G34: 43312753 | H34: 37835541 | I34: 0 | J34: 9669788 | K34: 113573331 | L34: 493839097 | M34: 4.7549 | N34: 2348155.5
A35: MASCOTTE | B35: 2025 | C35: 938425473 | D35: 738540864 | E35: 5847256 | F35: 18169052 | G35: 47888293 | H35: 44105290 | I35: 0 | J35: 13597429 | K35: 129607320 | L35: 608933544 | M35: 4.6381 | N35: 2824294.7
A36: Pct Change | C36: =(C35-C34)/C34 -> 0.14141951 | D36: =(D35-D34)/D34 -> 0.2158804 | E36: =(E35-E34)/E34 -> 0.21215518 | F36: =(F35-F34)/F34 -> 0.013253512 | G36: =(G35-G34)/G34 -> 0.10563956 | H36: =(H35-H34)/H34 -> 0.16571057 | I36: =(I35-I34)/I34 -> #DIV/0! | J36: =(J35-J34)/J34 -> 0.40617654 | ... N36: =(N35-N34)/N34 -> 0.20277156
A38: MINNEOLA | B38: 2024 | C38: 2694872686 | D38: 2084836548 | E38: 11048506 | F38: 45055975 | G38: 108973229 | H38: 107841440 | I38: 3286820 | J38: 44025875 | K38: 320231845 | L38: 1764604703 | M38: 5.6 | N38: 9881786.3
A39: MINNEOLA | B39: 2025 | C39: 3106449226 | D39: 2427830996 | E39: 13082871 | F39: 45204872 | G39: 118498370 | H39: 121060641 | I39: 5845274 | J39: 58145609 | K39: 361837637 | L39: 2065993359 | M39: 5.5 | N39: 11362963
A40: Pct Change | C40: =(C39-C38)/C38 -> 0.15272578 | D40: =(D39-D38)/D38 -> 0.16451863 | E40: =(E39-E38)/E38 -> 0.18413032 | F40: =(F39-F38)/F38 -> 0.0033047115 | G40: =(G39-G38)/G38 -> 0.087408083 | H40: =(H39-H38)/H38 -> 0.12257997 | I40: =(I39-I38)/I38 -> 0.77839797 | J40: =(J39-J38)/J38 -> 0.32071444 | ... N40: =(N39-N38)/N38 -> 0.14988961
A42: MONTEVERDE | B42: 2024 | C42: 383196885 | D42: 276121772 | E42: 2376188 | F42: 29915416 | G42: 13575000 | H42: 13337480 | I42: 0 | J42: 4950970 | K42: 64155054 | L42: 211966718 | M42: 2.83 | N42: 599865.81
A43: MONTEVERDE | B43: 2025 | C43: 449646046 | D43: 335600540 | E43: 2497636 | F43: 29783766 | G43: 14650000 | H43: 14894508 | I43: 0 | J43: 7709125 | K43: 69535035 | L43: 266065505 | M43: 2.83 | N43: 752965.38
