Workbook

Sheet Report Index
A2: Municipal Report
B4: Alachua | E4: Lake
B5: Baker | E5: Lee
B6: Bay | E6: Leon
B7: Bradford | E7: Levy
B8: Brevard | E8: Liberty
B9: Broward | E9: Madison
B10: Calhoun | E10: Manatee
B11: Charlotte | E11: Marion
B12: Citrus | E12: Martin
B13: Clay | E13: Monroe
B14: Collier | E14: Nassau
B15: Columbia | E15: Okaloosa
... B37: Lafayette | E37: Statewide
A43: Contact Information: | D43: Property Tax Oversight, Research & Analysis
D44: PTOResearchAnalysis@floridarevenue.com

Sheet Alachua
A1: Municipality | B1: Year | C1: Just Value | D1: Assessed Value | E1: Government Exemption Value | F1: Institutional Exemption Value | G1: Homestead Exemption Value | H1: Additional 25,000 Homestead Exemption Value | I1: Senior Homestead Exemptions | J1: Other Exemptions | K1: Total Exemption Value | L1: Total Taxable Value | M1: City Millage Rate | N1: Taxes Levied
A2: ALACHUA | B2: 2024 | C2: 2235849949 | D2: 1702372821 | E2: 140613537 | F2: 38160513 | G2: 76234750 | H2: 70210177 | I2: 3045840 | J2: 23107210 | K2: 351372027 | L2: 1351000794 | M2: 5.95 | N2: 8038454.7
A3: ALACHUA | B3: 2025 | C3: 2330291849 | D3: 1824102998 | E3: 143389534 | F3: 36787543 | G3: 79149625 | H3: 75900467 | I3: 3230245 | J3: 27577533 | K3: 366034947 | L3: 1458068051 | M3: 6.25 | N3: 9112925.3
A4: Pct Change | C4: =(C3-C2)/C2 -> 0.04223982 | D4: =(D3-D2)/D2 -> 0.07150618 | E4: =(E3-E2)/E2 -> 0.019742032 | F4: =(F3-F2)/F2 -> -0.035978814 | G4: =(G3-G2)/G2 -> 0.038235516 | H4: =(H3-H2)/H2 -> 0.081046513 | I4: =(I3-I2)/I2 -> 0.060543233 | J4: =(J3-J2)/J2 -> 0.19346009 | ... N4: =(N3-N2)/N2 -> 0.13366631
A6: ARCHER | B6: 2024 | C6: 132905454 | D6: 80384436 | E6: 4922945 | F6: 6820170 | G6: 6549373 | H6: 5124702 | I6: 0 | J6: 1332141 | K6: 24749331 | L6: 55635105 | M6: 5.5479 | N6: 308658
A7: ARCHER | B7: 2025 | C7: 137921948 | D7: 84881267 | E7: 5304160 | F7: 7041642 | G7: 6675080 | H7: 5514537 | I7: 0 | J7: 1897818 | K7: 26433237 | L7: 58448030 | M7: 6.4322 | N7: 375949.42
A8: Pct Change | C8: =(C7-C6)/C6 -> 0.037744832 | D8: =(D7-D6)/D6 -> 0.055941563 | E8: =(E7-E6)/E6 -> 0.077436372 | F8: =(F7-F6)/F6 -> 0.032473091 | G8: =(G7-G6)/G6 -> 0.019193746 | H8: =(H7-H6)/H6 -> 0.076069789 | I8: =(I7-I6)/I6 -> #DIV/0! | J8: =(J7-J6)/J6 -> 0.42463748 | ... N8: =(N7-N6)/N6 -> 0.21801288
A10: GAINESVILLE | B10: 2024 | C10: 22868254162 | D10: 19562395370 | E10: 7002294607 | F10: 592358212 | G10: 446668593 | H10: 414975147 | I10: 17752129 | J10: 91828058 | K10: 8565876746 | L10: 10996518624 | M10: 6.4297 | N10: 70704316
A11: GAINESVILLE | B11: 2025 | C11: 23568000626 | D11: 20531679268 | E11: 7001895912 | F11: 601802270 | G11: 446589853 | H11: 430500968 | I11: 18466739 | J11: 101145947 | K11: 8600401689 | L11: 11931277579 | M11: 6.7297 | N11: 80293919
A12: Pct Change | C12: =(C11-C10)/C10 -> 0.030599033 | D12: =(D11-D10)/D10 -> 0.049548324 | E12: =(E11-E10)/E10 -> -5.6937764e-05 | F12: =(F11-F10)/F10 -> 0.015943154 | G12: =(G11-G10)/G10 -> -0.00017628282 | H12: =(H11-H10)/H10 -> 0.037413857 | I12: =(I11-I10)/I10 -> 0.04025489 | J12: =(J11-J10)/J10 -> 0.10147104 | ... N12: =(N11-N10)/N10 -> 0.13562967
A14: HAWTHORNE | B14: 2024 | C14: 182747552 | D14: 135501048 | E14: 36453852 | F14: 5064477 | G14: 8604779 | H14: 6336893 | I14: 0 | J14: 1736639 | K14: 58196640 | L14: 77304408 | M14: 6.4322 | N14: 497237.41
A15: HAWTHORNE | B15: 2025 | C15: 186944992 | D15: 144099195 | E15: 37313966 | F15: 4779347 | G15: 8860234 | H15: 6983618 | I15: 0 | J15: 2333448 | K15: 60270613 | L15: 83828582 | M15: 6.4322 | N15: 539202.21
A16: Pct Change | C16: =(C15-C14)/C14 -> 0.022968516 | D16: =(D15-D14)/D14 -> 0.063454469 | E16: =(E15-E14)/E14 -> 0.023594598 | F16: =(F15-F14)/F14 -> -0.056299989 | G16: =(G15-G14)/G14 -> 0.029687572 | H16: =(H15-H14)/H14 -> 0.10205711 | I16: =(I15-I14)/I14 -> #DIV/0! | J16: =(J15-J14)/J14 -> 0.34365749 | ... N16: =(N15-N14)/N14 -> 0.084395886
A18: HIGH SPRINGS | B18: 2024 | C18: 994272178 | D18: 719685802 | E18: 23744623 | F18: 30945958 | G18: 55456634 | H18: 50580710 | I18: 2513650 | J18: 17540657 | K18: 180782232 | L18: 538903570 | M18: 6.74 | N18: 3632210.1
A19: HIGH SPRINGS | B19: 2025 | C19: 1064830056 | D19: 772138731 | E19: 24526100 | F19: 32618187 | G19: 56199069 | H19: 53328472 | I19: 2616352 | J19: 19118718 | K19: 188406898 | L19: 583731833 | M19: 6.99 | N19: 4080285.5
A20: Pct Change | C20: =(C19-C18)/C18 -> 0.070964349 | D20: =(D19-D18)/D18 -> 0.072883095 | E20: =(E19-E18)/E18 -> 0.032911746 | F20: =(F19-F18)/F18 -> 0.054037073 | G20: =(G19-G18)/G18 -> 0.013387668 | H20: =(H19-H18)/H18 -> 0.054324307 | I20: =(I19-I18)/I18 -> 0.040857717 | J20: =(J19-J18)/J18 -> 0.0899659 | ... N20: =(N19-N18)/N18 -> 0.12336166
A22: LACROSSE | B22: 2024 | C22: 35285343 | D22: 20169909 | E22: 587722 | F22: 756959 | G22: 2027358 | H22: 1436812 | I22: 0 | J22: 420993 | K22: 5229844 | L22: 14940065 | M22: 6.541 | N22: 97722.965
A23: LACROSSE | B23: 2025 | C23: 38277810 | D23: 21627811 | E23: 575500 | F23: 823338 | G23: 2046158 | H23: 1501042 | I23: 0 | J23: 508455 | K23: 5454493 | L23: 16173318 | M23: 6.541 | N23: 105789.67
A24: Pct Change | C24: =(C23-C22)/C22 -> 0.084807649 | D24: =(D23-D22)/D22 -> 0.07228104 | E24: =(E23-E22)/E22 -> -0.020795546 | F24: =(F23-F22)/F22 -> 0.087691672 | G24: =(G23-G22)/G22 -> 0.0092731525 | H24: =(H23-H22)/H22 -> 0.044703134 | I24: =(I23-I22)/I22 -> #DIV/0! | J24: =(J23-J22)/J22 -> 0.20775167 | ... N24: =(N23-N22)/N22 -> 0.082546696
A26: MICANOPY | B26: 2024 | C26: 82501774 | D26: 62494804 | E26: 2356620 | F26: 4763813 | G26: 4706055 | H26: 3877616 | I26: 547711 | J26: 396175 | K26: 16647990 | L26: 45846814 | M26: 5.2 | N26: 238403.43
A27: MICANOPY | B27: 2025 | C27: 84189162 | D27: 66843141 | E27: 2516450 | F27: 4969955 | G27: 4832137 | H27: 4142883 | I27: 425778 | J27: 656599 | K27: 17543802 | L27: 49299339 | M27: 5.2 | N27: 256356.56
A28: Pct Change | C28: =(C27-C26)/C26 -> 0.020452748 | D28: =(D27-D26)/D26 -> 0.069579177 | E28: =(E27-E26)/E26 -> 0.067821711 | F28: =(F27-F26)/F26 -> 0.043272479 | G28: =(G27-G26)/G26 -> 0.026791442 | H28: =(H27-H26)/H26 -> 0.068409817 | I28: =(I27-I26)/I26 -> -0.22262288 | J28: =(J27-J26)/J26 -> 0.65734587 | ... N28: =(N27-N26)/N26 -> 0.075305669
A30: NEWBERRY | B30: 2024 | C30: 1620552741 | D30: 1040477031 | E30: 89632830 | F30: 22126701 | G30: 61786748 | H30: 57928989 | I30: 0 | J30: 22565099 | K30: 254040367 | L30: 786436664 | M30: 5.9 | N30: 4639976.3
A31: NEWBERRY | B31: 2025 | C31: 1720632295 | D31: 1133216481 | E31: 90643152 | F31: 19488098 | G31: 66107843 | H31: 64258276 | I31: 0 | J31: 27558525 | K31: 268055894 | L31: 865160587 | M31: 5.88 | N31: 5087144.3
A32: Pct Change | C32: =(C31-C30)/C30 -> 0.061756431 | D32: =(D31-D30)/D30 -> 0.089131665 | E32: =(E31-E30)/E30 -> 0.011271785 | F32: =(F31-F30)/F30 -> -0.11924972 | G32: =(G31-G30)/G30 -> 0.069935628 | H32: =(H31-H30)/H30 -> 0.10925941 | I32: =(I31-I30)/I30 -> #DIV/0! | J32: =(J31-J30)/J30 -> 0.22128979 | ... N32: =(N31-N30)/N30 -> 0.096372891
A34: WALDO | B34: 2024 | C34: 81090172 | D34: 57169932 | E34: 6158619 | F34: 2174810 | G34: 4831229 | H34: 2348655 | I34: 0 | J34: 778532 | K34: 16291845 | L34: 40878087 | M34: 6.4 | N34: 261619.76
A35: WALDO | B35: 2025 | C35: 82244672 | D35: 60374586 | E35: 5748895 | F35: 2182398 | G35: 4884598 | H35: 2685629 | I35: 0 | J35: 1227603 | K35: 16729123 | L35: 43645463 | M35: 6.4 | N35: 279330.96
A36: Pct Change | C36: =(C35-C34)/C34 -> 0.014237237 | D36: =(D35-D34)/D34 -> 0.056054886 | E36: =(E35-E34)/E34 -> -0.066528551 | F36: =(F35-F34)/F34 -> 0.0034890404 | G36: =(G35-G34)/G34 -> 0.011046672 | H36: =(H35-H34)/H34 -> 0.14347531 | I36: =(I35-I34)/I34 -> #DIV/0! | J36: =(J35-J34)/J34 -> 0.57681765 | ... N36: =(N35-N34)/N34 -> 0.067698276
A38: Total Municipal | B38: 2024 | C38: =C2+C6+C10+C14+C18+C22+C26+C30+C34 -> 28233459325 | D38: =D2+D6+D10+D14+D18+D22+D26+D30+D34 -> 23380651153 | E38: =E2+E6+E10+E14+E18+E22+E26+E30+E34 -> 7306765355 | F38: =F2+F6+F10+F14+F18+F22+F26+F30+F34 -> 703171613 | G38: =G2+G6+G10+G14+G18+G22+G26+G30+G34 -> 666865519 | H38: =H2+H6+H10+H14+H18+H22+H26+H30+H34 -> 612819701 | I38: =I2+I6+I10+I14+I18+I22+I26+I30+I34 -> 23859330 | J38: =J2+J6+J10+J14+J18+J22+J26+J30+J34 -> 159705504 | ... L38: =L2+L6+L10+L14+L18+L22+L26+L30+L34 -> 13907464131 | N38: =N2+N6+N10+N14+N18+N22+N26+N30+N34 -> 88418598
B39: 2025 | C39: =C3+C7+C11+C15+C19+C23+C27+C31+C35 -> 29213333410 | D39: =D3+D7+D11+D15+D19+D23+D27+D31+D35 -> 24638963478 | E39: =E3+E7+E11+E15+E19+E23+E27+E31+E35 -> 7311913669 | F39: =F3+F7+F11+F15+F19+F23+F27+F31+F35 -> 710492778 | G39: =G3+G7+G11+G15+G19+G23+G27+G31+G35 -> 675344597 | H39: =H3+H7+H11+H15+H19+H23+H27+H31+H35 -> 644815892 | I39: =I3+I7+I11+I15+I19+I23+I27+I31+I35 -> 24739114 | J39: =J3+J7+J11+J15+J19+J23+J27+J31+J35 -> 182024646 | ... L39: =L3+L7+L11+L15+L19+L23+L27+L31+L35 -> 15089632782 | N39: =N3+N7+N11+N15+N19+N23+N27+N31+N35 -> 1.001309e+08
A40: Pct Change | C40: =(C39-C38)/C38 -> 0.034706129 | D40: =(D39-D38)/D38 -> 0.053818532 | E40: =(E39-E38)/E38 -> 0.0007045955 | F40: =(F39-F38)/F38 -> 0.010411633 | G40: =(G39-G38)/G38 -> 0.012714824 | H40: =(H39-H38)/H38 -> 0.052211427 | I40: =(I39-I38)/I38 -> 0.036873793 | J40: =(J39-J38)/J38 -> 0.13975186 | ... L40: =(L39-L38)/L38 -> 0.085002459 | N40: =(N39-N38)/N38 -> 0.13246426
K42: Effective Millage Rate | L42: 2024 | M42: =(M2+M6+M10+M14+M18+M22+M26+M30+M34)/9 -> 6.1267556
L43: 2025 | M43: =(M3+M7+M11+M15+M19+M23+M27+M31+M35)/9 -> 6.3172333
K44: Percent change | M44: =(M43-M42)/M42 -> 0.031089502

Sheet Baker
A1: Municipality | B1: Year | C1: Just Value | D1: Assessed Value | E1: Government Exemption Value | F1: Institutional Exemption Value | G1: Homestead Exemption Value | H1: Additional 25,000 Homestead Exemption Value | I1: Senior Homestead Exemptions | J1: Other Exemptions | K1: Total Exemption Value | L1: Total Taxable Value | M1: City Millage Rate | N1: Taxes Levied
A2: MACLENNY | B2: 2024 | C2: 721542768 | D2: 606425935 | E2: 37085305 | F2: 58143086 | G2: 37297165 | H2: 34243060 | I2: 5452595 | J2: 17091606 | K2: 189312817 | L2: 417113118 | M2: 3.6 | N2: 1501607.2
A3: MACLENNY | B3: 2025 | C3: 769170442 | D3: 644088497 | E3: 37264456 | F3: 56859506 | G3: 37453319 | H3: 35849452 | I3: 5443974 | J3: 19170680 | K3: 192041387 | L3: 452047110 | M3: 3.6 | N3: 1627369.6
A4: Pct Change | C4: =(C3-C2)/C2 -> 0.066008109 | D4: =(D3-D2)/D2 -> 0.06210579 | E4: =(E3-E2)/E2 -> 0.0048307814 | F4: =(F3-F2)/F2 -> -0.022076228 | G4: =(G3-G2)/G2 -> 0.0041867525 | H4: =(H3-H2)/H2 -> 0.046911462 | I4: =(I3-I2)/I2 -> -0.001581082 | J4: =(J3-J2)/J2 -> 0.12164299 | ... N4: =(N3-N2)/N2 -> 0.083751842
A6: Total Municipal | B6: 2024 | C6: =C2 -> 721542768 | D6: =D2 -> 606425935 | E6: =E2 -> 37085305 | F6: =F2 -> 58143086 | G6: =G2 -> 37297165 | H6: =H2 -> 34243060 | I6: =I2 -> 5452595 | J6: =J2 -> 17091606 | ... L6: =L2 -> 417113118 | N6: =N2 -> 1501607.2
B7: 2025 | C7: =C3 -> 769170442 | D7: =D3 -> 644088497 | E7: =E3 -> 37264456 | F7: =F3 -> 56859506 | G7: =G3 -> 37453319 | H7: =H3 -> 35849452 | I7: =I3 -> 5443974 | J7: =J3 -> 19170680 | ... L7: =L3 -> 452047110 | N7: =N3 -> 1627369.6
A8: Pct Change | C8: =(C7-C6)/C6 -> 0.066008109 | D8: =(D7-D6)/D6 -> 0.06210579 | E8: =(E7-E6)/E6 -> 0.0048307814 | F8: =(F7-F6)/F6 -> -0.022076228 | G8: =(G7-G6)/G6 -> 0.0041867525 | H8: =(H7-H6)/H6 -> 0.046911462 | I8: =(I7-I6)/I6 -> -0.001581082 | J8: =(J7-J6)/J6 -> 0.12164299 | ... L8: =(L7-L6)/L6 -> 0.083751842 | N8: =(N7-N6)/N6 -> 0.083751842
K10: Effective Millage Rate | L10: 2024 | M10: =M2 -> 3.6
L11: 2025 | M11: =M3 -> 3.6
K12: Percent change | M12: =(M11-M10)/M10 -> 0

Sheet Bay
A1: Municipality | B1: Year | C1: Just Value | D1: Assessed Value | E1: Government Exemption Value | F1: Institutional Exemption Value | G1: Homestead Exemption Value | H1: Additional 25,000 Homestead Exemption Value | I1: Senior Homestead Exemptions | J1: Other Exemptions | K1: Total Exemption Value | L1: Total Taxable Value | M1: City Millage Rate | N1: Taxes Levied
A2: CALLAWAY | B2: 2024 | C2: 1340006866 | D2: 1204347447 | E2: 18081371 | F2: 19492430 | G2: 81703046 | H2: 69954926 | I2: 4488434 | J2: 55986951 | K2: 249707158 | L2: 954640289 | M2: 2.75 | N2: 2625260.8
A3: CALLAWAY | B3: 2025 | C3: 1419307839 | D3: 1288295575 | E3: 18168808 | F3: 19634979 | G3: 83064138 | H3: 72383708 | I3: 4543348 | J3: 68913813 | K3: 266708794 | L3: 1021586781 | M3: 2.7 | N3: 2758284.3
A4: Pct Change | C4: =(C3-C2)/C2 -> 0.059179527 | D4: =(D3-D2)/D2 -> 0.069704244 | E4: =(E3-E2)/E2 -> 0.0048357506 | F4: =(F3-F2)/F2 -> 0.0073130441 | G4: =(G3-G2)/G2 -> 0.016659012 | H4: =(H3-H2)/H2 -> 0.034719242 | I4: =(I3-I2)/I2 -> 0.012234557 | J4: =(J3-J2)/J2 -> 0.23089062 | ... N4: =(N3-N2)/N2 -> 0.05067059
A6: LYNN HAVEN | B6: 2024 | C6: 2574134674 | D6: 2255670966 | E6: 82490108 | F6: 59406713 | G6: 125819711 | H6: 113455278 | I6: 11215206 | J6: 87711434 | K6: 480098450 | L6: 1775572516 | M6: 4.05 | N6: 7191068.7
A7: LYNN HAVEN | B7: 2025 | C7: 2683265349 | D7: 2398498935 | E7: 82395755 | F7: 59729329 | G7: 126695283 | H7: 116406652 | I7: 11658553 | J7: 106757461 | K7: 503643033 | L7: 1894855902 | M7: 4.05 | N7: 7674166.4
A8: Pct Change | C8: =(C7-C6)/C6 -> 0.042395091 | D8: =(D7-D6)/D6 -> 0.063319505 | E8: =(E7-E6)/E6 -> -0.0011438099 | F8: =(F7-F6)/F6 -> 0.0054306321 | G8: =(G7-G6)/G6 -> 0.0069589414 | H8: =(H7-H6)/H6 -> 0.026013545 | I8: =(I7-I6)/I6 -> 0.039530883 | J8: =(J7-J6)/J6 -> 0.21714418 | ... N8: =(N7-N6)/N6 -> 0.067180239
A10: MEXICO BEACH | B10: 2024 | C10: 1088322382 | D10: 822749060 | E10: 34031612 | F10: 1489825 | G10: 9675000 | H10: 9056019 | I10: 1132345 | J10: 6212234 | K10: 61597035 | L10: 761152025 | M10: 5.75 | N10: 4376624.1
A11: MEXICO BEACH | B11: 2025 | C11: 1254126450 | D11: 958551375 | E11: 34126452 | F11: 1533376 | G11: 9850000 | H11: 9440037 | I11: 1192219 | J11: 7911021 | K11: 64053105 | L11: 894498270 | M11: 5.25 | N11: 4696115.9
A12: Pct Change | C12: =(C11-C10)/C10 -> 0.1523483 | D12: =(D11-D10)/D10 -> 0.16505922 | E12: =(E11-E10)/E10 -> 0.0027868207 | F12: =(F11-F10)/F10 -> 0.029232292 | G12: =(G11-G10)/G10 -> 0.018087855 | H12: =(H11-H10)/H10 -> 0.042404726 | I12: =(I11-I10)/I10 -> 0.052876111 | J12: =(J11-J10)/J10 -> 0.27345831 | ... N12: =(N11-N10)/N10 -> 0.072999591
A14: PANAMA CITY | B14: 2024 | C14: 5481353472 | D14: 4790416345 | E14: 415107208 | F14: 280260293 | G14: 180955555 | H14: 147484162 | I14: 19747912 | J14: 91891135 | K14: 1135446265 | L14: 3654970080 | M14: 4.7999 | N14: 17543491
A15: PANAMA CITY | B15: 2025 | C15: 5799104026 | D15: 5186465775 | E15: 455902103 | F15: 300066046 | G15: 186341211 | H15: 156990053 | I15: 21712573 | J15: 117184183 | K15: 1238196169 | L15: 3948269606 | M15: 4.7999 | N15: 18951299
A16: Pct Change | C16: =(C15-C14)/C14 -> 0.05796936 | D16: =(D15-D14)/D14 -> 0.082675367 | E16: =(E15-E14)/E14 -> 0.098275564 | F16: =(F15-F14)/F14 -> 0.070669137 | G16: =(G15-G14)/G14 -> 0.029762314 | H16: =(H15-H14)/H14 -> 0.064453639 | I16: =(I15-I14)/I14 -> 0.099487024 | J16: =(J15-J14)/J14 -> 0.27525014 | ... N16: =(N15-N14)/N14 -> 0.080246765
A18: SPRINGFIELD | B18: 2024 | C18: 609267817 | D18: 533881401 | E18: 38608983 | F18: 26483972 | G18: 35912205 | H18: 26087903 | I18: 2579316 | J18: 11105646 | K18: 140778025 | L18: 393103376 | M18: 4.865 | N18: 1912447.9
A19: SPRINGFIELD | B19: 2025 | C19: 648691988 | D19: 574177183 | E19: 38271282 | F19: 27659255 | G19: 36321820 | H19: 28020608 | I19: 2674668 | J19: 12917715 | K19: 145865348 | L19: 428311835 | M19: 4.865 | N19: 2083737.1
A20: Pct Change | C20: =(C19-C18)/C18 -> 0.064707457 | D20: =(D19-D18)/D18 -> 0.075477029 | E20: =(E19-E18)/E18 -> -0.008746695 | F20: =(F19-F18)/F18 -> 0.044377143 | G20: =(G19-G18)/G18 -> 0.011406011 | H20: =(H19-H18)/H18 -> 0.074084337 | I20: =(I19-I18)/I18 -> 0.03696794 | J20: =(J19-J18)/J18 -> 0.16316647 | ... N20: =(N19-N18)/N18 -> 0.089565395
A22: Total Municipal | B22: 2024 | C22: =C2+C6+C10+C14+C18 -> 11093085211 | D22: =D2+D6+D10+D14+D18 -> 9607065219 | E22: =E2+E6+E10+E14+E18 -> 588319282 | F22: =F2+F6+F10+F14+F18 -> 387133233 | G22: =G2+G6+G10+G14+G18 -> 434065517 | H22: =H2+H6+H10+H14+H18 -> 366038288 | I22: =I2+I6+I10+I14+I18 -> 39163213 | J22: =J2+J6+J10+J14+J18 -> 252907400 | ... L22: =L2+L6+L10+L14+L18 -> 7539438286 | N22: =N2+N6+N10+N14+N18 -> 33648892
B23: 2025 | C23: =C3+C7+C11+C15+C19 -> 11804495652 | D23: =D3+D7+D11+D15+D19 -> 10405988843 | E23: =E3+E7+E11+E15+E19 -> 628864400 | F23: =F3+F7+F11+F15+F19 -> 408622985 | G23: =G3+G7+G11+G15+G19 -> 442272452 | H23: =H3+H7+H11+H15+H19 -> 383241058 | I23: =I3+I7+I11+I15+I19 -> 41781361 | J23: =J3+J7+J11+J15+J19 -> 313684193 | ... L23: =L3+L7+L11+L15+L19 -> 8187522394 | N23: =N3+N7+N11+N15+N19 -> 36163603
A24: Pct Change | C24: =(C23-C22)/C22 -> 0.064130981 | D24: =(D23-D22)/D22 -> 0.083160008 | E24: =(E23-E22)/E22 -> 0.068916861 | F24: =(F23-F22)/F22 -> 0.055509964 | G24: =(G23-G22)/G22 -> 0.018907134 | H24: =(H23-H22)/H22 -> 0.046997187 | I24: =(I23-I22)/I22 -> 0.066852227 | J24: =(J23-J22)/J22 -> 0.24031243 | ... L24: =(L23-L22)/L22 -> 0.085959203 | N24: =(N23-N22)/N22 -> 0.074733828
K26: Effective Millage Rate | L26: 2024 | M26: =(M2+M6+M10+M14+M18)/5 -> 4.44298
L27: 2025 | M27: =(M3+M7+M11+M15+M19)/5 -> 4.33298
K28: Percent change | M28: =(M27-M26)/M26 -> -0.024758158

Sheet Bradford
A1: Municipality | B1: Year | C1: Just Value | D1: Assessed Value | E1: Government Exemption Value | F1: Institutional Exemption Value | G1: Homestead Exemption Value | H1: Additional 25,000 Homestead Exemption Value | I1: Senior Homestead Exemptions | J1: Other Exemptions | K1: Total Exemption Value | L1: Total Taxable Value | M1: City Millage Rate | N1: Taxes Levied
A2: BROOKER | B2: 2024 | C2: 25779315 | D2: 19967364 | E2: 1556951 | F2: 644831 | G2: 2670209 | H2: 1891504 | I2: 0 | J2: 183233 | K2: 6946728 | L2: 13020636 | M2: 0.2503 | N2: 3259.0652
A3: BROOKER | B3: 2025 | C3: 27696126 | D3: 21159689 | E3: 558005 | F3: 1577281 | G3: 2645506 | H3: 1999720 | I3: 0 | J3: 203986 | K3: 6984498 | L3: 14175191 | M3: 0.237 | N3: 3359.5203
A4: Pct Change | C4: =(C3-C2)/C2 -> 0.074354613 | D4: =(D3-D2)/D2 -> 0.059713691 | E4: =(E3-E2)/E2 -> -0.64160401 | F4: =(F3-F2)/F2 -> 1.4460378 | G4: =(G3-G2)/G2 -> -0.0092513358 | H4: =(H3-H2)/H2 -> 0.057211616 | I4: =(I3-I2)/I2 -> #DIV/0! | J4: =(J3-J2)/J2 -> 0.11326017 | ... N4: =(N3-N2)/N2 -> 0.030823279
A6: HAMPTON | B6: 2024 | C6: 25501783 | D6: 19403988 | E6: 260463 | F6: 313335 | G6: 2920835 | H6: 1297859 | I6: 0 | J6: 322732 | K6: 5115224 | L6: 14288764 | M6: 2 | N6: 28577.528
A7: HAMPTON | B7: 2025 | C7: 27884950 | D7: 21080460 | E7: 273192 | F7: 310084 | G7: 2834555 | H7: 1329711 | I7: 0 | J7: 357856 | K7: 5105398 | L7: 15975062 | M7: 2.0623 | N7: 32945.37
A8: Pct Change | C8: =(C7-C6)/C6 -> 0.093450995 | D8: =(D7-D6)/D6 -> 0.086398322 | E8: =(E7-E6)/E6 -> 0.048870665 | F8: =(F7-F6)/F6 -> -0.010375477 | G8: =(G7-G6)/G6 -> -0.029539498 | H8: =(H7-H6)/H6 -> 0.024541957 | I8: =(I7-I6)/I6 -> #DIV/0! | J8: =(J7-J6)/J6 -> 0.10883334 | ... N8: =(N7-N6)/N6 -> 0.15284185
A10: LAWTEY | B10: 2024 | C10: 42485919 | D10: 33207797 | E10: 1354353 | F10: 1635931 | G10: 4055108 | H10: 2436809 | I10: 0 | J10: 1198834 | K10: 10681035 | L10: 22526762 | M10: 2.2498 | N10: 50680.709
A11: LAWTEY | B11: 2025 | C11: 45159417 | D11: 35194445 | E11: 1390885 | F11: 1631962 | G11: 4060312 | H11: 2592831 | I11: 0 | J11: 1277619 | K11: 10953609 | L11: 24240836 | M11: 2.2512 | N11: 54570.97
A12: Pct Change | C12: =(C11-C10)/C10 -> 0.062926684 | D12: =(D11-D10)/D10 -> 0.059824745 | E12: =(E11-E10)/E10 -> 0.026973765 | F12: =(F11-F10)/F10 -> -0.0024261414 | G12: =(G11-G10)/G10 -> 0.0012833197 | H12: =(H11-H10)/H10 -> 0.064027177 | I12: =(I11-I10)/I10 -> #DIV/0! | J12: =(J11-J10)/J10 -> 0.065718023 | ... N12: =(N11-N10)/N10 -> 0.07676019
A14: STARKE | B14: 2024 | C14: 464667886 | D14: 393478210 | E14: 25979775 | F14: 18877501 | G14: 29140984 | H14: 20484485 | I14: 2034521 | J14: 10958732 | K14: 107475998 | L14: 286002212 | M14: 4.3879 | N14: 1254949.1
A15: STARKE | B15: 2025 | C15: 500932532 | D15: 425883132 | E15: 26361188 | F15: 19089879 | G15: 29436514 | H15: 21831466 | I15: 1978647 | J15: 13113709 | K15: 111811403 | L15: 314071729 | M15: 4.3879 | N15: 1378115.3
A16: Pct Change | C16: =(C15-C14)/C14 -> 0.078044227 | D16: =(D15-D14)/D14 -> 0.082355061 | E16: =(E15-E14)/E14 -> 0.014681151 | F16: =(F15-F14)/F14 -> 0.011250324 | G16: =(G15-G14)/G14 -> 0.010141387 | H16: =(H15-H14)/H14 -> 0.065756156 | I16: =(I15-I14)/I14 -> -0.027462975 | J16: =(J15-J14)/J14 -> 0.19664474 | ... N16: =(N15-N14)/N14 -> 0.098144405
A18: Total Municipal | B18: 2024 | C18: =C2+C6+C10+C14 -> 558434903 | D18: =D2+D6+D10+D14 -> 466057359 | E18: =E2+E6+E10+E14 -> 29151542 | F18: =F2+F6+F10+F14 -> 21471598 | G18: =G2+G6+G10+G14 -> 38787136 | H18: =H2+H6+H10+H14 -> 26110657 | I18: =I2+I6+I10+I14 -> 2034521 | J18: =J2+J6+J10+J14 -> 12663531 | ... L18: =L2+L6+L10+L14 -> 335838374 | N18: =N2+N6+N10+N14 -> 1337466.4
B19: 2025 | C19: =C3+C7+C11+C15 -> 601673025 | D19: =D3+D7+D11+D15 -> 503317726 | E19: =E3+E7+E11+E15 -> 28583270 | F19: =F3+F7+F11+F15 -> 22609206 | G19: =G3+G7+G11+G15 -> 38976887 | H19: =H3+H7+H11+H15 -> 27753728 | I19: =I3+I7+I11+I15 -> 1978647 | J19: =J3+J7+J11+J15 -> 14953170 | ... L19: =L3+L7+L11+L15 -> 368462818 | N19: =N3+N7+N11+N15 -> 1468991.2
A20: Pct Change | C20: =(C19-C18)/C18 -> 0.077427327 | D20: =(D19-D18)/D18 -> 0.079948028 | E20: =(E19-E18)/E18 -> -0.01949372 | F20: =(F19-F18)/F18 -> 0.05298199 | G20: =(G19-G18)/G18 -> 0.0048921117 | H20: =(H19-H18)/H18 -> 0.062927218 | I20: =(I19-I18)/I18 -> -0.027462975 | J20: =(J19-J18)/J18 -> 0.18080573 | ... L20: =(L19-L18)/L18 -> 0.097143288 | N20: =(N19-N18)/N18 -> 0.098338763
K22: Effective Millage Rate | L22: 2024 | M22: =(M2+M6+M10+M14)/4 -> 2.222
L23: 2025 | M23: =(M3+M7+M11+M15)/4 -> 2.2346
K24: Percent change | M24: =(M23-M22)/M22 -> 0.0056705671

Sheet Brevard
A1: Municipality | B1: Year | C1: Just Value | D1: Assessed Value | E1: Government Exemption Value | F1: Institutional Exemption Value | G1: Homestead Exemption Value | H1: Additional 25,000 Homestead Exemption Value | I1: Senior Homestead Exemptions | J1: Other Exemptions | K1: Total Exemption Value | L1: Total Taxable Value | M1: City Millage Rate | N1: Taxes Levied
A2: CAPE CANAVERAL | B2: 2024 | C2: 2853422598 | D2: 2293734258 | E2: 44503470 | F2: 13059110 | G2: 61661440 | H2: 58968110 | I2: 3553290 | J2: 34466781 | K2: 216212201 | L2: 2077522057 | M2: 3.2 | N2: 6648070.6
A3: CAPE CANAVERAL | B3: 2025 | C3: 2775635592 | D3: 2362601682 | E3: 45677100 | F3: 13811930 | G3: 61563490 | H3: 60846596 | I3: 3531874 | J3: 39237919 | K3: 224668909 | L3: 2137932773 | M3: 3.1018 | N3: 6631439.9
A4: Pct Change | C4: =(C3-C2)/C2 -> -0.027260948 | D4: =(D3-D2)/D2 -> 0.030024151 | E4: =(E3-E2)/E2 -> 0.026371651 | F4: =(F3-F2)/F2 -> 0.057647114 | G4: =(G3-G2)/G2 -> -0.001588513 | H4: =(H3-H2)/H2 -> 0.031855964 | I4: =(I3-I2)/I2 -> -0.0060270904 | J4: =(J3-J2)/J2 -> 0.13842714 | ... N4: =(N3-N2)/N2 -> -0.002501584
A6: COCOA | B6: 2024 | C6: 2946095087 | D6: 2369377357 | E6: 101891385 | F6: 203808827 | G6: 97204070 | H6: 75957800 | I6: 6105660 | J6: 43155939 | K6: 528123681 | L6: 1841253676 | M6: 6.9532 | N6: 12802605
A7: COCOA | B7: 2025 | C7: 3044438408 | D7: 2549486898 | E7: 102215258 | F7: 221558683 | G7: 96560420 | H7: 79642835 | I7: 6192610 | J7: 49393546 | K7: 555563352 | L7: 1993923546 | M7: 6.9532 | N7: 13864149
A8: Pct Change | C8: =(C7-C6)/C6 -> 0.033380905 | D8: =(D7-D6)/D6 -> 0.076015558 | E8: =(E7-E6)/E6 -> 0.0031786102 | F8: =(F7-F6)/F6 -> 0.087090713 | G8: =(G7-G6)/G6 -> -0.0066216363 | H8: =(H7-H6)/H6 -> 0.048514241 | I8: =(I7-I6)/I6 -> 0.014240885 | J8: =(J7-J6)/J6 -> 0.14453647 | ... N8: =(N7-N6)/N6 -> 0.082916261
A10: COCOA BEACH | B10: 2024 | C10: 4959316702 | D10: 3721069902 | E10: 103290010 | F10: 205432044 | G10: 95600000 | H10: 94536480 | I10: 4085990 | J10: 53569558 | K10: 556514082 | L10: 3164555820 | M10: 6.1644 | N10: 19507588
A11: COCOA BEACH | B11: 2025 | C11: 4831619397 | D11: 3878156547 | E11: 112301530 | F11: 210687999 | G11: 93850000 | H11: 95677744 | I11: 3819300 | J11: 62324983 | K11: 578661556 | L11: 3299494991 | M11: 6 | N11: 19796970
A12: Pct Change | C12: =(C11-C10)/C10 -> -0.025748972 | D12: =(D11-D10)/D10 -> 0.042215451 | E12: =(E11-E10)/E10 -> 0.087244836 | F12: =(F11-F10)/F10 -> 0.025584884 | G12: =(G11-G10)/G10 -> -0.018305439 | H12: =(H11-H10)/H10 -> 0.012072207 | I12: =(I11-I10)/I10 -> -0.065269372 | J12: =(J11-J10)/J10 -> 0.16344031 | ... N12: =(N11-N10)/N10 -> 0.014834333
A14: GRANT-VALKARIA | B14: 2024 | C14: 1294835730 | D14: 906075620 | E14: 36175620 | F14: 7975630 | G14: 46415720 | H14: 45746360 | I14: 2153390 | J14: 29930127 | K14: 168396847 | L14: 737678773 | M14: 1.3038 | N14: 961785.58
A15: GRANT-VALKARIA | B15: 2025 | C15: 1414724616 | D15: 1018716816 | E15: 37739690 | F15: 8526160 | G15: 50366890 | H15: 51194700 | I15: 2354640 | J15: 40924912 | K15: 191106992 | L15: 827609824 | M15: 1.3038 | N15: 1079037.7
A16: Pct Change | C16: =(C15-C14)/C14 -> 0.092590035 | D16: =(D15-D14)/D14 -> 0.12431765 | E16: =(E15-E14)/E14 -> 0.043235472 | F16: =(F15-F14)/F14 -> 0.069026522 | G16: =(G15-G14)/G14 -> 0.085125686 | H16: =(H15-H14)/H14 -> 0.11909887 | I16: =(I15-I14)/I14 -> 0.093457293 | J16: =(J15-J14)/J14 -> 0.36734842 | ... N16: =(N15-N14)/N14 -> 0.12191086
A18: INDIALANTIC | B18: 2024 | C18: 1027102555 | D18: 734333605 | E18: 11094810 | F18: 6777830 | G18: 25575000 | H18: 25496320 | I18: 0 | J18: 12776150 | K18: 81720110 | L18: 652613495 | M18: 5.9999 | N18: 3915615.7
A19: INDIALANTIC | B19: 2025 | C19: 1076166337 | D19: 790904157 | E19: 12094130 | F19: 7373120 | G19: 25225000 | H19: 25882690 | I19: 0 | J19: 14043861 | K19: 84618801 | L19: 706285356 | M19: 6.2388 | N19: 4406373.1
A20: Pct Change | C20: =(C19-C18)/C18 -> 0.047769117 | D20: =(D19-D18)/D18 -> 0.077036583 | E20: =(E19-E18)/E18 -> 0.090070943 | F20: =(F19-F18)/F18 -> 0.087828995 | G20: =(G19-G18)/G18 -> -0.013685239 | H20: =(H19-H18)/H18 -> 0.015153952 | I20: =(I19-I18)/I18 -> #DIV/0! | J20: =(J19-J18)/J18 -> 0.099224806 | ... N20: =(N19-N18)/N18 -> 0.12533338
A22: INDIAN HARBOUR | B22: 2024 | C22: 2266359980 | D22: 1629950420 | E22: 21958834 | F22: 9869630 | G22: 69169790 | H22: 68687760 | I22: 3117780 | J22: 36367015 | K22: 209170809 | L22: 1420779611 | M22: 5.5168 | N22: 7838157
A23: INDIAN HARBOUR | B23: 2025 | C23: 2250646191 | D23: 1698163781 | E23: 22460911 | F23: 11216540 | G23: 68075000 | H23: 69661530 | I23: 2845756 | J23: 40856761 | K23: 215116498 | L23: 1483047283 | M23: 5.5099 | N23: 8171442.2
A24: Pct Change | C24: =(C23-C22)/C22 -> -0.0069334921 | D24: =(D23-D22)/D22 -> 0.041849961 | E24: =(E23-E22)/E22 -> 0.022864465 | F24: =(F23-F22)/F22 -> 0.13647016 | G24: =(G23-G22)/G22 -> -0.015827574 | H24: =(H23-H22)/H22 -> 0.014176762 | I24: =(I23-I22)/I22 -> -0.087249261 | J24: =(J23-J22)/J22 -> 0.12345654 | ... N24: =(N23-N22)/N22 -> 0.042520872
A26: MALABAR | B26: 2024 | C26: 748984435 | D26: 531252095 | E26: 11306590 | F26: 9948940 | G26: 24598160 | H26: 24013600 | I26: 1153220 | J26: 17648732 | K26: 88669242 | L26: 442582853 | M26: 4.5 | N26: 1991622.8
A27: MALABAR | B27: 2025 | C27: 780752360 | D27: 561392960 | E27: 12188100 | F27: 10414330 | G27: 24923830 | H27: 25107252 | I27: 1106340 | J27: 21892777 | K27: 95632629 | L27: 465760331 | M27: 4.5 | N27: 2095921.5
A28: Pct Change | C28: =(C27-C26)/C26 -> 0.042414666 | D28: =(D27-D26)/D26 -> 0.056735522 | E28: =(E27-E26)/E26 -> 0.077964267 | F28: =(F27-F26)/F26 -> 0.046777848 | G28: =(G27-G26)/G26 -> 0.013239608 | H28: =(H27-H26)/H26 -> 0.045543026 | I28: =(I27-I26)/I26 -> -0.040651393 | J28: =(J27-J26)/J26 -> 0.24047308 | ... N28: =(N27-N26)/N26 -> 0.052368676
A30: MELBOURNE | B30: 2024 | C30: 14723083528 | D30: 11497503648 | E30: 700467224 | F30: 1211127613 | G30: 462523690 | H30: 407123230 | I30: 25621380 | J30: 250737540 | K30: 3057600677 | L30: 8439902971 | M30: 6.5466 | N30: 55252669
A31: MELBOURNE | B31: 2025 | C31: 14953480635 | D31: 12179756295 | E31: 753491718 | F31: 1338673997 | G31: 459344880 | H31: 420820262 | I31: 25433450 | J31: 276020902 | K31: 3273785209 | L31: 8905971086 | M31: 7.0112 | N31: 62441544
A32: Pct Change | C32: =(C31-C30)/C30 -> 0.015648699 | D32: =(D31-D30)/D30 -> 0.059339198 | E32: =(E31-E30)/E30 -> 0.075698751 | F32: =(F31-F30)/F30 -> 0.10531209 | G32: =(G31-G30)/G30 -> -0.0068727507 | H32: =(H31-H30)/H30 -> 0.033643455 | I32: =(I31-I30)/I30 -> -0.0073348898 | J32: =(J31-J30)/J30 -> 0.10083597 | ... N32: =(N31-N30)/N30 -> 0.13010911
A34: MELBOURNE BECH | B34: 2024 | C34: 1148895515 | D34: 741930105 | E34: 10222240 | F34: 14576110 | G34: 27400000 | H34: 27354580 | I34: 850000 | J34: 9336719 | K34: 89739649 | L34: 652190456 | M34: 4.477 | N34: 2919856.7
A35: MELBOURNE BECH | B35: 2025 | C35: 1142304024 | D35: 783202534 | E35: 10540030 | F35: 15567970 | G35: 27225000 | H35: 27970308 | I35: 750000 | J35: 12142613 | K35: 94195921 | L35: 689006613 | M35: 4.6 | N35: 3169430.4
A36: Pct Change | C36: =(C35-C34)/C34 -> -0.0057372415 | D36: =(D35-D34)/D34 -> 0.05562846 | E36: =(E35-E34)/E34 -> 0.031088098 | F36: =(F35-F34)/F34 -> 0.068046962 | G36: =(G35-G34)/G34 -> -0.0063868613 | H36: =(H35-H34)/H34 -> 0.022509137 | I36: =(I35-I34)/I34 -> -0.11764706 | J36: =(J35-J34)/J34 -> 0.30052249 | ... N36: =(N35-N34)/N34 -> 0.085474657
A38: MELBOURNE VILL | B38: 2024 | C38: 135827104 | D38: 91077864 | E38: 448680 | F38: 812132 | G38: 6075000 | H38: 5998200 | I38: 565000 | J38: 2972955 | K38: 16871967 | L38: 74205897 | M38: 6.85 | N38: 508310.39
A39: MELBOURNE VILL | B39: 2025 | C39: 144287915 | D39: 96159905 | E39: 535690 | F39: 823162 | G39: 6125000 | H39: 6216474 | I39: 515000 | J39: 2401958 | K39: 16617284 | L39: 79542621 | M39: 6.419 | N39: 510584.08
A40: Pct Change | C40: =(C39-C38)/C38 -> 0.062291036 | D40: =(D39-D38)/D38 -> 0.05579886 | E40: =(E39-E38)/E38 -> 0.1939244 | F40: =(F39-F38)/F38 -> 0.013581536 | G40: =(G39-G38)/G38 -> 0.0082304527 | H40: =(H39-H38)/H38 -> 0.036389917 | I40: =(I39-I38)/I38 -> -0.088495575 | J40: =(J39-J38)/J38 -> -0.19206379 | ... N40: =(N39-N38)/N38 -> 0.0044730341
A42: PALM BAY | B42: 2024 | C42: 17146177442 | D42: 12224840722 | E42: 193382170 | F42: 545965542 | G42: 896452490 | H42: 792395800 | I42: 0 | J42: 520742282 | K42: 2948938284 | L42: 9275902438 | M42: 6.7339 | N42: 62462999
A43: PALM BAY | B43: 2025 | C43: 17927910488 | D43: 13665444258 | E43: 201017428 | F43: 590414329 | G43: 928216975 | H43: 858738509 | I43: 0 | J43: 691246655 | K43: 3269633896 | L43: 10395810362 | M43: 6.7 | N43: 69651929
A44: Pct Change | C44: =(C43-C42)/C42 -> 0.045592264 | D44: =(D43-D42)/D42 -> 0.11784232 | E44: =(E43-E42)/E42 -> 0.03948274 | F44: =(F43-F42)/F42 -> 0.081413173 | G44: =(G43-G42)/G42 -> 0.03543354 | H44: =(H43-H42)/H42 -> 0.083724206 | I44: =(I43-I42)/I42 -> #DIV/0! | J44: =(J43-J42)/J42 -> 0.32742564 | ... N44: =(N43-N42)/N42 -> 0.11509101
A46: ROCKLEDGE | B46: 2024 | C46: 4574055006 | D46: 3382324376 | E46: 49974210 | F46: 280267970 | G46: 192516760 | H46: 180464570 | I46: 0 | J46: 107410056 | K46: 810633566 | L46: 2571690810 | M46: 5.38 | N46: 13835697
A47: ROCKLEDGE | B47: 2025 | C47: 4704699293 | D47: 3664392893 | E47: 50613650 | F47: 360339980 | G47: 195488380 | H47: 189892899 | I47: 0 | J47: 128079648 | K47: 924414557 | L47: 2739978336 | M47: 5.35 | N47: 14658884
A48: Pct Change | C48: =(C47-C46)/C46 -> 0.028562028 | D48: =(D47-D46)/D46 -> 0.083394875 | E48: =(E47-E46)/E46 -> 0.0127954 | F48: =(F47-F46)/F46 -> 0.28569804 | G48: =(G47-G46)/G46 -> 0.015435643 | H48: =(H47-H46)/H46 -> 0.052244765 | I48: =(I47-I46)/I46 -> #DIV/0! | J48: =(J47-J46)/J46 -> 0.19243628 | ... N48: =(N47-N46)/N46 -> 0.059497369
A50: SATELLITE BEAC | B50: 2024 | C50: 2834009683 | D50: 1971150503 | E50: 122999990 | F50: 58580630 | G50: 86850000 | H50: 86782040 | I50: 2950000 | J50: 65554012 | K50: 423716672 | L50: 1547433831 | M50: 7.9812 | N50: 12350379
A51: SATELLITE BEAC | B51: 2025 | C51: 2856295842 | D51: 2082088522 | E51: 133372040 | F51: 60248760 | G51: 86025000 | H51: 88416202 | I51: 2850000 | J51: 81235129 | K51: 452147131 | L51: 1629941391 | M51: 7.9 | N51: 12876537
A52: Pct Change | C52: =(C51-C50)/C50 -> 0.007863826 | D52: =(D51-D50)/D50 -> 0.056280847 | E52: =(E51-E50)/E50 -> 0.084325617 | F52: =(F51-F50)/F50 -> 0.028475795 | G52: =(G51-G50)/G50 -> -0.0094991364 | H52: =(H51-H50)/H50 -> 0.018830647 | I52: =(I51-I50)/I50 -> -0.033898305 | J52: =(J51-J50)/J50 -> 0.23920911 | ... N52: =(N51-N50)/N50 -> 0.042602587
...

Sheet Broward
A1: Municipality | B1: Year | C1: Just Value | D1: Assessed Value | E1: Government Exemption Value | F1: Institutional Exemption Value | G1: Homestead Exemption Value | H1: Additional 25,000 Homestead Exemption Value | I1: Senior Homestead Exemptions | J1: Other Exemptions | K1: Total Exemption Value | L1: Total Taxable Value | M1: City Millage Rate | N1: Taxes Levied
A2: COCONUT CREEK | B2: 2024 | C2: 10380120499 | D2: 7754940919 | E2: 732053119 | F2: 192356583 | G2: 337283460 | H2: 309981970 | I2: 49356840 | J2: 56614895 | K2: 1677646867 | L2: 6077294052 | M2: 6.8988 | N2: 41926036
A3: COCONUT CREEK | B3: 2025 | C3: 10637595605 | D3: 8170727455 | E3: 740009066 | F3: 190066560 | G3: 335624120 | H3: 321031494 | I3: 51421860 | J3: 67177546 | K3: 1705330646 | L3: 6465396809 | M3: 6.8988 | N3: 44603480
A4: Pct Change | C4: =(C3-C2)/C2 -> 0.024804636 | D4: =(D3-D2)/D2 -> 0.053615694 | E4: =(E3-E2)/E2 -> 0.010867991 | F4: =(F3-F2)/F2 -> -0.011905093 | G4: =(G3-G2)/G2 -> -0.0049197195 | H4: =(H3-H2)/H2 -> 0.035645699 | I4: =(I3-I2)/I2 -> 0.041838578 | J4: =(J3-J2)/J2 -> 0.18657018 | ... N4: =(N3-N2)/N2 -> 0.063861112
A6: COOPER CITY | B6: 2024 | C6: 8181523873 | D6: 5301649893 | E6: 224582440 | F6: 168049738 | G6: 226952670 | H6: 226638060 | I6: 13500420 | J6: 53960500 | K6: 913683828 | L6: 4387966065 | M6: 5.855 | N6: 25691541
A7: COOPER CITY | B7: 2025 | C7: 8615816141 | D7: 5665250711 | E7: 227048460 | F7: 177068068 | G7: 225977740 | H7: 232215504 | I7: 13877558 | J7: 63775434 | K7: 939962764 | L7: 4725287947 | M7: 5.845 | N7: 27619308
A8: Pct Change | C8: =(C7-C6)/C6 -> 0.053082076 | D8: =(D7-D6)/D6 -> 0.068582578 | E8: =(E7-E6)/E6 -> 0.010980467 | F8: =(F7-F6)/F6 -> 0.053664648 | G8: =(G7-G6)/G6 -> -0.0042957415 | H8: =(H7-H6)/H6 -> 0.024609476 | I8: =(I7-I6)/I6 -> 0.027935279 | J8: =(J7-J6)/J6 -> 0.18189109 | ... N8: =(N7-N6)/N6 -> 0.075035075
A10: CORAL SPRINGS | B10: 2024 | C10: 24679358532 | D10: 17768290242 | E10: 936031970 | F10: 270981958 | G10: 638880740 | H10: 608327480 | I10: 37568730 | J10: 207617934 | K10: 2699408812 | L10: 15068881430 | M10: 6.0232 | N10: 90762887
A11: CORAL SPRINGS | B11: 2025 | C11: 25737677200 | D11: 18926693500 | E11: 954639830 | F11: 302049190 | G11: 635586250 | H11: 624789456 | I11: 39122972 | J11: 239741956 | K11: 2795929654 | L11: 16130763846 | M11: 6.0232 | N11: 97158817
A12: Pct Change | C12: =(C11-C10)/C10 -> 0.042882746 | D12: =(D11-D10)/D10 -> 0.065194976 | E12: =(E11-E10)/E10 -> 0.019879513 | F12: =(F11-F10)/F10 -> 0.11464687 | G12: =(G11-G10)/G10 -> -0.0051566588 | H12: =(H11-H10)/H10 -> 0.027061043 | I12: =(I11-I10)/I10 -> 0.041370629 | J12: =(J11-J10)/J10 -> 0.15472662 | ... N12: =(N11-N10)/N10 -> 0.070468563
A14: DANIA | B14: 2024 | C14: 9374800906 | D14: 7720986244 | E14: 287273450 | F14: 128916005 | G14: 140892540 | H14: 132553750 | I14: 23968680 | J14: 40340173 | K14: 753944598 | L14: 6967041646 | M14: 5.9998 | N14: 41800856
A15: DANIA | B15: 2025 | C15: 10487876241 | D15: 8735070688 | E15: 291905690 | F15: 164787944 | G15: 141239830 | H15: 137848786 | I15: 25209050 | J15: 44274655 | K15: 805265955 | L15: 7929804733 | M15: 5.9998 | N15: 47577242
A16: Pct Change | C16: =(C15-C14)/C14 -> 0.11873056 | D16: =(D15-D14)/D14 -> 0.13134131 | E16: =(E15-E14)/E14 -> 0.016124846 | F16: =(F15-F14)/F14 -> 0.27825823 | G16: =(G15-G14)/G14 -> 0.0024649282 | H16: =(H15-H14)/H14 -> 0.039946331 | I16: =(I15-I14)/I14 -> 0.051749617 | J16: =(J15-J14)/J14 -> 0.097532601 | ... N16: =(N15-N14)/N14 -> 0.13818822
A18: DAVIE | B18: 2024 | C18: 24846174113 | D18: 17965176142 | E18: 904290114 | F18: 1034765237 | G18: 518433810 | H18: 498582010 | I18: 25178010 | J18: 150159992 | K18: 3131409173 | L18: 14833766969 | M18: 5.625 | N18: 83439939
A19: DAVIE | B19: 2025 | C19: 26687865638 | D19: 19326668389 | E19: 915482424 | F19: 1106237634 | G19: 518011240 | H19: 515098532 | I19: 26018428 | J19: 165110627 | K19: 3245958885 | L19: 16080709504 | M19: 5.625 | N19: 90453991
A20: Pct Change | C20: =(C19-C18)/C18 -> 0.074123747 | D20: =(D19-D18)/D18 -> 0.075785076 | E20: =(E19-E18)/E18 -> 0.012376902 | F20: =(F19-F18)/F18 -> 0.069071123 | G20: =(G19-G18)/G18 -> -0.00081508959 | H20: =(H19-H18)/H18 -> 0.033126991 | I20: =(I19-I18)/I18 -> 0.033379048 | J20: =(J19-J18)/J18 -> 0.099564703 | ... N20: =(N19-N18)/N18 -> 0.084061084
A22: DEERFIELD BCH | B22: 2024 | C22: 17184777805 | D22: 13021583642 | E22: 544998724 | F22: 238294293 | G22: 447481770 | H22: 373792480 | I22: 68463310 | J22: 91054384 | K22: 1764084961 | L22: 11257498681 | M22: 6.0018 | N22: 67565256
A23: DEERFIELD BCH | B23: 2025 | C23: 18113662464 | D23: 13988777933 | E23: 577204508 | F23: 248199079 | G23: 446371450 | H23: 390999342 | I23: 72453998 | J23: 100832310 | K23: 1836060687 | L23: 12152717246 | M23: 6.0018 | N23: 72938178
A24: Pct Change | C24: =(C23-C22)/C22 -> 0.054052759 | D24: =(D23-D22)/D22 -> 0.074276241 | E24: =(E23-E22)/E22 -> 0.05909332 | F24: =(F23-F22)/F22 -> 0.041565351 | G24: =(G23-G22)/G22 -> -0.0024812631 | H24: =(H23-H22)/H22 -> 0.046033195 | I24: =(I23-I22)/I22 -> 0.05828944 | J24: =(J23-J22)/J22 -> 0.10738556 | ... N24: =(N23-N22)/N22 -> 0.079521978
A26: FT. LAUDERDALE | B26: 2024 | C26: 83812958449 | D26: 66280911703 | E26: 4052785027 | F26: 1376924274 | G26: 964945910 | H26: 925111130 | I26: 96517980 | J26: 339184103 | K26: 7755468424 | L26: 58525443279 | M26: 4.1193 | N26: 2.4108386e+08
A27: FT. LAUDERDALE | B27: 2025 | C27: 89452858419 | D27: 71546908477 | E27: 4209353026 | F27: 1516731164 | G27: 958258340 | H27: 949810270 | I27: 100036472 | J27: 359098474 | K27: 8093287746 | L27: 63453620731 | M27: 4.1193 | N27: 2.613845e+08
A28: Pct Change | C28: =(C27-C26)/C26 -> 0.067291503 | D28: =(D27-D26)/D26 -> 0.079449673 | E28: =(E27-E26)/E26 -> 0.038632199 | F28: =(F27-F26)/F26 -> 0.10153564 | G28: =(G27-G26)/G26 -> -0.0069305128 | H28: =(H27-H26)/H26 -> 0.026698565 | I28: =(I27-I26)/I26 -> 0.036454265 | J28: =(J27-J26)/J26 -> 0.058712572 | ... N28: =(N27-N26)/N26 -> 0.084205726
A30: HALLANDALE | B30: 2024 | C30: 11687074202 | D30: 9219455232 | E30: 203425438 | F30: 101686349 | G30: 205139200 | H30: 188828170 | I30: 55416890 | J30: 38076598 | K30: 792572645 | L30: 8426882587 | M30: 7.5884 | N30: 63946556
A31: HALLANDALE | B31: 2025 | C31: 12162821820 | D31: 10081224510 | E31: 199778218 | F31: 103419367 | G31: 203560450 | H31: 194854348 | I31: 56315618 | J31: 40630115 | K31: 798558116 | L31: 9282666394 | M31: 7.3848 | N31: 68550635
A32: Pct Change | C32: =(C31-C30)/C30 -> 0.040707162 | D32: =(D31-D30)/D30 -> 0.093472907 | E32: =(E31-E30)/E30 -> -0.017929026 | F32: =(F31-F30)/F30 -> 0.017042779 | G32: =(G31-G30)/G30 -> -0.0076959937 | H32: =(H31-H30)/H30 -> 0.031913554 | I32: =(I31-I30)/I30 -> 0.016217583 | J32: =(J31-J30)/J30 -> 0.067062635 | ... N32: =(N31-N30)/N30 -> 0.071998858
A34: HILLSBORO BEAC | B34: 2024 | C34: 2431463949 | D34: 1950100359 | E34: 12105490 | F34: 2222860 | G34: 19825000 | H34: 19781590 | I34: 2100000 | J34: 4594656 | K34: 60629596 | L34: 1889470763 | M34: 3.5 | N34: 6613147.7
A35: HILLSBORO BEAC | B35: 2025 | C35: 2541482247 | D35: 2063908897 | E35: 12620320 | F35: 2445110 | G35: 19650000 | H35: 20174278 | I35: 1950000 | J35: 4502345 | K35: 61342053 | L35: 2002566844 | M35: 3.5 | N35: 7008984
A36: Pct Change | C36: =(C35-C34)/C34 -> 0.04524776 | D36: =(D35-D34)/D34 -> 0.058360349 | E36: =(E35-E34)/E34 -> 0.042528638 | F36: =(F35-F34)/F34 -> 0.099983805 | G36: =(G35-G34)/G34 -> -0.0088272383 | H36: =(H35-H34)/H34 -> 0.019851185 | I36: =(I35-I34)/I34 -> -0.071428571 | J36: =(J35-J34)/J34 -> -0.020090949 | ... N36: =(N35-N34)/N34 -> 0.059855957
A38: HOLLYWOOD | B38: 2024 | C38: 39819299675 | D38: 29684339538 | E38: 2121843811 | F38: 439484306 | G38: 780716330 | H38: 728350170 | I38: 73566590 | J38: 161667706 | K38: 4305628913 | L38: 25378710625 | M38: 7.4479 | N38: 1.890181e+08
A39: HOLLYWOOD | B39: 2025 | C39: 41330317195 | D39: 31747656771 | E39: 2176307460 | F39: 451075163 | G39: 775268870 | H39: 749135550 | I39: 75552974 | J39: 177570207 | K39: 4404910224 | L39: 27342746547 | M39: 7.4293 | N39: 2.0313747e+08
A40: Pct Change | C40: =(C39-C38)/C38 -> 0.037946863 | D40: =(D39-D38)/D38 -> 0.069508612 | E40: =(E39-E38)/E38 -> 0.025668076 | F40: =(F39-F38)/F38 -> 0.026373768 | G40: =(G39-G38)/G38 -> -0.0069775151 | H40: =(H39-H38)/H38 -> 0.028537619 | I40: =(I39-I38)/I38 -> 0.02700117 | J40: =(J39-J38)/J38 -> 0.098365353 | ... N40: =(N39-N38)/N38 -> 0.074698498
A42: LAUD-BY-THE-SE | B42: 2024 | C42: 4936488491 | D42: 3797605211 | E42: 22069250 | F42: 10416889 | G42: 55150000 | H42: 55063290 | I42: 5635230 | J42: 21063230 | K42: 169397889 | L42: 3628207322 | M42: 3.9235 | N42: 14235271
A43: LAUD-BY-THE-SE | B43: 2025 | C43: 4962441547 | D43: 4002120567 | E43: 23260540 | F43: 10426589 | G43: 54825000 | H43: 56322424 | I43: 5966660 | J43: 21205932 | K43: 172007145 | L43: 3830113422 | M43: 3.9 | N43: 14937442
A44: Pct Change | C44: =(C43-C42)/C42 -> 0.0052573922 | D44: =(D43-D42)/D42 -> 0.05385377 | E44: =(E43-E42)/E42 -> 0.053979632 | F44: =(F43-F42)/F42 -> 0.00093118012 | G44: =(G43-G42)/G42 -> -0.005893019 | H44: =(H43-H42)/H42 -> 0.022867032 | I44: =(I43-I42)/I42 -> 0.058813926 | J44: =(J43-J42)/J42 -> 0.0067749343 | ... N44: =(N43-N42)/N42 -> 0.049326135
A46: LAUDERDALE LAK | B46: 2024 | C46: 3827399590 | D46: 2663898410 | E46: 135411560 | F46: 244940199 | G46: 147845230 | H46: 104624930 | I46: 22585430 | J46: 19926112 | K46: 675333461 | L46: 1988564949 | M46: 8.6 | N46: 17101659
A47: LAUDERDALE LAK | B47: 2025 | C47: 4069430402 | D47: 2891824452 | E47: 136669620 | F47: 312492841 | G47: 149528220 | H47: 112083348 | I47: 21299286 | J47: 29026895 | K47: 761100210 | L47: 2130724242 | M47: 8.6 | N47: 18324228
A48: Pct Change | C48: =(C47-C46)/C46 -> 0.063236358 | D48: =(D47-D46)/D46 -> 0.085561086 | E48: =(E47-E46)/E46 -> 0.0092906396 | F48: =(F47-F46)/F46 -> 0.27579239 | G48: =(G47-G46)/G46 -> 0.011383458 | H48: =(H47-H46)/H46 -> 0.071287197 | I48: =(I47-I46)/I46 -> -0.056945739 | J48: =(J47-J46)/J46 -> 0.45672648 | ... N48: =(N47-N46)/N46 -> 0.071488383
A50: LAUDERHILL | B50: 2024 | C50: 8141663574 | D50: 5446152644 | E50: 303090726 | F50: 102529326 | G50: 315367820 | H50: 239138410 | I50: 38698970 | J50: 63106583 | K50: 1061931835 | L50: 4384220809 | M50: 7.9998 | N50: 35072890
A51: LAUDERHILL | B51: 2025 | C51: 8631055892 | D51: 5995580152 | E51: 307983066 | F51: 106544055 | G51: 315564860 | H51: 252948888 | I51: 40263850 | J51: 69553531 | K51: 1092858250 | L51: 4902721902 | M51: 7.4998 | N51: 36769434
A52: Pct Change | C52: =(C51-C50)/C50 -> 0.060109622 | D52: =(D51-D50)/D50 -> 0.1008836 | E52: =(E51-E50)/E50 -> 0.016141503 | F52: =(F51-F50)/F50 -> 0.039156885 | G52: =(G51-G50)/G50 -> 0.00062479425 | H52: =(H51-H50)/H50 -> 0.057750982 | I52: =(I51-I50)/I50 -> 0.040437252 | J52: =(J51-J50)/J50 -> 0.10215967 | ... N52: =(N51-N50)/N50 -> 0.048371951
...

Sheet Calhoun
A1: Municipality | B1: Year | C1: Just Value | D1: Assessed Value | E1: Government Exemption Value | F1: Institutional Exemption Value | G1: Homestead Exemption Value | H1: Additional 25,000 Homestead Exemption Value | I1: Senior Homestead Exemptions | J1: Other Exemptions | K1: Total Exemption Value | L1: Total Taxable Value | M1: City Millage Rate | N1: Taxes Levied
A2: BLOUNTSTOWN | B2: 2024 | C2: 153507405 | D2: 130504094 | E2: 16093276 | F2: 6339629 | G2: 12420645 | H2: 7149271 | I2: 1243744 | J2: 3378270 | K2: 46624835 | L2: 83879259 | M2: 1.5 | N2: 125818.89
A3: BLOUNTSTOWN | B3: 2025 | C3: 160295507 | D3: 138085208 | E3: 16220168 | F3: 6810233 | G3: 12291250 | H3: 7528728 | I3: 1237693 | J3: 3733539 | K3: 47821611 | L3: 90263597 | M3: 1.5 | N3: 135395.4
A4: Pct Change | C4: =(C3-C2)/C2 -> 0.04422003 | D4: =(D3-D2)/D2 -> 0.058091005 | E4: =(E3-E2)/E2 -> 0.0078847837 | F4: =(F3-F2)/F2 -> 0.074232104 | G4: =(G3-G2)/G2 -> -0.010417736 | H4: =(H3-H2)/H2 -> 0.053076321 | I4: =(I3-I2)/I2 -> -0.0048651491 | J4: =(J3-J2)/J2 -> 0.105163 | ... N4: =(N3-N2)/N2 -> 0.076113429
A6: Total Municipal | B6: 2024 | C6: =C2 -> 153507405 | D6: =D2 -> 130504094 | E6: =E2 -> 16093276 | F6: =F2 -> 6339629 | G6: =G2 -> 12420645 | H6: =H2 -> 7149271 | I6: =I2 -> 1243744 | J6: =J2 -> 3378270 | ... L6: =L2 -> 83879259 | N6: =N2 -> 125818.89
B7: 2025 | C7: =C3 -> 160295507 | D7: =D3 -> 138085208 | E7: =E3 -> 16220168 | F7: =F3 -> 6810233 | G7: =G3 -> 12291250 | H7: =H3 -> 7528728 | I7: =I3 -> 1237693 | J7: =J3 -> 3733539 | ... L7: =L3 -> 90263597 | N7: =N3 -> 135395.4
A8: Pct Change | C8: =(C7-C6)/C6 -> 0.04422003 | D8: =(D7-D6)/D6 -> 0.058091005 | E8: =(E7-E6)/E6 -> 0.0078847837 | F8: =(F7-F6)/F6 -> 0.074232104 | G8: =(G7-G6)/G6 -> -0.010417736 | H8: =(H7-H6)/H6 -> 0.053076321 | I8: =(I7-I6)/I6 -> -0.0048651491 | J8: =(J7-J6)/J6 -> 0.105163 | ... L8: =(L7-L6)/L6 -> 0.076113429 | N8: =(N7-N6)/N6 -> 0.076113429
K10: Effective Millage Rate | L10: 2024 | M10: =M2 -> 1.5
L11: 2025 | M11: =M3 -> 1.5
K12: Percent change | M12: =(M11-M10)/M10 -> 0

Sheet Charlotte
A1: Municipality | B1: Year | C1: Just Value | D1: Assessed Value | E1: Government Exemption Value | F1: Institutional Exemption Value | G1: Homestead Exemption Value | H1: Additional 25,000 Homestead Exemption Value | I1: Senior Homestead Exemptions | J1: Other Exemptions | K1: Total Exemption Value | L1: Total Taxable Value | M1: City Millage Rate | N1: Taxes Levied
A2: PUNTA GORDA | B2: 2024 | C2: 7961374791 | D2: 5941424559 | E2: 324365240 | F2: 71164422 | G2: 182184023 | H2: 176278140 | I2: 0 | J2: 99111074 | K2: 853102899 | L2: 5088321660 | M2: 3.95 | N2: 20098871
A3: PUNTA GORDA | B3: 2025 | C3: 7310119862 | D3: 6089600212 | E3: 325455468 | F3: 73410011 | G3: 179563272 | H3: 179158553 | I3: 0 | J3: 105078310 | K3: 862665614 | L3: 5226934598 | M3: 3.8686 | N3: 20220919
A4: Pct Change | C4: =(C3-C2)/C2 -> -0.081801818 | D4: =(D3-D2)/D2 -> 0.024939415 | E4: =(E3-E2)/E2 -> 0.0033611123 | F4: =(F3-F2)/F2 -> 0.031554939 | G4: =(G3-G2)/G2 -> -0.014385186 | H4: =(H3-H2)/H2 -> 0.01634016 | I4: =(I3-I2)/I2 -> #DIV/0! | J4: =(J3-J2)/J2 -> 0.060207561 | ... N4: =(N3-N2)/N2 -> 0.0060724123
A6: Total Municipal | B6: 2024 | C6: =C2 -> 7961374791 | D6: =D2 -> 5941424559 | E6: =E2 -> 324365240 | F6: =F2 -> 71164422 | G6: =G2 -> 182184023 | H6: =H2 -> 176278140 | I6: =I2 -> 0 | J6: =J2 -> 99111074 | ... L6: =L2 -> 5088321660 | N6: =N2 -> 20098871
B7: 2025 | C7: =C3 -> 7310119862 | D7: =D3 -> 6089600212 | E7: =E3 -> 325455468 | F7: =F3 -> 73410011 | G7: =G3 -> 179563272 | H7: =H3 -> 179158553 | I7: =I3 -> 0 | J7: =J3 -> 105078310 | ... L7: =L3 -> 5226934598 | N7: =N3 -> 20220919
A8: Pct Change | C8: =(C7-C6)/C6 -> -0.081801818 | D8: =(D7-D6)/D6 -> 0.024939415 | E8: =(E7-E6)/E6 -> 0.0033611123 | F8: =(F7-F6)/F6 -> 0.031554939 | G8: =(G7-G6)/G6 -> -0.014385186 | H8: =(H7-H6)/H6 -> 0.01634016 | I8: =(I7-I6)/I6 -> #DIV/0! | J8: =(J7-J6)/J6 -> 0.060207561 | ... L8: =(L7-L6)/L6 -> 0.027241387 | N8: =(N7-N6)/N6 -> 0.0060724123
K10: Effective Millage Rate | L10: 2024 | M10: =M2 -> 3.95
L11: 2025 | M11: =M3 -> 3.8686
K12: Percent change | M12: =(M11-M10)/M10 -> -0.020607595

Sheet Citrus
A1: Municipality | B1: Year | C1: Just Value | D1: Assessed Value | E1: Government Exemption Value | F1: Institutional Exemption Value | G1: Homestead Exemption Value | H1: Additional 25,000 Homestead Exemption Value | I1: Senior Homestead Exemptions | J1: Other Exemptions | K1: Total Exemption Value | L1: Total Taxable Value | M1: City Millage Rate | N1: Taxes Levied
A2: CRYSTAL RIVER | B2: 2024 | C2: 1042692013 | D2: 826431613 | E2: 58830191 | F2: 19012913 | G2: 17584303 | H2: 14564833 | I2: 0 | J2: 13757726 | K2: 123749966 | L2: 702681647 | M2: 6.59 | N2: 4630672.1
A3: CRYSTAL RIVER | B3: 2025 | C3: 1027197304 | D3: 846339807 | E3: 61215156 | F3: 19642814 | G3: 17210880 | H3: 14629598 | I3: 0 | J3: 14079333 | K3: 126777781 | L3: 719562026 | M3: 6.59 | N3: 4741913.8
A4: Pct Change | C4: =(C3-C2)/C2 -> -0.014860293 | D4: =(D3-D2)/D2 -> 0.024089342 | E4: =(E3-E2)/E2 -> 0.040539814 | F4: =(F3-F2)/F2 -> 0.033130168 | G4: =(G3-G2)/G2 -> -0.021236156 | H4: =(H3-H2)/H2 -> 0.0044466696 | I4: =(I3-I2)/I2 -> #DIV/0! | J4: =(J3-J2)/J2 -> 0.023376465 | ... N4: =(N3-N2)/N2 -> 0.024022798
A6: INVERNESS | B6: 2024 | C6: 1174124552 | D6: 962039585 | E6: 122236403 | F6: 53795666 | G6: 48870295 | H6: 36730157 | I6: 0 | J6: 17844592 | K6: 279477113 | L6: 682562472 | M6: 7.66 | N6: 5228428.5
A7: INVERNESS | B7: 2025 | C7: 1189984954 | D7: 1003988771 | E7: 122994682 | F7: 54494571 | G7: 49401705 | H7: 39350452 | I7: 0 | J7: 18834976 | K7: 285076386 | L7: 718912385 | M7: 7.56 | N7: 5434977.6
A8: Pct Change | C8: =(C7-C6)/C6 -> 0.013508279 | D8: =(D7-D6)/D6 -> 0.043604428 | E8: =(E7-E6)/E6 -> 0.0062033812 | F8: =(F7-F6)/F6 -> 0.012991846 | G8: =(G7-G6)/G6 -> 0.010873886 | H8: =(H7-H6)/H6 -> 0.071339063 | I8: =(I7-I6)/I6 -> #DIV/0! | J8: =(J7-J6)/J6 -> 0.055500512 | ... N8: =(N7-N6)/N6 -> 0.039505005
A10: Total Municipal | B10: 2024 | C10: =C2+C6 -> 2216816565 | D10: =D2+D6 -> 1788471198 | E10: =E2+E6 -> 181066594 | F10: =F2+F6 -> 72808579 | G10: =G2+G6 -> 66454598 | H10: =H2+H6 -> 51294990 | I10: =I2+I6 -> 0 | J10: =J2+J6 -> 31602318 | ... L10: =L2+L6 -> 1385244119 | N10: =N2+N6 -> 9859100.6
B11: 2025 | C11: =C3+C7 -> 2217182258 | D11: =D3+D7 -> 1850328578 | E11: =E3+E7 -> 184209838 | F11: =F3+F7 -> 74137385 | G11: =G3+G7 -> 66612585 | H11: =H3+H7 -> 53980050 | I11: =I3+I7 -> 0 | J11: =J3+J7 -> 32914309 | ... L11: =L3+L7 -> 1438474411 | N11: =N3+N7 -> 10176891
A12: Pct Change | C12: =(C11-C10)/C10 -> 0.00016496313 | D12: =(D11-D10)/D10 -> 0.034586735 | E12: =(E11-E10)/E10 -> 0.017359602 | F12: =(F11-F10)/F10 -> 0.018250679 | G12: =(G11-G10)/G10 -> 0.0023773675 | H12: =(H11-H10)/H10 -> 0.052345463 | I12: =(I11-I10)/I10 -> #DIV/0! | J12: =(J11-J10)/J10 -> 0.041515657 | ... L12: =(L11-L10)/L10 -> 0.038426651 | N12: =(N11-N10)/N10 -> 0.032233244
K14: Effective Millage Rate | L14: 2024 | M14: =(M2+M6)/2 -> 7.125
L15: 2025 | M15: =(M3+M7)/2 -> 7.075
K16: Percent change | M16: =(M15-M14)/M14 -> -0.0070175439

Sheet Clay
A1: Municipality | B1: Year | C1: Just Value | D1: Assessed Value | E1: Government Exemption Value | F1: Institutional Exemption Value | G1: Homestead Exemption Value | H1: Additional 25,000 Homestead Exemption Value | I1: Senior Homestead Exemptions | J1: Other Exemptions | K1: Total Exemption Value | L1: Total Taxable Value | M1: City Millage Rate | N1: Taxes Levied
A2: GREEN COVE SPG | B2: 2024 | C2: 1185281432 | D2: 876226670 | E2: 26731103 | F2: 6523348 | G2: 53320917 | H2: 49284169 | I2: 3933604 | J2: 43663803 | K2: 183456944 | L2: 692769726 | M2: 5.3 | N2: 3671679.5
A3: GREEN COVE SPG | B3: 2025 | C3: 1391762153 | D3: 1069031335 | E3: 68174741 | F3: 17480917 | G3: 53995051 | H3: 51729240 | I3: 4177882 | J3: 55167490 | K3: 250725321 | L3: 818306014 | M3: 5.3 | N3: 4337021.9
A4: Pct Change | C4: =(C3-C2)/C2 -> 0.17420396 | D4: =(D3-D2)/D2 -> 0.22003971 | E4: =(E3-E2)/E2 -> 1.5503901 | F4: =(F3-F2)/F2 -> 1.6797462 | G4: =(G3-G2)/G2 -> 0.012642956 | H4: =(H3-H2)/H2 -> 0.049611692 | I4: =(I3-I2)/I2 -> 0.062100303 | J4: =(J3-J2)/J2 -> 0.26346049 | ... N4: =(N3-N2)/N2 -> 0.18120926
A6: KEYSTONE HEIGH | B6: 2024 | C6: 148575718 | D6: 107870983 | E6: 12204754 | F6: 1494087 | G6: 10108494 | H6: 8932979 | I6: 0 | J6: 3258597 | K6: 35998911 | L6: 71872072 | M6: 3.8847 | N6: 279201.44
A7: KEYSTONE HEIGH | B7: 2025 | C7: 191864148 | D7: 153184486 | E7: 15356786 | F7: 9118144 | G7: 9961058 | H7: 9181227 | I7: 0 | J7: 3288505 | K7: 46905720 | L7: 106278766 | M7: 3.6073 | N7: 383379.39
A8: Pct Change | C8: =(C7-C6)/C6 -> 0.29135602 | D8: =(D7-D6)/D6 -> 0.42007129 | E8: =(E7-E6)/E6 -> 0.25826264 | F8: =(F7-F6)/F6 -> 5.10282 | G8: =(G7-G6)/G6 -> -0.014585358 | H8: =(H7-H6)/H6 -> 0.027790057 | I8: =(I7-I6)/I6 -> #DIV/0! | J8: =(J7-J6)/J6 -> 0.0091781831 | ... N8: =(N7-N6)/N6 -> 0.37312829
A10: ORANGE PARK | B10: 2024 | C10: 1386812321 | D10: 1133995880 | E10: 74861691 | F10: 87997057 | G10: 46530515 | H10: 44727769 | I10: 5214701 | J10: 22315282 | K10: 281647015 | L10: 852348865 | M10: 5.7 | N10: 4858388.5
A11: ORANGE PARK | B11: 2025 | C11: 1451905767 | D11: 1204817306 | E11: 77808766 | F11: 96474528 | G11: 46340753 | H11: 45946216 | I11: 5180383 | J11: 26237715 | K11: 297988361 | L11: 906828945 | M11: 5.95 | N11: 5395632.2
A12: Pct Change | C12: =(C11-C10)/C10 -> 0.046937459 | D12: =(D11-D10)/D10 -> 0.062452984 | E12: =(E11-E10)/E10 -> 0.039366931 | F12: =(F11-F10)/F10 -> 0.09633812 | G12: =(G11-G10)/G10 -> -0.0040782269 | H12: =(H11-H10)/H10 -> 0.027241399 | I12: =(I11-I10)/I10 -> -0.0065810101 | J12: =(J11-J10)/J10 -> 0.1757734 | ... N12: =(N11-N10)/N10 -> 0.11058064
A14: PENNEY FARM | B14: 2024 | C14: 64783820 | D14: 52559808 | E14: 384845 | F14: 24073682 | G14: 875955 | H14: 646084 | I14: 0 | J14: 233936 | K14: 26214502 | L14: 26345306 | M14: 4.4535 | N14: 117328.82
A15: PENNEY FARM | B15: 2025 | C15: 68001219 | D15: 55732955 | E15: 409366 | F15: 23680577 | G15: 878517 | H15: 703669 | I15: 0 | J15: 234445 | K15: 25906574 | L15: 29826381 | M15: 4.4535 | N15: 132831.79
A16: Pct Change | C16: =(C15-C14)/C14 -> 0.04966362 | D16: =(D15-D14)/D14 -> 0.060372119 | E16: =(E15-E14)/E14 -> 0.063716561 | F16: =(F15-F14)/F14 -> -0.016329243 | G16: =(G15-G14)/G14 -> 0.0029248078 | H16: =(H15-H14)/H14 -> 0.089129277 | I16: =(I15-I14)/I14 -> #DIV/0! | J16: =(J15-J14)/J14 -> 0.0021758088 | ... N16: =(N15-N14)/N14 -> 0.13213265
A18: Total Municipal | B18: 2024 | C18: =C2+C6+C10+C14 -> 2785453291 | D18: =D2+D6+D10+D14 -> 2170653341 | E18: =E2+E6+E10+E14 -> 114182393 | F18: =F2+F6+F10+F14 -> 120088174 | G18: =G2+G6+G10+G14 -> 110835881 | H18: =H2+H6+H10+H14 -> 103591001 | I18: =I2+I6+I10+I14 -> 9148305 | J18: =J2+J6+J10+J14 -> 69471618 | ... L18: =L2+L6+L10+L14 -> 1643335969 | N18: =N2+N6+N10+N14 -> 8926598.3
B19: 2025 | C19: =C3+C7+C11+C15 -> 3103533287 | D19: =D3+D7+D11+D15 -> 2482766082 | E19: =E3+E7+E11+E15 -> 161749659 | F19: =F3+F7+F11+F15 -> 146754166 | G19: =G3+G7+G11+G15 -> 111175379 | H19: =H3+H7+H11+H15 -> 107560352 | I19: =I3+I7+I11+I15 -> 9358265 | J19: =J3+J7+J11+J15 -> 84928155 | ... L19: =L3+L7+L11+L15 -> 1861240106 | N19: =N3+N7+N11+N15 -> 10248865
A20: Pct Change | C20: =(C19-C18)/C18 -> 0.11419326 | D20: =(D19-D18)/D18 -> 0.14378746 | E20: =(E19-E18)/E18 -> 0.4165902 | F20: =(F19-F18)/F18 -> 0.22205344 | G20: =(G19-G18)/G18 -> 0.0030630694 | H20: =(H19-H18)/H18 -> 0.038317527 | I20: =(I19-I18)/I18 -> 0.0229507 | J20: =(J19-J18)/J18 -> 0.22248707 | ... L20: =(L19-L18)/L18 -> 0.13259865 | N20: =(N19-N18)/N18 -> 0.14812663
K22: Effective Millage Rate | L22: 2024 | M22: =(M2+M6+M10+M14)/4 -> 4.83455
L23: 2025 | M23: =(M3+M7+M11+M15)/4 -> 4.8277
K24: Percent change | M24: =(M23-M22)/M22 -> -0.0014168847

Sheet Collier
A1: Municipality | B1: Year | C1: Just Value | D1: Assessed Value | E1: Government Exemption Value | F1: Institutional Exemption Value | G1: Homestead Exemption Value | H1: Additional 25,000 Homestead Exemption Value | I1: Senior Homestead Exemptions | J1: Other Exemptions | K1: Total Exemption Value | L1: Total Taxable Value | M1: City Millage Rate | N1: Taxes Levied
A2: EVERGLADES | B2: 2024 | C2: 192236302 | D2: 164692054 | E2: 23169749 | F2: 4180360 | G2: 2707385 | H2: 2501996 | I2: 0 | J2: 881422 | K2: 33440912 | L2: 131251142 | M2: 6.9333 | N2: 910003.54
A3: EVERGLADES | B3: 2025 | C3: 198668120 | D3: 173909183 | E3: 23663167 | F3: 4345232 | G3: 2807599 | H3: 2677329 | I3: 0 | J3: 1069903 | K3: 34563230 | L3: 139345953 | M3: 6.6558 | N3: 927458.79
A4: Pct Change | C4: =(C3-C2)/C2 -> 0.033457874 | D4: =(D3-D2)/D2 -> 0.055965839 | E4: =(E3-E2)/E2 -> 0.021295785 | F4: =(F3-F2)/F2 -> 0.039439665 | G4: =(G3-G2)/G2 -> 0.037015053 | H4: =(H3-H2)/H2 -> 0.07007725 | I4: =(I3-I2)/I2 -> #DIV/0! | J4: =(J3-J2)/J2 -> 0.21383741 | ... N4: =(N3-N2)/N2 -> 0.01918152
A6: MARCO ISLAND C | B6: 2024 | C6: 23785542454 | D6: 17716286294 | E6: 137490018 | F6: 100920692 | G6: 155271523 | H6: 153698037 | I6: 0 | J6: 60868659 | K6: 608248929 | L6: 17108037365 | M6: 1.24 | N6: 21213966
A7: MARCO ISLAND C | B7: 2025 | C7: 24094764328 | D7: 19062640863 | E7: 151965353 | F7: 112854595 | G7: 155550000 | H7: 158300040 | I7: 0 | J7: 65168956 | K7: 643838944 | L7: 18418801919 | M7: 1.267 | N7: 23336622
A8: Pct Change | C8: =(C7-C6)/C6 -> 0.013000413 | D8: =(D7-D6)/D6 -> 0.075995304 | E8: =(E7-E6)/E6 -> 0.10528281 | F8: =(F7-F6)/F6 -> 0.11825031 | G8: =(G7-G6)/G6 -> 0.0017934841 | H8: =(H7-H6)/H6 -> 0.029941846 | I8: =(I7-I6)/I6 -> #DIV/0! | J8: =(J7-J6)/J6 -> 0.070648788 | ... N8: =(N7-N6)/N6 -> 0.10005935
A10: NAPLES | B10: 2024 | C10: 54642016243 | D10: 40229173219 | E10: 709140979 | F10: 703878510 | G10: 176496154 | H10: 166694694 | I10: 2599643 | J10: 60128457 | K10: 1818938437 | L10: 38410234782 | M10: 1.23 | N10: 47244589
A11: NAPLES | B11: 2025 | C11: 55512780552 | D11: 43254101602 | E11: 757090291 | F11: 797436790 | G11: 175349449 | H11: 170105606 | I11: 2295923 | J11: 61142947 | K11: 1963421006 | L11: 41290680596 | M11: 1.23 | N11: 50787537
A12: Pct Change | C12: =(C11-C10)/C10 -> 0.015935801 | D12: =(D11-D10)/D10 -> 0.075192407 | E12: =(E11-E10)/E10 -> 0.06761605 | F12: =(F11-F10)/F10 -> 0.13291822 | G12: =(G11-G10)/G10 -> -0.0064970538 | H12: =(H11-H10)/H10 -> 0.020462031 | I12: =(I11-I10)/I10 -> -0.11683143 | J12: =(J11-J10)/J10 -> 0.016872044 | ... N12: =(N11-N10)/N10 -> 0.074991622
A14: Total Municipal | B14: 2024 | C14: =C2+C6+C10 -> 78619794999 | D14: =D2+D6+D10 -> 58110151567 | E14: =E2+E6+E10 -> 869800746 | F14: =F2+F6+F10 -> 808979562 | G14: =G2+G6+G10 -> 334475062 | H14: =H2+H6+H10 -> 322894727 | I14: =I2+I6+I10 -> 2599643 | J14: =J2+J6+J10 -> 121878538 | ... L14: =L2+L6+L10 -> 55649523289 | N14: =N2+N6+N10 -> 69368559
B15: 2025 | C15: =C3+C7+C11 -> 79806213000 | D15: =D3+D7+D11 -> 62490651648 | E15: =E3+E7+E11 -> 932718811 | F15: =F3+F7+F11 -> 914636617 | G15: =G3+G7+G11 -> 333707048 | H15: =H3+H7+H11 -> 331082975 | I15: =I3+I7+I11 -> 2295923 | J15: =J3+J7+J11 -> 127381806 | ... L15: =L3+L7+L11 -> 59848828468 | N15: =N3+N7+N11 -> 75051618
A16: Pct Change | C16: =(C15-C14)/C14 -> 0.015090576 | D16: =(D15-D14)/D14 -> 0.075382699 | E16: =(E15-E14)/E14 -> 0.072336182 | F16: =(F15-F14)/F14 -> 0.13060535 | G16: =(G15-G14)/G14 -> -0.0022961772 | H16: =(H15-H14)/H14 -> 0.025358878 | I16: =(I15-I14)/I14 -> -0.11683143 | J16: =(J15-J14)/J14 -> 0.045153709 | ... L16: =(L15-L14)/L14 -> 0.075459859 | N16: =(N15-N14)/N14 -> 0.081925579
K18: Effective Millage Rate | L18: 2024 | M18: =(M2+M6+M10)/3 -> 3.1344333
L19: 2025 | M19: =(M3+M7+M11)/3 -> 3.0509333
K20: Percent change | M20: =(M19-M18)/M18 -> -0.026639584

Sheet Columbia
A1: Municipality | B1: Year | C1: Just Value | D1: Assessed Value | E1: Government Exemption Value | F1: Institutional Exemption Value | G1: Homestead Exemption Value | H1: Additional 25,000 Homestead Exemption Value | I1: Senior Homestead Exemptions | J1: Other Exemptions | K1: Total Exemption Value | L1: Total Taxable Value | M1: City Millage Rate | N1: Taxes Levied
A2: LAKE CITY | B2: 2024 | C2: 1638930130 | D2: 1475063248 | E2: 189492903 | F2: 73006616 | G2: 42657918 | H2: 31587942 | I2: 2552637 | J2: 22193682 | K2: 361491698 | L2: 1113571550 | M2: 4.9 | N2: 5456500.6
A3: LAKE CITY | B3: 2025 | C3: 1717050562 | D3: 1574280824 | E3: 200720973 | F3: 76274664 | G3: 42657177 | H3: 33154803 | I3: 2342168 | J3: 24671673 | K3: 379821458 | L3: 1194459366 | M3: 4.9 | N3: 5852850.9
