Workbook

Sheet Report Index
A2: Statewide Taxable Value Summary Information by County
B4: Taxable Value is the value of the property that is subject to taxes. Taxable Value is the Assessed Value minus all Exemption Amounts.
B11: Taxable Value All Property Types
B13: All Property Types Taxable Value and Growth Rate
B15: Real Property Taxable Value and Growth Rate
B17: Personal Property Taxable Value and Growth Rate
B19: Centrally Assessed Property Taxable Value and Growth Rate
A25: Contact Information: | D25: Property Tax Oversight, Research & Analysis
D26: PTOResearchAnalysis@floridarevenue.com

Sheet Taxable Value All Property
A1: Taxable Value All Property Types
A2: 2021
A4: County | B4: Status | C4: 2021 Real Property Taxable Value | D4: 2021 Personal Property Taxable Value | E4: 2021 Central Assessment Taxable Value | F4: 2021 Total Taxable Value
A5: Alachua | B5: R-NVAB | C5: 15844022027 | D5: 1358577007 | E5: 26301883 | F5: =SUM(C5:E5) -> 17228900917
A6: Baker | B6: R-Final | C6: 933115378 | D6: 178181250 | E6: 13283213 | F6: =SUM(C6:E6) -> 1124579841
A7: Bay | B7: R-NVAB | C7: 17913757317 | D7: 1495481845 | E7: 29381138 | F7: =SUM(C7:E7) -> 19438620300
A8: Bradford | B8: R-Final | C8: 799143466 | D8: 271603414 | E8: 16232580 | F8: =SUM(C8:E8) -> 1086979460
A9: Brevard | B9: R-NVAB | C9: 43400345923 | D9: 3491788278 | E9: 82996398 | F9: =SUM(C9:E9) -> 46975130599
A10: Broward | B10: R-NVAB | C10: 212356597610 | D10: 9069685194 | E10: 96288851 | F10: =SUM(C10:E10) -> 221522571655
A11: Calhoun | B11: R-Final | C11: 328347444 | D11: 122633374 | E11: 0 | F11: =SUM(C11:E11) -> 450980818
A12: Charlotte | B12: R-NVAB | C12: 19163052256 | D12: 1014127003 | E12: 2534754 | F12: =SUM(C12:E12) -> 20179714013
A13: Citrus | B13: R-NVAB | C13: 9077099764 | D13: 2116984148 | E13: 1332723 | F13: =SUM(C13:E13) -> 11195416635
A14: Clay | B14: R-NVAB | C14: 12062408536 | D14: 942960958 | E14: 14718209 | F14: =SUM(C14:E14) -> 13020087703
A15: Collier | B15: R-NVAB | C15: 102312725946 | D15: 2366187987 | E15: 92644 | F15: =SUM(C15:E15) -> 104679006577
A16: Columbia | B16: R-Final | C16: 2653738548 | D16: 555240771 | E16: 13420001 | F16: =SUM(C16:E16) -> 3222399320
... A71: Washington | B71: R-Final | C71: 742168339 | D71: 253801039 | E71: 1445219 | F71: =SUM(C71:E71) -> 997414597
A73: Statewide | C73: =SUM(C5:C71) -> 2120590058105 | D73: =SUM(D5:D71) -> 141688500030 | E73: =SUM(E5:E71) -> 1836844750 | F73: =SUM(F5:F71) -> 2264115402885
A75: Data Extract: November 2021

Sheet All Property Taxable Value
A1: All Property Types Taxable Value and Growth Rate
A2: 2019-2021
A4: County | B4: Status | C4: 2021 Value | D4: Percent increase 2020-2021 | E4: 2020 Value | F4: Percent increase 2019-2020 | G4: 2019 Value
A5: Alachua | B5: ='Taxable Value All Property'!B5 -> R-NVAB | C5: ='Taxable Value All Property'!F5 -> 17228900917 | D5: =((C5-E5)/E5) -> 0.064530839 | E5: 16184501452 | F5: =((E5-G5)/G5) -> 0.060745095 | G5: 15257672680
A6: Baker | B6: ='Taxable Value All Property'!B6 -> R-Final | C6: ='Taxable Value All Property'!F6 -> 1124579841 | D6: =((C6-E6)/E6) -> 0.095990262 | E6: 1026085614 | F6: =((E6-G6)/G6) -> 0.077819521 | G6: 952001327
A7: Bay | B7: ='Taxable Value All Property'!B7 -> R-NVAB | C7: ='Taxable Value All Property'!F7 -> 19438620300 | D7: =((C7-E7)/E7) -> 0.10905693 | E7: 17527161860 | F7: =((E7-G7)/G7) -> 0.091967754 | G7: 16050988505
A8: Bradford | B8: ='Taxable Value All Property'!B8 -> R-Final | C8: ='Taxable Value All Property'!F8 -> 1086979460 | D8: =((C8-E8)/E8) -> 0.051890098 | E8: 1033358392 | F8: =((E8-G8)/G8) -> 0.075531379 | G8: 960788697
A9: Brevard | B9: ='Taxable Value All Property'!B9 -> R-NVAB | C9: ='Taxable Value All Property'!F9 -> 46975130599 | D9: =((C9-E9)/E9) -> 0.072406555 | E9: 43803472075 | F9: =((E9-G9)/G9) -> 0.075134231 | G9: 40742328549
A10: Broward | B10: ='Taxable Value All Property'!B10 -> R-NVAB | C10: ='Taxable Value All Property'!F10 -> 221522571655 | D10: =((C10-E10)/E10) -> 0.057219314 | E10: 209533224342 | F10: =((E10-G10)/G10) -> 0.052763881 | G10: 199031547482
A11: Calhoun | B11: ='Taxable Value All Property'!B11 -> R-Final | C11: ='Taxable Value All Property'!F11 -> 450980818 | D11: =((C11-E11)/E11) -> 0.054350972 | E11: 427733108 | F11: =((E11-G11)/G11) -> 0.10949131 | G11: 385521820
A12: Charlotte | B12: ='Taxable Value All Property'!B12 -> R-NVAB | C12: ='Taxable Value All Property'!F12 -> 20179714013 | D12: =((C12-E12)/E12) -> 0.071221229 | E12: 18838045279 | F12: =((E12-G12)/G12) -> 0.067694336 | G12: 17643668832
A13: Citrus | B13: ='Taxable Value All Property'!B13 -> R-NVAB | C13: ='Taxable Value All Property'!F13 -> 11195416635 | D13: =((C13-E13)/E13) -> 0.050670888 | E13: 10655493324 | F13: =((E13-G13)/G13) -> 0.048684671 | G13: 10160817278
A14: Clay | B14: ='Taxable Value All Property'!B14 -> R-NVAB | C14: ='Taxable Value All Property'!F14 -> 13020087703 | D14: =((C14-E14)/E14) -> 0.067693574 | E14: 12194592179 | F14: =((E14-G14)/G14) -> 0.071624792 | G14: 11379535331
A15: Collier | B15: ='Taxable Value All Property'!B15 -> R-NVAB | C15: ='Taxable Value All Property'!F15 -> 104679006577 | D15: =((C15-E15)/E15) -> 0.055661901 | E15: 99159595002 | F15: =((E15-G15)/G15) -> 0.064225012 | G15: 93175403621
A16: Columbia | B16: ='Taxable Value All Property'!B16 -> R-Final | C16: ='Taxable Value All Property'!F16 -> 3222399320 | D16: =((C16-E16)/E16) -> 0.061594533 | E16: 3035433227 | F16: =((E16-G16)/G16) -> 0.063833674 | G16: 2853296809
... A71: Washington | B71: ='Taxable Value All Property'!B71 -> R-Final | C71: ='Taxable Value All Property'!F71 -> 997414597 | D71: =((C71-E71)/E71) -> 0.064980232 | E71: 936556912 | F71: =((E71-G71)/G71) -> 0.088144482 | G71: 860691689
A73: Statewide | C73: =SUM(C4:C71) -> 2264115402885 | D73: =((C73-E73)/E73) -> 0.067537275 | E73: =SUM(E5:E71) -> 2120877139351 | F73: =((E73-G73)/G73) -> 0.067226698 | G73: =SUM(G5:G71) -> 1987278938783
A75: Data Extract: November 2021

Sheet Real Property Taxable Value
A1: Real Property Taxable Value and Growth Rate
A2: 2019-2021
A4: County | B4: Status | C4: 2021 Value | D4: Percent increase 2020-2021 | E4: 2020 Value | F4: Percent increase 2019-2020 | G4: 2019 Value
A5: Alachua | B5: ='Taxable Value All Property'!B5 -> R-NVAB | C5: ='Taxable Value All Property'!C5 -> 15844022027 | D5: =((C5-E5)/E5) -> 0.068134239 | E5: 14833362189 | F5: =((E5-G5)/G5) -> 0.064681697 | G5: 13932203615
A6: Baker | B6: ='Taxable Value All Property'!B6 -> R-Final | C6: ='Taxable Value All Property'!C6 -> 933115378 | D6: =((C6-E6)/E6) -> 0.080696488 | E6: 863438892 | F6: =((E6-G6)/G6) -> 0.083347094 | G6: 797010392
A7: Bay | B7: ='Taxable Value All Property'!B7 -> R-NVAB | C7: ='Taxable Value All Property'!C7 -> 17913757317 | D7: =((C7-E7)/E7) -> 0.11477774 | E7: 16069353331 | F7: =((E7-G7)/G7) -> 0.097070098 | G7: 14647517387
A8: Bradford | B8: ='Taxable Value All Property'!B8 -> R-Final | C8: ='Taxable Value All Property'!C8 -> 799143466 | D8: =((C8-E8)/E8) -> 0.048614141 | E8: 762094878 | F8: =((E8-G8)/G8) -> 0.03692598 | G8: 734955911
A9: Brevard | B9: ='Taxable Value All Property'!B9 -> R-NVAB | C9: ='Taxable Value All Property'!C9 -> 43400345923 | D9: =((C9-E9)/E9) -> 0.072609438 | E9: 40462394205 | F9: =((E9-G9)/G9) -> 0.07504858 | G9: 37637735593
A10: Broward | B10: ='Taxable Value All Property'!B10 -> R-NVAB | C10: ='Taxable Value All Property'!C10 -> 212356597610 | D10: =((C10-E10)/E10) -> 0.059938702 | E10: 200347998560 | F10: =((E10-G10)/G10) -> 0.054586574 | G10: 189977763332
A11: Calhoun | B11: ='Taxable Value All Property'!B11 -> R-Final | C11: ='Taxable Value All Property'!C11 -> 328347444 | D11: =((C11-E11)/E11) -> 0.048876599 | E11: 313046782 | F11: =((E11-G11)/G11) -> 0.088989517 | G11: 287465377
A12: Charlotte | B12: ='Taxable Value All Property'!B12 -> R-NVAB | C12: ='Taxable Value All Property'!C12 -> 19163052256 | D12: =((C12-E12)/E12) -> 0.073930428 | E12: 17843848872 | F12: =((E12-G12)/G12) -> 0.068508991 | G12: 16699764833
A13: Citrus | B13: ='Taxable Value All Property'!B13 -> R-NVAB | C13: ='Taxable Value All Property'!C13 -> 9077099764 | D13: =((C13-E13)/E13) -> 0.067000486 | E13: 8507118682 | F13: =((E13-G13)/G13) -> 0.062388523 | G13: 8007540083
A14: Clay | B14: ='Taxable Value All Property'!B14 -> R-NVAB | C14: ='Taxable Value All Property'!C14 -> 12062408536 | D14: =((C14-E14)/E14) -> 0.07019043 | E14: 11271273038 | F14: =((E14-G14)/G14) -> 0.068288 | G14: 10550781288
A15: Collier | B15: ='Taxable Value All Property'!B15 -> R-NVAB | C15: ='Taxable Value All Property'!C15 -> 102312725946 | D15: =((C15-E15)/E15) -> 0.056023521 | E15: 96884893120 | F15: =((E15-G15)/G15) -> 0.064133178 | G15: 91045834426
A16: Columbia | B16: ='Taxable Value All Property'!B16 -> R-Final | C16: ='Taxable Value All Property'!C16 -> 2653738548 | D16: =((C16-E16)/E16) -> 0.053128845 | E16: 2519861232 | F16: =((E16-G16)/G16) -> 0.063562194 | G16: 2369265517
... A71: Washington | B71: ='Taxable Value All Property'!B71 -> R-Final | C71: ='Taxable Value All Property'!C71 -> 742168339 | D71: =((C71-E71)/E71) -> 0.084794874 | E71: 684155463 | F71: =((E71-G71)/G71) -> 0.054196473 | G71: 648982880
A73: Statewide | C73: =SUM(C5:C71) -> 2120590058105 | D73: =((C73-E73)/E73) -> 0.069986626 | E73: =SUM(E5:E71) -> 1981884639533 | F73: =((E73-G73)/G73) -> 0.068521994 | G73: =SUM(G5:G71) -> 1854790682647
A75: Data Extract: November 2021

Sheet Personal Property Taxable Value
A1: Personal Property Taxable Value and Growth Rate
A2: 2019-2021
A4: County | B4: Status | C4: 2021 Value | D4: Percent increase 2020-2021 | E4: 2020 Value | F4: Percent increase 2019-2020 | G4: 2019 Value
A5: Alachua | B5: ='Taxable Value All Property'!B5 -> R-NVAB | C5: ='Taxable Value All Property'!D5 -> 1358577007 | D5: =((C5-E5)/E5) -> 0.026974461 | E5: 1322892690 | F5: =((E5-G5)/G5) -> 0.018395364 | G5: 1298997164
A6: Baker | B6: ='Taxable Value All Property'!B6 -> R-Final | C6: ='Taxable Value All Property'!D6 -> 178181250 | D6: =((C6-E6)/E6) -> 0.18371121 | E6: 150527636 | F6: =((E6-G6)/G6) -> 0.090047799 | G6: 138092693
A7: Bay | B7: ='Taxable Value All Property'!B7 -> R-NVAB | C7: ='Taxable Value All Property'!D7 -> 1495481845 | D7: =((C7-E7)/E7) -> 0.047096257 | E7: 1428218118 | F7: =((E7-G7)/G7) -> 0.039792981 | G7: 1373560068
A8: Bradford | B8: ='Taxable Value All Property'!B8 -> R-Final | C8: ='Taxable Value All Property'!D8 -> 271603414 | D8: =((C8-E8)/E8) -> 0.064014291 | E8: 255262938 | F8: =((E8-G8)/G8) -> 0.20650398 | G8: 211572397
A9: Brevard | B9: ='Taxable Value All Property'!B9 -> R-NVAB | C9: ='Taxable Value All Property'!D9 -> 3491788278 | D9: =((C9-E9)/E9) -> 0.071150104 | E9: 3259849638 | F9: =((E9-G9)/G9) -> 0.078456356 | G9: 3022699638
A10: Broward | B10: ='Taxable Value All Property'!B10 -> R-NVAB | C10: ='Taxable Value All Property'!D10 -> 9069685194 | D10: =((C10-E10)/E10) -> -0.0013011541 | E10: 9081501627 | F10: =((E10-G10)/G10) -> 0.015266599 | G10: 8944942772
A11: Calhoun | B11: ='Taxable Value All Property'!B11 -> R-Final | C11: ='Taxable Value All Property'!D11 -> 122633374 | D11: =((C11-E11)/E11) -> 0.069293771 | E11: 114686326 | F11: =((E11-G11)/G11) -> 0.16959501 | G11: 98056443
A12: Charlotte | B12: ='Taxable Value All Property'!B12 -> R-NVAB | C12: ='Taxable Value All Property'!D12 -> 1014127003 | D12: =((C12-E12)/E12) -> 0.023111597 | E12: 991218364 | F12: =((E12-G12)/G12) -> 0.053631627 | G12: 940763677
A13: Citrus | B13: ='Taxable Value All Property'!B13 -> R-NVAB | C13: ='Taxable Value All Property'!D13 -> 2116984148 | D13: =((C13-E13)/E13) -> -0.014141021 | E13: 2147349867 | F13: =((E13-G13)/G13) -> -0.0022765381 | G13: 2152249545
A14: Clay | B14: ='Taxable Value All Property'!B14 -> R-NVAB | C14: ='Taxable Value All Property'!D14 -> 942960958 | D14: =((C14-E14)/E14) -> 0.037467289 | E14: 908906688 | F14: =((E14-G14)/G14) -> 0.11666873 | G14: 813944784
A15: Collier | B15: ='Taxable Value All Property'!B15 -> R-NVAB | C15: ='Taxable Value All Property'!D15 -> 2366187987 | D15: =((C15-E15)/E15) -> 0.040272556 | E15: 2274584649 | F15: =((E15-G15)/G15) -> 0.06815607 | G15: 2129449725
A16: Columbia | B16: ='Taxable Value All Property'!B16 -> R-Final | C16: ='Taxable Value All Property'!D16 -> 555240771 | D16: =((C16-E16)/E16) -> 0.103014 | E16: 503385062 | F16: =((E16-G16)/G16) -> 0.075454954 | G16: 468067082
... A71: Washington | B71: ='Taxable Value All Property'!B71 -> R-Final | C71: ='Taxable Value All Property'!D71 -> 253801039 | D71: =((C71-E71)/E71) -> 0.011481237 | E71: 250920165 | F71: =((E71-G71)/G71) -> 0.20820752 | G71: 207679691
A73: Statewide | C73: =SUM(C5:C71) -> 141688500030 | D73: =((C73-E73)/E73) -> 0.032551837 | E73: =SUM(E5:E71) -> 137221682150 | F73: =((E73-G73)/G73) -> 0.05042177 | G73: =SUM(G5:G71) -> 130634842170
A75: Data Extract: November 2021

Sheet Central Assessed Taxable Value 
A1: Centrally Assessed Property Taxable Value and Growth Rate
A2: 2019-2021
A4: County | B4: Status | C4: 2021 Value | D4: Percent increase 2020-2021 | E4: 2020 Value | F4: Percent increase 2019-2020 | G4: 2019 Value
A5: Alachua | B5: ='Taxable Value All Property'!B5 -> R-NVAB | C5: ='Taxable Value All Property'!E5 -> 26301883 | D5: =((C5-E5)/E5) -> -0.068846936 | E5: 28246573 | F5: =((E5-G5)/G5) -> 0.06703984 | G5: 26471901
A6: Baker | B6: ='Taxable Value All Property'!B6 -> R-Final | C6: ='Taxable Value All Property'!E6 -> 13283213 | D6: =((C6-E6)/E6) -> 0.096057326 | E6: 12119086 | F6: =((E6-G6)/G6) -> -0.28281972 | G6: 16898242
A7: Bay | B7: ='Taxable Value All Property'!B7 -> R-NVAB | C7: ='Taxable Value All Property'!E7 -> 29381138 | D7: =((C7-E7)/E7) -> -0.0070723249 | E7: 29590411 | F7: =((E7-G7)/G7) -> -0.010719751 | G7: 29911050
A8: Bradford | B8: ='Taxable Value All Property'!B8 -> R-Final | C8: ='Taxable Value All Property'!E8 -> 16232580 | D8: =((C8-E8)/E8) -> 0.014499728 | E8: 16000576 | F8: =((E8-G8)/G8) -> 0.12202942 | G8: 14260389
A9: Brevard | B9: ='Taxable Value All Property'!B9 -> R-NVAB | C9: ='Taxable Value All Property'!E9 -> 82996398 | D9: =((C9-E9)/E9) -> 0.021767875 | E9: 81228232 | F9: =((E9-G9)/G9) -> -0.0081213708 | G9: 81893318
A10: Broward | B10: ='Taxable Value All Property'!B10 -> R-NVAB | C10: ='Taxable Value All Property'!E10 -> 96288851 | D10: =((C10-E10)/E10) -> -0.071683438 | E10: 103724155 | F10: =((E10-G10)/G10) -> -0.047015419 | G10: 108841378
A11: Calhoun | B11: ='Taxable Value All Property'!B11 -> R-Final | C11: 0 | D11: n/a | F11: n/a
A12: Charlotte | B12: ='Taxable Value All Property'!B12 -> R-NVAB | C12: ='Taxable Value All Property'!E12 -> 2534754 | D12: =((C12-E12)/E12) -> -0.14885245 | E12: 2978043 | F12: =((E12-G12)/G12) -> -0.051675911 | G12: 3140322
A13: Citrus | B13: ='Taxable Value All Property'!B13 -> R-NVAB | C13: ='Taxable Value All Property'!E13 -> 1332723 | D13: =((C13-E13)/E13) -> 0.30050304 | E13: 1024775 | F13: =((E13-G13)/G13) -> -0.0027976451 | G13: 1027650
A14: Clay | B14: ='Taxable Value All Property'!B14 -> R-NVAB | C14: ='Taxable Value All Property'!E14 -> 14718209 | D14: =((C14-E14)/E14) -> 0.021214709 | E14: 14412453 | F14: =((E14-G14)/G14) -> -0.026794453 | G14: 14809259
A15: Collier | B15: ='Taxable Value All Property'!B15 -> R-NVAB | C15: ='Taxable Value All Property'!E15 -> 92644 | D15: =((C15-E15)/E15) -> -0.2097447 | E15: 117233 | F15: =((E15-G15)/G15) -> -0.018724366 | G15: 119470
A16: Columbia | B16: ='Taxable Value All Property'!B16 -> R-Final | C16: ='Taxable Value All Property'!E16 -> 13420001 | D16: =((C16-E16)/E16) -> 0.10117952 | E16: 12186933 | F16: =((E16-G16)/G16) -> -0.23660908 | G16: 15964210
A17: Miami-Dade | B17: ='Taxable Value All Property'!B17 -> R-NVAB | C17: ='Taxable Value All Property'!E17 -> 146354487 | D17: =((C17-E17)/E17) -> -0.011640959 | E17: 148078260 | F17: =((E17-G17)/G17) -> -0.24178435 | G17: 195298342
A18: DeSoto | B18: ='Taxable Value All Property'!B18 -> R-NVAB | C18: ='Taxable Value All Property'!E18 -> 3800577 | D18: =((C18-E18)/E18) -> -0.21524632 | E18: 4843019 | F18: =((E18-G18)/G18) -> 0.033640678 | G18: 4685399
A19: Dixie | B19: ='Taxable Value All Property'!B19 -> R-Final | C19: 0 | D19: n/a | F19: n/a
A20: Duval | B20: ='Taxable Value All Property'!B20 -> R-NVAB | C20: ='Taxable Value All Property'!E20 -> 220190017 | D20: =((C20-E20)/E20) -> 0.015298676 | E20: 216872160 | F20: =((E20-G20)/G20) -> 0.045894752 | G20: 207355625
A21: Escambia | B21: ='Taxable Value All Property'!B21 -> R-NVAB | C21: ='Taxable Value All Property'!E21 -> 27510500 | D21: =((C21-E21)/E21) -> 0.0080030913 | E21: 27292079 | F21: =((E21-G21)/G21) -> 0.0006216287 | G21: 27275124
A22: Flagler | B22: ='Taxable Value All Property'!B22 -> R-NVAB | C22: ='Taxable Value All Property'!E22 -> 24522168 | D22: =((C22-E22)/E22) -> 0.026493197 | E22: 23889265 | F22: =((E22-G22)/G22) -> -0.012445227 | G22: 24190319
A23: Franklin | B23: ='Taxable Value All Property'!B23 -> R-Final | C23: ='Taxable Value All Property'!E23 -> 457556 | D23: =((C23-E23)/E23) -> -0.025483418 | E23: 469521 | F23: =((E23-G23)/G23) -> -0.085554748 | G23: 513449
A24: Gadsden | B24: ='Taxable Value All Property'!B24 -> R-Final | C24: ='Taxable Value All Property'!E24 -> 6890855 | D24: =((C24-E24)/E24) -> 0.015843272 | E24: 6783384 | F24: =((E24-G24)/G24) -> -0.59003841 | G24: 16546389
A25: Gilchrist | B25: ='Taxable Value All Property'!B25 -> R-Final | C25: 0 | D25: n/a | F25: n/a
A26: Glades | B26: ='Taxable Value All Property'!B26 -> R-NVAB | C26: ='Taxable Value All Property'!E26 -> 18419392 | D26: =((C26-E26)/E26) -> 0.038048495 | E26: 17744250 | F26: =((E26-G26)/G26) -> -0.034527507 | G26: 18378825
A27: Gulf | B27: ='Taxable Value All Property'!B27 -> R-Final | C27: ='Taxable Value All Property'!E27 -> 419909 | D27: =((C27-E27)/E27) -> -0.21251214 | E27: 533226 | F27: =((E27-G27)/G27) -> -0.038851437 | G27: 554780
A28: Hamilton | B28: ='Taxable Value All Property'!B28 -> R-Final | C28: ='Taxable Value All Property'!E28 -> 24795139 | D28: =((C28-E28)/E28) -> 0.12412328 | E28: 22057313 | F28: =((E28-G28)/G28) -> 0.05083933 | G28: 20990186
A29: Hardee | B29: ='Taxable Value All Property'!B29 -> R-NVAB | C29: ='Taxable Value All Property'!E29 -> 7795991 | D29: =((C29-E29)/E29) -> 0.018129411 | E29: 7657171 | F29: =((E29-G29)/G29) -> 0.12112819 | G29: 6829880
A30: Hendry | B30: ='Taxable Value All Property'!B30 -> R-NVAB | C30: ='Taxable Value All Property'!E30 -> 5729337 | D30: =((C30-E30)/E30) -> 0.035777134 | E30: 5531438 | F30: =((E30-G30)/G30) -> -0.041357196 | G30: 5770072
A31: Hernando | B31: ='Taxable Value All Property'!B31 -> R-NVAB | C31: ='Taxable Value All Property'!E31 -> 9947504 | D31: =((C31-E31)/E31) -> 0.036784549 | E31: 9594572 | F31: =((E31-G31)/G31) -> 0.24705697 | G31: 7693772
A32: Highlands | B32: ='Taxable Value All Property'!B32 -> R-NVAB | C32: ='Taxable Value All Property'!E32 -> 36637794 | D32: =((C32-E32)/E32) -> 0.036625235 | E32: 35343336 | F32: =((E32-G32)/G32) -> 0.03264495 | G32: 34226029
A33: Hillsborough | B33: ='Taxable Value All Property'!B33 -> R-NVAB | C33: ='Taxable Value All Property'!E33 -> 128587576 | D33: =((C33-E33)/E33) -> 0.020198786 | E33: 126041687 | F33: =((E33-G33)/G33) -> 0.087233379 | G33: 115928824
A34: Holmes | B34: ='Taxable Value All Property'!B34 -> R-Final | C34: ='Taxable Value All Property'!E34 -> 2919679 | D34: =((C34-E34)/E34) -> -0.0042491179 | E34: 2932138 | F34: =((E34-G34)/G34) -> -0.61285217 | G34: 7573691
A35: Indian River | B35: ='Taxable Value All Property'!B35 -> R-NVAB | C35: ='Taxable Value All Property'!E35 -> 23614417 | D35: =((C35-E35)/E35) -> 0.14711252 | E35: 20585964 | F35: =((E35-G35)/G35) -> -0.011588338 | G35: 20827318
A36: Jackson | B36: ='Taxable Value All Property'!B36 -> R-Final | C36: ='Taxable Value All Property'!E36 -> 24007492 | D36: =((C36-E36)/E36) -> 0.0047146168 | E36: 23894837 | F36: =((E36-G36)/G36) -> -0.25577123 | G36: 32106844
A37: Jefferson | B37: ='Taxable Value All Property'!B37 -> R-Final | C37: ='Taxable Value All Property'!E37 -> 2308833 | D37: =((C37-E37)/E37) -> -0.27919878 | E37: 3203148 | F37: =((E37-G37)/G37) -> -0.47658278 | G37: 6119684
A38: Lafayette | B38: ='Taxable Value All Property'!B38 -> R-Final | C38: 0 | D38: n/a | F38: n/a
A39: Lake | B39: ='Taxable Value All Property'!B39 -> R-NVAB | C39: ='Taxable Value All Property'!E39 -> 19140505 | D39: =((C39-E39)/E39) -> 3.9147024 | E39: 3894540 | F39: =((E39-G39)/G39) -> 0.050374012 | G39: 3707765
A40: Lee | B40: ='Taxable Value All Property'!B40 -> R-NVAB | C40: ='Taxable Value All Property'!E40 -> 4634099 | D40: =((C40-E40)/E40) -> -0.1366914 | E40: 5367836 | F40: =((E40-G40)/G40) -> -0.046133506 | G40: 5627450
A41: Leon | B41: ='Taxable Value All Property'!B41 -> R-NVAB | C41: ='Taxable Value All Property'!E41 -> 4802939 | D41: =((C41-E41)/E41) -> 0.017362745 | E41: 4720970 | F41: =((E41-G41)/G41) -> -0.60749318 | G41: 12027740
A42: Levy | B42: ='Taxable Value All Property'!B42 -> R-Final | C42: ='Taxable Value All Property'!E42 -> 2938431 | D42: =((C42-E42)/E42) -> 0.17508474 | E42: 2500612 | F42: =((E42-G42)/G42) -> 0.0011173739 | G42: 2497821
A43: Liberty | B43: ='Taxable Value All Property'!B43 -> R-Final | C43: ='Taxable Value All Property'!E43 -> 556332 | D43: =((C43-E43)/E43) -> -0.10723622 | E43: 623157 | F43: =((E43-G43)/G43) -> -0.083602081 | G43: 680007
A44: Madison | B44: ='Taxable Value All Property'!B44 -> R-Final | C44: ='Taxable Value All Property'!E44 -> 6966853 | D44: =((C44-E44)/E44) -> 0.0091386406 | E44: 6903762 | F44: =((E44-G44)/G44) -> -0.51796932 | G44: 14322246
A45: Manatee | B45: ='Taxable Value All Property'!B45 -> R-NVAB | C45: ='Taxable Value All Property'!E45 -> 8747383 | D45: =((C45-E45)/E45) -> -0.088536084 | E45: 9597070 | F45: =((E45-G45)/G45) -> 0.16740377 | G45: 8220866
A46: Marion | B46: ='Taxable Value All Property'!B46 -> R-NVAB | C46: ='Taxable Value All Property'!E46 -> 26763058 | D46: =((C46-E46)/E46) -> 0.11256375 | E46: 24055303 | F46: =((E46-G46)/G46) -> 0.18270936 | G46: 20339150
A47: Martin | B47: ='Taxable Value All Property'!B47 -> R-NVAB | C47: ='Taxable Value All Property'!E47 -> 66632192 | D47: =((C47-E47)/E47) -> 0.02600488 | E47: 64943348 | F47: =((E47-G47)/G47) -> 0.0016655417 | G47: 64835362
A48: Monroe | B48: ='Taxable Value All Property'!B48 -> R-NVAB | C48: 0 | D48: n/a | F48: n/a
A49: Nassau | B49: ='Taxable Value All Property'!B49 -> R-NVAB | C49: ='Taxable Value All Property'!E49 -> 43013757 | D49: =((C49-E49)/E49) -> -0.039872031 | E49: 44800025 | F49: =((E49-G49)/G49) -> 0.21458563 | G49: 36885028
A50: Okaloosa | B50: ='Taxable Value All Property'!B50 -> R-NVAB | C50: ='Taxable Value All Property'!E50 -> 3445853 | D50: =((C50-E50)/E50) -> 0.0008702075 | E50: 3442857 | F50: =((E50-G50)/G50) -> -0.59612335 | G50: 8524526
A51: Okeechobee | B51: ='Taxable Value All Property'!B51 -> R-NVAB | C51: ='Taxable Value All Property'!E51 -> 10335216 | D51: =((C51-E51)/E51) -> 0.029292956 | E51: 10041083 | F51: =((E51-G51)/G51) -> 0.12307998 | G51: 8940666
A52: Orange | B52: ='Taxable Value All Property'!B52 -> R-NVAB | C52: ='Taxable Value All Property'!E52 -> 58083371 | D52: =((C52-E52)/E52) -> 0.9733362 | E52: 29434098 | F52: =((E52-G52)/G52) -> 0.074114532 | G52: 27403128
A53: Osceola | B53: ='Taxable Value All Property'!B53 -> R-NVAB | C53: ='Taxable Value All Property'!E53 -> 5629731 | D53: =((C53-E53)/E53) -> 0.03836777 | E53: 5421712 | F53: =((E53-G53)/G53) -> 0.12925231 | G53: 4801152
A54: Palm Beach | B54: ='Taxable Value All Property'!B54 -> R-NVAB | C54: ='Taxable Value All Property'!E54 -> 183961953 | D54: =((C54-E54)/E54) -> 0.0011119048 | E54: 183757632 | F54: =((E54-G54)/G54) -> -0.10518014 | G54: 205357124
A55: Pasco | B55: ='Taxable Value All Property'!B55 -> R-NVAB | C55: ='Taxable Value All Property'!E55 -> 19962159 | D55: =((C55-E55)/E55) -> -0.00068627806 | E55: 19975868 | F55: =((E55-G55)/G55) -> 0.20677213 | G55: 16553140
A56: Pinellas | B56: ='Taxable Value All Property'!B56 -> R-NVAB | C56: ='Taxable Value All Property'!E56 -> 11479898 | D56: =((C56-E56)/E56) -> 0.02622447 | E56: 11186537 | F56: =((E56-G56)/G56) -> 0.10840242 | G56: 10092487
A57: Polk | B57: ='Taxable Value All Property'!B57 -> R-NVAB | C57: ='Taxable Value All Property'!E57 -> 123007101 | D57: =((C57-E57)/E57) -> 0.094678658 | E57: 112368228 | F57: =((E57-G57)/G57) -> 0.11334097 | G57: 100928854
A58: Putnam | B58: ='Taxable Value All Property'!B58 -> R-NVAB | C58: ='Taxable Value All Property'!E58 -> 15960289 | D58: =((C58-E58)/E58) -> -0.1584932 | E58: 18966322 | F58: =((E58-G58)/G58) -> 0.11225817 | G58: 17052086
A59: Saint Johns | B59: ='Taxable Value All Property'!B59 -> R-NVAB | C59: ='Taxable Value All Property'!E59 -> 38230616 | D59: =((C59-E59)/E59) -> 0.02664665 | E59: 37238339 | F59: =((E59-G59)/G59) -> -0.012858751 | G59: 37723415
A60: Saint Lucie | B60: ='Taxable Value All Property'!B60 -> R-NVAB | C60: ='Taxable Value All Property'!E60 -> 53974525 | D60: =((C60-E60)/E60) -> 0.02770138 | E60: 52519658 | F60: =((E60-G60)/G60) -> -0.013702989 | G60: 53249333
... A66: Taylor | B66: ='Taxable Value All Property'!B66 -> R-Final | C66: ='Taxable Value All Property'!E66 -> 9811090 | D66: =((C66-E66)/E66) -> 0.062397609 | E66: 9234857 | F66: =((E66-G66)/G66) -> 0.075091189 | G66: 8589836
A67: Union | B67: ='Taxable Value All Property'!B67 -> R-Final | C67: 0 | D67: n/a | F67: n/a
A68: Volusia | B68: ='Taxable Value All Property'!B68 -> R-NVAB | C68: ='Taxable Value All Property'!E68 -> 68408715 | D68: =((C68-E68)/E68) -> 0.023500559 | E68: 66837985 | F68: =((E68-G68)/G68) -> 0.015732984 | G68: 65802712
A69: Wakulla | B69: ='Taxable Value All Property'!B69 -> R-Final | C69: 0 | D69: n/a | F69: n/a | G69: 0
A70: Walton | B70: ='Taxable Value All Property'!B70 -> R-Final | C70: ='Taxable Value All Property'!E70 -> 2683249 | D70: =((C70-E70)/E70) -> -0.0059787626 | E70: 2699388 | F70: =((E70-G70)/G70) -> -0.61106665 | G70: 6940490
A71: Washington | B71: ='Taxable Value All Property'!B71 -> R-Final | C71: ='Taxable Value All Property'!E71 -> 1445219 | D71: =((C71-E71)/E71) -> -0.02434712 | E71: 1481284 | F71: =((E71-G71)/G71) -> -0.63235527 | G71: 4029118
A73: Statewide | C73: =SUM(C5:C71) -> 1836844750 | D73: =((C73-E73)/E73) -> 0.037286211 | E73: =SUM(E5:E71) -> 1770817668 | F73: =((E73-G73)/G73) -> -0.044564409 | G73: =SUM(G5:G71) -> 1853413966
A75: Data Extract: November 2021
